From mboxrd@z Thu Jan 1 00:00:00 1970 Return-Path: Received: from mails.dpdk.org (mails.dpdk.org [217.70.189.124]) by inbox.dpdk.org (Postfix) with ESMTP id 8DD0F46667 for ; Wed, 30 Apr 2025 09:10:29 +0200 (CEST) Received: from mails.dpdk.org (localhost [127.0.0.1]) by mails.dpdk.org (Postfix) with ESMTP id 5A05B402A3; Wed, 30 Apr 2025 09:10:29 +0200 (CEST) Received: from mail-qv1-f97.google.com (mail-qv1-f97.google.com [209.85.219.97]) by mails.dpdk.org (Postfix) with ESMTP id 88A154026C for ; Wed, 30 Apr 2025 09:10:27 +0200 (CEST) Received: by mail-qv1-f97.google.com with SMTP id 6a1803df08f44-6f0c30a1cb6so47381266d6.2 for ; Wed, 30 Apr 2025 00:10:27 -0700 (PDT) DKIM-Signature: v=1; a=rsa-sha256; c=relaxed/relaxed; d=iol.unh.edu; s=unh-iol; t=1745997027; x=1746601827; darn=dpdk.org; h=cc:to:from:subject:message-id:date:from:to:cc:subject:date :message-id:reply-to; bh=5oVnGsbFaetijWaz+xfsjytv+fIdYYmdjPK2spN4dWA=; b=dL/vhUZ75WXw3iAxt7+V9oSPp0TrrOgqEBMKNy1EqVNpcEROr5YolwNcMMifgzRO+5 Fkr37vl07s1pWC+gtrxYRLJaiqhMFVeT98pnpBj6hRCFj53S4IkR8GiGfUYeBHa258HT 0SFLG4nytPveAMaKozE38BkxAHWnChtprUHaU= X-Google-DKIM-Signature: v=1; a=rsa-sha256; c=relaxed/relaxed; d=1e100.net; s=20230601; t=1745997027; x=1746601827; h=cc:to:from:subject:message-id:date:x-gm-message-state:from:to:cc :subject:date:message-id:reply-to; bh=5oVnGsbFaetijWaz+xfsjytv+fIdYYmdjPK2spN4dWA=; b=nZtJbV/1y5jz0HZs5GO1EkWyiXS45iB4H2uEEcdMqRRXB+mZR34pQ3QJLYRb8ic7Yd jb22usVK4WwdR3iJq8wKAf/O+FErudgLVKykjjfVeItFAlBe8DeRNoOxFI3HhZOwsQGk kt2lDkmTlNdLGYGSUBpzBKZJxNDveo6C8ByDILwo7jJ0L8xOHVbI3BxmhkB4M2ObFGf6 HBc57Y6jsfs5XKEiCyK2p2a4BOJBOfBoYG4LeqkiiuV/t/WhG9uMjtpPLS6Ym0+PRtRt P885IX9SsS9Gob0aA+yrOCd9+NF8y00m1Gt4BDTgs0bgc6BqW9blgE9GrEKfF/U/0qFG dP1Q== X-Gm-Message-State: AOJu0YwDCIv9wzLZs3ISlA77rV6QLXzBLNV9fxp1BMV1ufYJo7HRGF9f nATedj1UuPNwdmT0mZRqZNxWVgykmip7zUX0k3qRom3B9llH6VBkDSnrgvZ3bykKQDVyA4FCvYI KAD/5OdqN3+JdAo4keQ9Isc6XOW0QGQl92okO2Z3z X-Gm-Gg: ASbGncuWuQi2kxzPvuOmV9OwNmDu9GXAfEWiIY4zlmYE1kKl2PkY8c6a8mq7m70b4qQ S9/9jX7g0HkYhcDlnfAq+t/XZ8YC1rZ6Y4yEj448BD96atyvbxzQNy+ni447MM7isfUxloEKlrM O2u0xP9mn4yEyKF64KbajH1k++TVRmtLMq7FJlxaAdZYnavGlmyjX3CvcRBt03YqgOznQPl+0yM jDWjkqwCG4Tf41RWc2xBbDajRIkgKQaC+rTgrP4Au/ha39l6mqKkuD4Yc23paoQenASFnPdx3Fb ohxvXYRQk2t+EFYBL0pQ2VFkhjeJxAzl82yL X-Google-Smtp-Source: AGHT+IF3+Tl6aE7+1WabgkDdyjym0oL1aHSU8lWynsZ6RD+8bmCEKjEw79qDf0ztPAXgGzCUtHuU49NkMEdj X-Received: by 2002:ad4:5f48:0:b0:6f4:c21b:cd6a with SMTP id 6a1803df08f44-6f4fcead33cmr40200346d6.18.1745997026827; Wed, 30 Apr 2025 00:10:26 -0700 (PDT) Received: from postal.iol.unh.edu (postal.iol.unh.edu. [132.177.123.84]) by smtp-relay.gmail.com with ESMTPS id 6a1803df08f44-6f4fe6a84fesm499666d6.4.2025.04.30.00.10.26 (version=TLS1_2 cipher=ECDHE-ECDSA-AES128-GCM-SHA256 bits=128/128); Wed, 30 Apr 2025 00:10:26 -0700 (PDT) X-Relaying-Domain: iol.unh.edu Date: Wed, 30 Apr 2025 00:10:26 -0700 (PDT) Message-ID: <6811cce2.050a0220.1d0e90.278fSMTPIN_ADDED_MISSING@mx.google.com> Received: from [172.21.0.6] (unknown [172.18.0.240]) by postal.iol.unh.edu (Postfix) with ESMTP id 5CC526052471; Wed, 30 Apr 2025 03:10:26 -0400 (EDT) Subject: |SUCCESS| [GIT MASTER] ff05ee3e3f8fb4ce958a2ce6461e8141aea959c6 From: dpdklab@iol.unh.edu To: Test Report Cc: dpdk-test-reports@iol.unh.edu, Stephen Hemminger Content-Type: text/plain X-BeenThere: test-report@dpdk.org X-Mailman-Version: 2.1.29 Precedence: list List-Id: automatic DPDK test reports List-Unsubscribe: , List-Archive: List-Post: List-Help: List-Subscribe: , Errors-To: test-report-bounces@dpdk.org _Testing PASS_ Branch: dpdk-next-net ff05ee3e3f8fb4ce958a2ce6461e8141aea959c6 --> testing pass Upstream job id: Windows-Compile-DPDK-Native#28141 Test environment and result as below: +---------------------+--------------------+-------------------------+-------------------+----------------------+ | Environment | dpdk_meson_compile | dpdk_llvm_clang_compile | dpdk_msvc_compile | dpdk_mingw64_compile | +=====================+====================+=========================+===================+======================+ | Ubuntu 20.04 | PASS | SKIPPED | SKIPPED | SKIPPED | +---------------------+--------------------+-------------------------+-------------------+----------------------+ | FreeBSD 13.5 | PASS | SKIPPED | SKIPPED | SKIPPED | +---------------------+--------------------+-------------------------+-------------------+----------------------+ | FreeBSD 14.2 | PASS | SKIPPED | SKIPPED | SKIPPED | +---------------------+--------------------+-------------------------+-------------------+----------------------+ | Windows Server 2022 | SKIPPED | PASS | PASS | PASS | +---------------------+--------------------+-------------------------+-------------------+----------------------+ Ubuntu 20.04 Kernel: 4.19.325-0419325-generic Compiler: gcc (Ubuntu 9.4.0-1ubuntu1~20.04.2) 9.4.0 FreeBSD 13.5 Kernel: 13.5-RELEASE Compiler: clang 19.1.7 FreeBSD 14.2 Kernel: 14.2-RELEASE Compiler: clang 18.1.6 Windows Server 2022 Kernel: 10.0.20348.2031 Compiler: clang 15.0.7, gcc 14.1.0 (MinGW), and MSVC VS 19.39.33521 To view detailed results, visit: https://lab.dpdk.org/results/dashboard/tarballs/33397/ UNH-IOL DPDK Community Lab To manage your email subscriptions, visit: https://lab.dpdk.org/results/dashboard/preferences/subscriptions/