From mboxrd@z Thu Jan 1 00:00:00 1970 Return-Path: Received: from mails.dpdk.org (mails.dpdk.org [217.70.189.124]) by inbox.dpdk.org (Postfix) with ESMTP id 6C29446667 for ; Wed, 30 Apr 2025 09:10:34 +0200 (CEST) Received: from mails.dpdk.org (localhost [127.0.0.1]) by mails.dpdk.org (Postfix) with ESMTP id 69603402A3; Wed, 30 Apr 2025 09:10:34 +0200 (CEST) Received: from mail-yw1-f227.google.com (mail-yw1-f227.google.com [209.85.128.227]) by mails.dpdk.org (Postfix) with ESMTP id 80EF44026C for ; Wed, 30 Apr 2025 09:10:32 +0200 (CEST) Received: by mail-yw1-f227.google.com with SMTP id 00721157ae682-70576d2faa1so61827787b3.3 for ; Wed, 30 Apr 2025 00:10:32 -0700 (PDT) DKIM-Signature: v=1; a=rsa-sha256; c=relaxed/relaxed; d=iol.unh.edu; s=unh-iol; t=1745997032; x=1746601832; darn=dpdk.org; h=cc:to:from:subject:message-id:date:from:to:cc:subject:date :message-id:reply-to; bh=Z897hYM4ircoxmVH2yiRkUGGDYHiCF85OIaXwL3UNaQ=; b=HlPM6lyxxStRq6iDE5gbEnuLNehH8YYda8Dp1kbcKMPbcOyWCugC+MkKjDnC+JL3nd 3pco5TNUdsj3glfn2JKY6RmVBwaXRz9ZEz8qU6AyxQyXjzuTHcwyJwddEbug/UQmIQUr 5eaO3ufG/aeeqtJZpoYBNCOKiITyxY+7uY8/A= X-Google-DKIM-Signature: v=1; a=rsa-sha256; c=relaxed/relaxed; d=1e100.net; s=20230601; t=1745997032; x=1746601832; h=cc:to:from:subject:message-id:date:x-gm-message-state:from:to:cc :subject:date:message-id:reply-to; bh=Z897hYM4ircoxmVH2yiRkUGGDYHiCF85OIaXwL3UNaQ=; b=E7EBRqO7xRhDSdB0Mt9o0WgJYLIWJm6Yg8P68/uX3RIwxVjJH2EoNs9YWeEIepwjDi BSYYobi9YvxZqVbrfTLy/zhF/FT3sBEOBhu3QCKBVZePE5ki50XhIc51NKXb38tsewxm QdodBLe47x9Y6xwWxQfVEAukJKXttkzu/PGgYcGFwzNPSnP1EqAaidtaLA/Kwun3x/uz l8SycuQNHlVfE5wGEB2+qdLzRQTqyrL/6rSs78gpMtmNa84darQRyfzEgZnPtZiAY4i7 gmP5/H5yHBAU0DKDvURQzJzYzFR0RaSY1uNTfLxu1R+ufHazzds9ku9y3SSsTj2cZa6s BoPQ== X-Gm-Message-State: AOJu0YzB9+oPnVkuyZju4+EoG0483yxaIav/2H0efdL/7jsCUv3oP8Mf czdOrd2Tc25nLS6gKb7uny2AAx0ihPfWyAiUcDE+ICxcDdS9PGdrHNuStQnUw/+q3Qhb7ML2cAS ONAiT9tRhYsVqM9zL2vjIMvP3+C8ObN16ivfjUKAh4TgEROO8 X-Gm-Gg: ASbGncu2wub+7xpDI45lzL8OoEru+KJJ9XPzP2HpO76sNyTJcLQoEbMQHgSqJz+NQFl DGGb80dzHsIsqt+mNeocF82iniOmkXXG4zjSpZ0tyKauJ5gWMaJNN491GoKz5dyexWLILH9xie+ O/tuF9p9IDDRxQF4HGAuQ6bNl5Fm5rE2KptkhXfxXQvmxK8puO2BeMY4hj6c7jpTdV2mrDFt98j V5th8tt3hmyjRPv82FR5Ky+N5TgQ39oQwyXBZosRx0thf2vHfLlYTTQa1StMSG9KR9BlZKvKqQB f6JyeMPQPQCR5m3JgfHv1OXp19jZnKwINQ+mSTQHAD4xyB/1 X-Google-Smtp-Source: AGHT+IHpvN0MlHSD2gFYnfbJPNHeYaCKbCFd0Jmf9t/hiljxyzvqTGC71GoPiLJk4WPMv668UVuKn4RJ8TDs X-Received: by 2002:a05:690c:4912:b0:703:b8f4:5acc with SMTP id 00721157ae682-708abdaacfdmr35293857b3.19.1745997031863; Wed, 30 Apr 2025 00:10:31 -0700 (PDT) Received: from postal.iol.unh.edu (postal.iol.unh.edu. [2606:4100:3880:1234::84]) by smtp-relay.gmail.com with ESMTPS id 00721157ae682-708ae00cce9sm377617b3.17.2025.04.30.00.10.31 (version=TLS1_2 cipher=ECDHE-ECDSA-AES128-GCM-SHA256 bits=128/128); Wed, 30 Apr 2025 00:10:31 -0700 (PDT) X-Relaying-Domain: iol.unh.edu Date: Wed, 30 Apr 2025 00:10:31 -0700 (PDT) Message-ID: <6811cce7.050a0220.13c9be.235dSMTPIN_ADDED_MISSING@mx.google.com> Received: from [172.21.0.5] (unknown [172.18.0.240]) by postal.iol.unh.edu (Postfix) with ESMTP id 71AB76052471; Wed, 30 Apr 2025 03:10:31 -0400 (EDT) Subject: |SUCCESS| [GIT MASTER] 83a7a648344674c0269fcaeb71d8d16468421a0e From: dpdklab@iol.unh.edu To: Test Report Cc: dpdk-test-reports@iol.unh.edu, Xueming Li , Christian Ehrhardt , Kevin Traynor , Luca Boccassi Content-Type: text/plain X-BeenThere: test-report@dpdk.org X-Mailman-Version: 2.1.29 Precedence: list List-Id: automatic DPDK test reports List-Unsubscribe: , List-Archive: List-Post: List-Help: List-Subscribe: , Errors-To: test-report-bounces@dpdk.org _Testing PASS_ Branch: tags/v23.11 83a7a648344674c0269fcaeb71d8d16468421a0e --> testing pass Upstream job id: Generic-DPDK-Compile-ABI#124854 Test environment and result as below: +-------------------+----------+ | Environment | abi_test | +===================+==========+ | CentOS Stream 10 | PASS | +-------------------+----------+ | CentOS Stream 9 | PASS | +-------------------+----------+ | Debian 12 | PASS | +-------------------+----------+ | Fedora 40 (Clang) | PASS | +-------------------+----------+ | Fedora 41 (Clang) | PASS | +-------------------+----------+ | Fedora 40 | PASS | +-------------------+----------+ | openSUSE Leap 15 | PASS | +-------------------+----------+ | Fedora 41 | PASS | +-------------------+----------+ | RHEL8 | PASS | +-------------------+----------+ | Ubuntu 22.04 | PASS | +-------------------+----------+ | Ubuntu 24.04 | PASS | +-------------------+----------+ | RHEL9 | PASS | +-------------------+----------+ CentOS Stream 10 Kernel: Depends on container host Compiler: gcc 14.2.1 20241104 (Red Hat 14.2.1-6) CentOS Stream 9 Kernel: Depends on container host Compiler: gcc 11.5.0 20240719 (Red Hat 11.5.0-2) Debian 12 Kernel: Depends on container host Compiler: gcc (Debian 12.2.0-14) 12.2.0 Fedora 40 (Clang) Kernel: Depends on container host Compiler: clang 18.1.8 (Fedora 18.1.8-1.fc40) Fedora 41 (Clang) Kernel: Depends on container host Compiler: clang 19.1.5 (Fedora 19.1.5-1.fc41) Fedora 40 Kernel: Depends on container host Compiler: gcc 14.2.1 20240912 (Red Hat 14.2.1-3) openSUSE Leap 15 Kernel: Depends on container host Compiler: gcc (SUSE Linux) 7.5.0 Fedora 41 Kernel: Depends on container host Compiler: gcc 14.2.1 20240912 (Red Hat 14.2.1-3) RHEL8 Kernel: Depends on container host Compiler: gcc 8.5.0 20210514 (Red Hat 8.5.0-22) Ubuntu 22.04 Kernel: Depends on container host Compiler: gcc (Ubuntu 11.4.0-1ubuntu1~22.04) 11.4.0 Ubuntu 24.04 Kernel: Depends on container host Compiler: gcc (Ubuntu 13.3.0-6ubuntu2~24.04) 13.3.0 RHEL9 Kernel: Depends on container host Compiler: gcc 11.5.0 20240719 (Red Hat 11.5.0-2) To view detailed results, visit: https://lab.dpdk.org/results/dashboard/tarballs/33396/ UNH-IOL DPDK Community Lab To manage your email subscriptions, visit: https://lab.dpdk.org/results/dashboard/preferences/subscriptions/