From mboxrd@z Thu Jan 1 00:00:00 1970 Return-Path: Received: from mails.dpdk.org (mails.dpdk.org [217.70.189.124]) by inbox.dpdk.org (Postfix) with ESMTP id D87B146667 for ; Wed, 30 Apr 2025 09:13:39 +0200 (CEST) Received: from mails.dpdk.org (localhost [127.0.0.1]) by mails.dpdk.org (Postfix) with ESMTP id AD6A4402A3; Wed, 30 Apr 2025 09:13:39 +0200 (CEST) Received: from mail-io1-f97.google.com (mail-io1-f97.google.com [209.85.166.97]) by mails.dpdk.org (Postfix) with ESMTP id EF1204026C for ; Wed, 30 Apr 2025 09:13:37 +0200 (CEST) Received: by mail-io1-f97.google.com with SMTP id ca18e2360f4ac-86135ad7b4cso189065039f.1 for ; Wed, 30 Apr 2025 00:13:37 -0700 (PDT) DKIM-Signature: v=1; a=rsa-sha256; c=relaxed/relaxed; d=iol.unh.edu; s=unh-iol; t=1745997217; x=1746602017; darn=dpdk.org; h=cc:to:from:subject:message-id:date:from:to:cc:subject:date :message-id:reply-to; bh=b7TgeMYmgVClJFQiIDp58p+Ld/t56Y1k9UazeYKfot8=; b=Jo1PoLJ52xg1dHc6+7xRdyt9F7SZlGGZ84PBku7sjZvyohacWsQPe5uXrDqjTCbQOs 5z9QS5TxwCVVXcZmjSVG3T4GNSb+AQkyYezjj9/KzP+Al0IBnf8CHKMR23BhQTFOn5eG cl4eGkNfyZYoSOgVZG49voaJjSBtnuOtzbhLU= X-Google-DKIM-Signature: v=1; a=rsa-sha256; c=relaxed/relaxed; d=1e100.net; s=20230601; t=1745997217; x=1746602017; h=cc:to:from:subject:message-id:date:x-gm-message-state:from:to:cc :subject:date:message-id:reply-to; bh=b7TgeMYmgVClJFQiIDp58p+Ld/t56Y1k9UazeYKfot8=; b=mpO6Bi8mahJTidfHee66KVhd6TKNwedc4156bQFxXQw13LK/QIc55VgohYvJJ4/zvh wIkFrBL6Z0pq4pZ2FSqc1614PjBRCpbZPUobzjAyKYgWTEsSPjagTpVz220roaFBdSum e9Ivg0PRE4xFbPTICpYUzTHt6h3bv0XuTDkYiw3nRF88tG2Bt96LTq0V4Gu0XjxnpK+O 3wBqljI6CW88mcsKuG/jvfKD3mS/SNhKSd6OdKjZS6UFrLgvceDb2fTZWAB2aN/tnadA HPvZVQDdkTI0O6FqLTwyTlE5UhH9Il7vAenmynSCRqR9s0CtMx23rpcPMTJzvOFEFKj2 qlFg== X-Gm-Message-State: AOJu0YxSm5Zwzi6Ube4/nNyyLe98pFhvUHd5GBnKIJcEDQOTMmz6Kq16 pLwuMe3fxg8RDVKGW115Mho/JamFAthFU/JL6+5iBME6jEb2Ia3YlOzN4wMh2Pbkgxu132SpdAZ BLoXqhqoWAo5LKz6YB7/oi+d6N3foH2Ii X-Gm-Gg: ASbGncuWjSyl5mCDF6NuN9qLqagxgdCiKqz31oT8NMPTki3cYWXjzIKRgZDYT/OTaAn Pyhg26dx2SssjryDIkHO/zsK0L7dUUWJRmr+ipXdyzQW3zlBV0ReJH1UtA129drhIALaSsZq7GS NiT0Re7u9uln/LDvAutKZ+PU6XTHv+0UbKGEHvpDMCpQ8Z8GPhSTEdcPQBiyb+V0U2lmj1d57C9 WTsliglWlPyPdgGaYKjHQ7x1Y+C15miNCG6USFsa478pGlyVo1E76WDU/J+qsBlvMBJ8tVPocPy DGrpwW3nMtwtHjerGmERqFP4QRi0kbfVvb45 X-Google-Smtp-Source: AGHT+IEDCEzJ+s3PdpL+g1vCe1tjHao2bEENeWMRbqersa6/1tXUbJhVFFK4QsMGTbeL8dtqkteRuMa6aWJz X-Received: by 2002:a05:6602:401b:b0:85b:619e:4083 with SMTP id ca18e2360f4ac-86495ef01bfmr242070139f.10.1745997217074; Wed, 30 Apr 2025 00:13:37 -0700 (PDT) Received: from postal.iol.unh.edu (postal.iol.unh.edu. [132.177.123.84]) by smtp-relay.gmail.com with ESMTPS id ca18e2360f4ac-8648c19f34esm22832139f.24.2025.04.30.00.13.36 (version=TLS1_2 cipher=ECDHE-ECDSA-AES128-GCM-SHA256 bits=128/128); Wed, 30 Apr 2025 00:13:37 -0700 (PDT) X-Relaying-Domain: iol.unh.edu Date: Wed, 30 Apr 2025 00:13:37 -0700 (PDT) Message-ID: <6811cda1.050a0220.fc55a.7074SMTPIN_ADDED_MISSING@mx.google.com> Received: from [172.21.0.5] (unknown [172.18.0.240]) by postal.iol.unh.edu (Postfix) with ESMTP id 86CF56052471; Wed, 30 Apr 2025 03:13:36 -0400 (EDT) Subject: |SUCCESS| [GIT MASTER] 4c5634de9f933555bab9c64a533d3dca999071cd From: dpdklab@iol.unh.edu To: Test Report Cc: dpdk-test-reports@iol.unh.edu, Xueming Li , Christian Ehrhardt , Kevin Traynor , Luca Boccassi Content-Type: text/plain X-BeenThere: test-report@dpdk.org X-Mailman-Version: 2.1.29 Precedence: list List-Id: automatic DPDK test reports List-Unsubscribe: , List-Archive: List-Post: List-Help: List-Subscribe: , Errors-To: test-report-bounces@dpdk.org _Testing PASS_ Branch: tags/v24.11 4c5634de9f933555bab9c64a533d3dca999071cd --> testing pass Upstream job id: Generic-Unit-Test-DPDK#334396 Test environment and result as below: +-----------------------------+--------------+------------------------------+---------------------------+----------------+ | Environment | lpm_autotest | cryptodev_sw_snow3g_autotest | cryptodev_sw_zuc_autotest | dpdk_unit_test | +=============================+==============+==============================+===========================+================+ | Ubuntu 20.04 ARM SVE | PASS | SKIPPED | SKIPPED | SKIPPED | +-----------------------------+--------------+------------------------------+---------------------------+----------------+ | Debian 12 (arm) | SKIPPED | PASS | PASS | PASS | +-----------------------------+--------------+------------------------------+---------------------------+----------------+ | CentOS Stream 9 (ARM) | SKIPPED | SKIPPED | SKIPPED | PASS | +-----------------------------+--------------+------------------------------+---------------------------+----------------+ | Fedora 40 (ARM) | SKIPPED | SKIPPED | SKIPPED | PASS | +-----------------------------+--------------+------------------------------+---------------------------+----------------+ | CentOS Stream 10 (ARM) | SKIPPED | SKIPPED | SKIPPED | PASS | +-----------------------------+--------------+------------------------------+---------------------------+----------------+ | Fedora 41 (ARM) | SKIPPED | SKIPPED | SKIPPED | PASS | +-----------------------------+--------------+------------------------------+---------------------------+----------------+ | Fedora 40 (ARM Clang) | SKIPPED | SKIPPED | SKIPPED | PASS | +-----------------------------+--------------+------------------------------+---------------------------+----------------+ | Fedora 41 (ARM Clang) | SKIPPED | SKIPPED | SKIPPED | PASS | +-----------------------------+--------------+------------------------------+---------------------------+----------------+ | RHEL9 (ARM) | SKIPPED | SKIPPED | SKIPPED | PASS | +-----------------------------+--------------+------------------------------+---------------------------+----------------+ | Ubuntu 20.04 (ARM) | SKIPPED | SKIPPED | SKIPPED | PASS | +-----------------------------+--------------+------------------------------+---------------------------+----------------+ | Ubuntu 22.04 (ARM) | SKIPPED | SKIPPED | SKIPPED | PASS | +-----------------------------+--------------+------------------------------+---------------------------+----------------+ | Ubuntu 24.04 (ARM) | SKIPPED | SKIPPED | SKIPPED | PASS | +-----------------------------+--------------+------------------------------+---------------------------+----------------+ | 32-bit Ubuntu 22.04.4 (ARM) | SKIPPED | SKIPPED | SKIPPED | PASS | +-----------------------------+--------------+------------------------------+---------------------------+----------------+ Ubuntu 20.04 ARM SVE Kernel: Depends on container host Compiler: gcc (Ubuntu 10.5.0-1ubuntu1~20.04) 10.5.0 Debian 12 (arm) Kernel: Depends on container host Compiler: gcc (Debian 12.2.0-14) 12.2.0 CentOS Stream 9 (ARM) Kernel: Depends on container host Compiler: gcc 11.5.0 20240719 (Red Hat 11.5.0-2) Fedora 40 (ARM) Kernel: Depends on container host Compiler: gcc 14.2.1 20240912 (Red Hat 14.2.1-3) CentOS Stream 10 (ARM) Kernel: Depends on container host Compiler: gcc 14.2.1 20241104 (Red Hat 14.2.1-6) Fedora 41 (ARM) Kernel: Depends on container host Compiler: gcc 14.2.1 20240912 (Red Hat 14.2.1-3) Fedora 40 (ARM Clang) Kernel: Depends on container host Compiler: clang 18.1.8 (Fedora 18.1.8-1.fc40) Fedora 41 (ARM Clang) Kernel: Depends on container host Compiler: clang 19.1.5 (Fedora 19.1.5-1.fc41) RHEL9 (ARM) Kernel: Depends on container host Compiler: gcc 11.5.0 20240719 (Red Hat 11.5.0-2) Ubuntu 20.04 (ARM) Kernel: Depends on container host Compiler: gcc (Ubuntu 9.4.0-1ubuntu1~20.04.2) 9.4.0 Ubuntu 22.04 (ARM) Kernel: Depends on container host Compiler: gcc (Ubuntu 11.4.0-1ubuntu1~22.04) 11.4.0 Ubuntu 24.04 (ARM) Kernel: Depends on container host Compiler: gcc (Ubuntu 13.3.0-6ubuntu2~24.04) 13.3.0 32-bit Ubuntu 22.04.4 (ARM) Kernel: 5.15.83+ aarch64 Compiler: gcc (Ubuntu 11.4.0-1ubuntu1~22.04) 11.4.0 To view detailed results, visit: https://lab.dpdk.org/results/dashboard/tarballs/33395/ UNH-IOL DPDK Community Lab To manage your email subscriptions, visit: https://lab.dpdk.org/results/dashboard/preferences/subscriptions/