From mboxrd@z Thu Jan 1 00:00:00 1970 Return-Path: Received: from mails.dpdk.org (mails.dpdk.org [217.70.189.124]) by inbox.dpdk.org (Postfix) with ESMTP id 33A6F46667 for ; Wed, 30 Apr 2025 09:18:27 +0200 (CEST) Received: from mails.dpdk.org (localhost [127.0.0.1]) by mails.dpdk.org (Postfix) with ESMTP id 2E108402A3; Wed, 30 Apr 2025 09:18:27 +0200 (CEST) Received: from mail-pl1-f225.google.com (mail-pl1-f225.google.com [209.85.214.225]) by mails.dpdk.org (Postfix) with ESMTP id DCC484026C for ; Wed, 30 Apr 2025 09:18:25 +0200 (CEST) Received: by mail-pl1-f225.google.com with SMTP id d9443c01a7336-224341bbc1dso75202035ad.3 for ; Wed, 30 Apr 2025 00:18:25 -0700 (PDT) DKIM-Signature: v=1; a=rsa-sha256; c=relaxed/relaxed; d=iol.unh.edu; s=unh-iol; t=1745997505; x=1746602305; darn=dpdk.org; h=cc:to:from:subject:message-id:date:from:to:cc:subject:date :message-id:reply-to; bh=7WT1VMZ0p65CVFMhokt03FnZA1+U6twQhPYUMdYS0QE=; b=RhTOzHcjQsxelKtaVvgFe2iH2wgMDiICjtnOgUmosBkCQSMLb3+ZRkmKiLtlo6Dja+ 3z+uZLZtR47JejCLTXR4HcALOZpSWTfRl/6wI7BuxiVeM715H29tFI76d9Gk/Qvg1aJ/ VqQKZrRBM9WQiqkIIGszf6Q5gV7aCDrG6Yn7g= X-Google-DKIM-Signature: v=1; a=rsa-sha256; c=relaxed/relaxed; d=1e100.net; s=20230601; t=1745997505; x=1746602305; h=cc:to:from:subject:message-id:date:x-gm-message-state:from:to:cc :subject:date:message-id:reply-to; bh=7WT1VMZ0p65CVFMhokt03FnZA1+U6twQhPYUMdYS0QE=; b=w7w+0LowwZVdEigYo2t48K7HhzILJ+8zBsOPpnO5rGo3qOEZA9KSxt/Up1Q+DSVMem 8ind76Sap1u5rD+4cp/m968e9QSgQJmi54EVEz6CO3lYO9E38JVDE6e91s5uKWMHkbED 2+ideA88tHaDdZwX0b4LM5sKZg5K/NAaA3YC+RV/FjGCKs6Jt2aL3Ed9k4X0AyaqBJjG OCHAuxC+vkt726J2sGDR6e9UKzlUp01+IDOZr49ImdlEWThKq2VBoYKHOKG7jbiHJY0D wWozzg/XwxBkTiKFmzanNgB8KJWS5xIWbYxxRzcRn5VMlD3rwqM3u2DG01g1cUvSQozx B9dg== X-Gm-Message-State: AOJu0Yz6MgiQR6jhDeDwu/zj/zoiSFptQrkD99fOvmHEvlFOjI+NbaK/ BEv3JO05Q/d7LSSPyebv86IGfrLxNWfq+Cj/IBufHGDEJhEoXqgokGJ1nifbO+6GECqBZfppAjN Kh3B5v7SHPlJ+Hb7kA50x8Ru6Fz9nI9ax X-Gm-Gg: ASbGncu4ISeQP1lxeJGASNArMiozt2DYWb1opcgiGn2stNBXWZadPu/YzJgu75x4crw CGzY3VyjVDozTrb4XNxytB4vOkJAHnjNJ1/SFqirMvf1lj0WB/42o92I7FxrgThNIFI7wTPO/w5 qNtGLqBGiqv+8xgy4tNLPvgqAxQBH0nLMQGw0rq+JC3MZbgaGr9RSBJHzsbRKpCP+JlbGz/KrRG XoUNWySniGG9X+Jee2gxUQPjGOggR9+lvMJvRjXvyyUacpqQsIqBMjY/BYQQoQz5kKPRkUdCur8 M5q4QkgSWiwiH5dPdnSMs+AT/I9YhGTL8WRV X-Google-Smtp-Source: AGHT+IGwJia9MejDY7R50JWGaQf8s8lK+C7OMY4WafS42I2SEVSTmvY2TtOWrr1YKpBM8knVl3T1J7GHmgEy X-Received: by 2002:a17:903:1988:b0:223:49cb:5eaa with SMTP id d9443c01a7336-22df3587848mr36321135ad.35.1745997505102; Wed, 30 Apr 2025 00:18:25 -0700 (PDT) Received: from postal.iol.unh.edu (postal.iol.unh.edu. [132.177.123.84]) by smtp-relay.gmail.com with ESMTPS id d9443c01a7336-22db4d9ffaesm14431205ad.23.2025.04.30.00.18.24 (version=TLS1_2 cipher=ECDHE-ECDSA-AES128-GCM-SHA256 bits=128/128); Wed, 30 Apr 2025 00:18:25 -0700 (PDT) X-Relaying-Domain: iol.unh.edu Date: Wed, 30 Apr 2025 00:18:25 -0700 (PDT) Message-ID: <6811cec1.170a0220.f5cfd.01aeSMTPIN_ADDED_MISSING@mx.google.com> Received: from [172.21.0.5] (unknown [172.18.0.240]) by postal.iol.unh.edu (Postfix) with ESMTP id 358D16052471; Wed, 30 Apr 2025 03:18:24 -0400 (EDT) Subject: |SUCCESS| [GIT MASTER] 4401486b5e30d43a134f80f9802f60b5f43e74a8 From: dpdklab@iol.unh.edu To: Test Report Cc: dpdk-test-reports@iol.unh.edu, Xueming Li , Christian Ehrhardt , Kevin Traynor , Luca Boccassi Content-Type: text/plain X-BeenThere: test-report@dpdk.org X-Mailman-Version: 2.1.29 Precedence: list List-Id: automatic DPDK test reports List-Unsubscribe: , List-Archive: List-Post: List-Help: List-Subscribe: , Errors-To: test-report-bounces@dpdk.org _Testing PASS_ Branch: tags/v22.11 4401486b5e30d43a134f80f9802f60b5f43e74a8 --> testing pass Upstream job id: ACVP-FIPS-testing#9674 Test environment and result as below: +--------------------+----------------------+----------------------+ | Environment | compressdev_zlib_pmd | dpdk_fips_validation | +====================+======================+======================+ | Ubuntu 22.04 (ARM) | PASS | SKIPPED | +--------------------+----------------------+----------------------+ | Ubuntu 22.04 | PASS | SKIPPED | +--------------------+----------------------+----------------------+ | Ubuntu 20.04 | SKIPPED | PASS | +--------------------+----------------------+----------------------+ Ubuntu 22.04 (ARM) Kernel: 5.15.0-97-generic Compiler: gcc gcc (Ubuntu 11.4.0-1ubuntu1~22.04) 11.4.0 Ubuntu 22.04 Kernel: 5.15.0-100-generic Compiler: gcc gcc (Ubuntu 11.4.0-1ubuntu1~22.04) 11.4.0 Ubuntu 20.04 Kernel: Depends on container host Compiler: gcc (Ubuntu 9.4.0-1ubuntu1~20.04.2) 9.4.0 To view detailed results, visit: https://lab.dpdk.org/results/dashboard/tarballs/33394/ UNH-IOL DPDK Community Lab To manage your email subscriptions, visit: https://lab.dpdk.org/results/dashboard/preferences/subscriptions/