From mboxrd@z Thu Jan 1 00:00:00 1970 Return-Path: Received: from mails.dpdk.org (mails.dpdk.org [217.70.189.124]) by inbox.dpdk.org (Postfix) with ESMTP id 02C4B465FE for ; Wed, 30 Apr 2025 10:10:45 +0200 (CEST) Received: from mails.dpdk.org (localhost [127.0.0.1]) by mails.dpdk.org (Postfix) with ESMTP id CA9E0402A3; Wed, 30 Apr 2025 10:10:45 +0200 (CEST) Received: from mail-pj1-f97.google.com (mail-pj1-f97.google.com [209.85.216.97]) by mails.dpdk.org (Postfix) with ESMTP id 00E814026C for ; Wed, 30 Apr 2025 10:10:44 +0200 (CEST) Received: by mail-pj1-f97.google.com with SMTP id 98e67ed59e1d1-2ff6e91cff5so6404635a91.2 for ; Wed, 30 Apr 2025 01:10:44 -0700 (PDT) DKIM-Signature: v=1; a=rsa-sha256; c=relaxed/relaxed; d=iol.unh.edu; s=unh-iol; t=1746000644; x=1746605444; darn=dpdk.org; h=cc:to:from:subject:message-id:date:from:to:cc:subject:date :message-id:reply-to; bh=7ULgjNDQD/xBtcT0npAlPCtMc+8gbflJAwjEITeMy5w=; b=bgobFBEf3Jr9MF85gxCcHfA809JjLi9jAJS0cPVWnyVSgleEJ0oCefYyszuWD+F4ts 2iDgqUkjhKNUTHsLWcUMGab8UAXStPlreNjWh+iLE+TB2/9Ya/9B4U94IKaXEFh6oqf6 wNZX3+2kSVoMQvDl1ZR0mFS/dv36my9UDaULY= X-Google-DKIM-Signature: v=1; a=rsa-sha256; c=relaxed/relaxed; d=1e100.net; s=20230601; t=1746000644; x=1746605444; h=cc:to:from:subject:message-id:date:x-gm-message-state:from:to:cc :subject:date:message-id:reply-to; bh=7ULgjNDQD/xBtcT0npAlPCtMc+8gbflJAwjEITeMy5w=; b=dqcYt79z+h8pGyR0iLdQJhX9Rq2d8np0KIiZ+YetGAQiQmKP60KpihNjfRg4GW9MoG O5LNUu1P3AdXrrojTswrsWmL7mVE2bwmiBXWmNgPH3wWDA86rhzDMFBWN5NdALsediVK J7xKH5hTysfntO+yVoKuqNCtUrJCfaUlFqLNGBPjlMgXpHthGLRDMWUsgeodf8s93qhY j5GAB6X4nIQvkQ+P7BuHpIhqr7UQ55mR5d1rtiweiscOSrMkPXI6yvGvmAGJq0ViGX2o dV11GgWzNFHAoGNWibfh4O8qw8R4u+u28ttxcS1aQz2PDc2RHxZg7fnTazVKzK7m8fml UpZg== X-Gm-Message-State: AOJu0YyJqaBAahOGGwkLkqniVCcYxC+BitDSfU0dqnuQwaNVAA65l9Lr pXThbgn6aSbw68Yf5B/d76BT6dxV8O1e+HYAcbpGfjMKWZitfBH2ltIe2VM1/wgo3+ZXhbsJy5x lhFfQSVJuWBU6MsgjU4N5OStThR4uCKd0A9UQOk1xphw448SE X-Gm-Gg: ASbGnctr+l8hk+8cvgr5txbRYOAXVDx6Vdf6lOjgTmXiNf6GGO4RVq//dfay/GM//N6 gIIprW1eIMSkiG/2PrKr6zEcUM8kYHjSF1ZV/Yb4/SHkDzHbd24WKPH/pdEVQ07u7RsC+T9kr9f ec5xfJqW3Uk8b04qr5q/l5skyNlxWHbJ2es9YDq0R5Co/ipeOJdM5PuXOnwAMt1saBoCwAtTjDy hSA4DJJ9OgrgmaebXslatsME9BVzaLS/jq3athEWe7Th3EZPg5CG92qG+Y4IDr7xAGJBRsFpG/O qay3QS808J8hbMvTHp2N/VHZe0ppVG0OuSxVDy9OcGeXhTrg X-Google-Smtp-Source: AGHT+IEL6HnNt9qn7JYM3iyfoXpyt3bndJYU/Zd3CLAPGnuSfazUeNTC9TQDNuYRGsNxefAoNI0rsWm1Xn4E X-Received: by 2002:a17:90b:6d0:b0:2fe:d766:ad8e with SMTP id 98e67ed59e1d1-30a332d5bcfmr3166997a91.4.1746000643713; Wed, 30 Apr 2025 01:10:43 -0700 (PDT) Received: from postal.iol.unh.edu (postal.iol.unh.edu. [2606:4100:3880:1234::84]) by smtp-relay.gmail.com with ESMTPS id d9443c01a7336-22db4da03c2sm14767345ad.2.2025.04.30.01.10.43 (version=TLS1_2 cipher=ECDHE-ECDSA-AES128-GCM-SHA256 bits=128/128); Wed, 30 Apr 2025 01:10:43 -0700 (PDT) X-Relaying-Domain: iol.unh.edu Date: Wed, 30 Apr 2025 01:10:43 -0700 (PDT) Message-ID: <6811db03.170a0220.11ed1c.2934SMTPIN_ADDED_MISSING@mx.google.com> Received: from [172.21.0.5] (unknown [172.18.0.240]) by postal.iol.unh.edu (Postfix) with ESMTP id B7C256052471; Wed, 30 Apr 2025 04:10:42 -0400 (EDT) Subject: |SUCCESS| [GIT MASTER] 4401486b5e30d43a134f80f9802f60b5f43e74a8 From: dpdklab@iol.unh.edu To: Test Report Cc: dpdk-test-reports@iol.unh.edu, Xueming Li , Christian Ehrhardt , Kevin Traynor , Luca Boccassi Content-Type: text/plain X-BeenThere: test-report@dpdk.org X-Mailman-Version: 2.1.29 Precedence: list List-Id: automatic DPDK test reports List-Unsubscribe: , List-Archive: List-Post: List-Help: List-Subscribe: , Errors-To: test-report-bounces@dpdk.org _Testing PASS_ Branch: tags/v22.11 4401486b5e30d43a134f80f9802f60b5f43e74a8 --> testing pass Upstream job id: Generic-DPDK-Compile-Meson#383955 Test environment and result as below: +------------------------------------+--------------------+ | Environment | dpdk_meson_compile | +====================================+====================+ | Fedora 41 (ARM) | PASS | +------------------------------------+--------------------+ | Fedora 40 (ARM Clang) | PASS | +------------------------------------+--------------------+ | Fedora 40 (ARM) | PASS | +------------------------------------+--------------------+ | Debian 12 with MUSDK | PASS | +------------------------------------+--------------------+ | Ubuntu 20.04 ARM SVE | PASS | +------------------------------------+--------------------+ | Ubuntu 20.04 ARM GCC Cross Compile | PASS | +------------------------------------+--------------------+ | Ubuntu 24.04 (ARM) | PASS | +------------------------------------+--------------------+ | Debian 12 (arm) | PASS | +------------------------------------+--------------------+ | CentOS Stream 9 (ARM) | PASS | +------------------------------------+--------------------+ | Ubuntu 22.04 (ARM) | PASS | +------------------------------------+--------------------+ | Fedora 41 (ARM Clang) | PASS | +------------------------------------+--------------------+ | CentOS Stream 10 (ARM) | PASS | +------------------------------------+--------------------+ | Ubuntu 20.04 (ARM) | PASS | +------------------------------------+--------------------+ | RHEL9 (ARM) | PASS | +------------------------------------+--------------------+ Fedora 41 (ARM) Kernel: Depends on container host Compiler: gcc 14.2.1 20240912 (Red Hat 14.2.1-3) Fedora 40 (ARM Clang) Kernel: Depends on container host Compiler: clang 18.1.8 (Fedora 18.1.8-1.fc40) Fedora 40 (ARM) Kernel: Depends on container host Compiler: gcc 14.2.1 20240912 (Red Hat 14.2.1-3) Debian 12 with MUSDK Kernel: Depends on container host Compiler: gcc (Debian 12.2.0-14) 12.2.0 Ubuntu 20.04 ARM SVE Kernel: Depends on container host Compiler: gcc (Ubuntu 10.5.0-1ubuntu1~20.04) 10.5.0 Ubuntu 20.04 ARM GCC Cross Compile Kernel: Depends on container host Compiler: aarch64-linux-gnu-gcc (Ubuntu 9.4.0-1ubuntu1~20.04.2) 9.4.0 Ubuntu 24.04 (ARM) Kernel: Depends on container host Compiler: gcc (Ubuntu 13.3.0-6ubuntu2~24.04) 13.3.0 Debian 12 (arm) Kernel: Depends on container host Compiler: gcc (Debian 12.2.0-14) 12.2.0 CentOS Stream 9 (ARM) Kernel: Depends on container host Compiler: gcc 11.5.0 20240719 (Red Hat 11.5.0-2) Ubuntu 22.04 (ARM) Kernel: Depends on container host Compiler: gcc (Ubuntu 11.4.0-1ubuntu1~22.04) 11.4.0 Fedora 41 (ARM Clang) Kernel: Depends on container host Compiler: clang 19.1.5 (Fedora 19.1.5-1.fc41) CentOS Stream 10 (ARM) Kernel: Depends on container host Compiler: gcc 14.2.1 20241104 (Red Hat 14.2.1-6) Ubuntu 20.04 (ARM) Kernel: Depends on container host Compiler: gcc (Ubuntu 9.4.0-1ubuntu1~20.04.2) 9.4.0 RHEL9 (ARM) Kernel: Depends on container host Compiler: gcc 11.5.0 20240719 (Red Hat 11.5.0-2) To view detailed results, visit: https://lab.dpdk.org/results/dashboard/tarballs/33394/ UNH-IOL DPDK Community Lab To manage your email subscriptions, visit: https://lab.dpdk.org/results/dashboard/preferences/subscriptions/