From mboxrd@z Thu Jan 1 00:00:00 1970 Return-Path: Received: from mails.dpdk.org (mails.dpdk.org [217.70.189.124]) by inbox.dpdk.org (Postfix) with ESMTP id EDFEC465FE for ; Wed, 30 Apr 2025 10:35:31 +0200 (CEST) Received: from mails.dpdk.org (localhost [127.0.0.1]) by mails.dpdk.org (Postfix) with ESMTP id E3A52402A3; Wed, 30 Apr 2025 10:35:30 +0200 (CEST) Received: from mail-qv1-f99.google.com (mail-qv1-f99.google.com [209.85.219.99]) by mails.dpdk.org (Postfix) with ESMTP id 2FC6D4026C for ; Wed, 30 Apr 2025 10:35:30 +0200 (CEST) Received: by mail-qv1-f99.google.com with SMTP id 6a1803df08f44-6ecfc7fb2aaso70930466d6.0 for ; Wed, 30 Apr 2025 01:35:30 -0700 (PDT) DKIM-Signature: v=1; a=rsa-sha256; c=relaxed/relaxed; d=iol.unh.edu; s=unh-iol; t=1746002129; x=1746606929; darn=dpdk.org; h=cc:to:from:subject:message-id:date:from:to:cc:subject:date :message-id:reply-to; bh=fbbxwKg70VxGEwM+j1/Baor3As1loH9izD2/43TBZIs=; b=MIrH3XGXj4FLXPpxUau9GTXsyWDvCI28pB7NaCYQp6EziPFCnJ1rAoygzm939BPnJW OxXjlQk5mFfuwe46FjNPNupI4Zh0u+Pzu+Xq4qSjmVkfc7FJXYIlYwJTjw1TlXVxluKt 1r0NbGOQH1jivUtaO01V8ewvQaV4D+DeKBItI= X-Google-DKIM-Signature: v=1; a=rsa-sha256; c=relaxed/relaxed; d=1e100.net; s=20230601; t=1746002129; x=1746606929; h=cc:to:from:subject:message-id:date:x-gm-message-state:from:to:cc :subject:date:message-id:reply-to; bh=fbbxwKg70VxGEwM+j1/Baor3As1loH9izD2/43TBZIs=; b=xA7Mt+UDoRZwVZGjXuqMCUHA2xIjTCw9a0otBnu/iuauhd411nk74BjjAL86c65W+D ngJe5YGYt19N54Yxj3zhp11tVzyqYCVa5NfPDlLTVrdegYWetctooiTGh4RKz5y/7Idw UNBy8vo1JWU4ZnwkU3p/gX7O6JdAn0offtv9XIx4ZkK++ATmGWKyMxPw+ih0Ae6EJ1jf Pg4zK++MNcKGTWtYxUhqx8YIM2xO9Hy0C97/Ht6RHlyfcwlKNgJ3G8qnIL6MeBugWY/u 0Mio6PD1usMTV6f4n2kT2cTud2oZrGbZCYn4KInIITfKF9smec43p0Jwnt5S6dlS17wJ 0hkQ== X-Gm-Message-State: AOJu0YyR/lcfrL44UaWjLn/R4AyANRwjfh/n8TxKSrdnVtha7HpSD4zf 6L/E2qxmQEy7nZj66lZ/1F7jFGHcWavLxVVjg4PTCxdhlPk3XVeheHG2N+sWWKWq51o4vOBl+O+ XRMToMF1nzKrbH844hZbC7ssc5wnny7EQ X-Gm-Gg: ASbGncvs+mYSPPwlrABHpPxesagAyi3ccF7rZ78rtpQHq90tzUEk1aUtcEq8GnEvfT4 Gy/FAvEGTGMkjbKcPVfUn5Yi38pJrsf0B+AqUanvw2yjZTpnVXtR6mkoCvnKXDnSNOvIHF3w3If tt5draYyBV3s7EgccBKXJ7rBhdmsoDOwIpVSB8dtVynRCMCR/gYDAGf6iZHdGQB55iqKMOFygXY 7G58jLs1cNww9fDZVs9U+O0PzF4dOqHtnOeQaemJrOQotZYW1x9LBdFEiOoxU/Wz1IVFSuOPeZf eAA8VuNbwVsjra8FTgsPi4nZtcuD5GLeVAIz X-Google-Smtp-Source: AGHT+IHD52vxDTAcHi8+URzxho4I+KBjlHJFeXf5N5xRd6dOOGbqRl9kgw2ZNbx7ljEyNuIf2zZrf64uvv/S X-Received: by 2002:a05:6214:e4c:b0:6eb:2f7a:45b0 with SMTP id 6a1803df08f44-6f4fcfb337emr44390596d6.38.1746002129536; Wed, 30 Apr 2025 01:35:29 -0700 (PDT) Received: from postal.iol.unh.edu (postal.iol.unh.edu. [132.177.123.84]) by smtp-relay.gmail.com with ESMTPS id 6a1803df08f44-6f4fe5c53desm560786d6.0.2025.04.30.01.35.29 (version=TLS1_2 cipher=ECDHE-ECDSA-AES128-GCM-SHA256 bits=128/128); Wed, 30 Apr 2025 01:35:29 -0700 (PDT) X-Relaying-Domain: iol.unh.edu Date: Wed, 30 Apr 2025 01:35:29 -0700 (PDT) Message-ID: <6811e0d1.050a0220.c4358.2c15SMTPIN_ADDED_MISSING@mx.google.com> Received: from [172.21.0.7] (unknown [172.18.0.240]) by postal.iol.unh.edu (Postfix) with ESMTP id 2DF296052471; Wed, 30 Apr 2025 04:35:29 -0400 (EDT) Subject: |SUCCESS| [GIT MASTER] 4c5634de9f933555bab9c64a533d3dca999071cd From: dpdklab@iol.unh.edu To: Test Report Cc: dpdk-test-reports@iol.unh.edu, Xueming Li , Christian Ehrhardt , Kevin Traynor , Luca Boccassi Content-Type: text/plain X-BeenThere: test-report@dpdk.org X-Mailman-Version: 2.1.29 Precedence: list List-Id: automatic DPDK test reports List-Unsubscribe: , List-Archive: List-Post: List-Help: List-Subscribe: , Errors-To: test-report-bounces@dpdk.org _Testing PASS_ Branch: tags/v24.11 4c5634de9f933555bab9c64a533d3dca999071cd --> testing pass Upstream job id: Generic-Unit-Test-DPDK#334414 Test environment and result as below: +---------------------+----------------+ | Environment | dpdk_unit_test | +=====================+================+ | CentOS Stream 9 | PASS | +---------------------+----------------+ | Fedora 40 | PASS | +---------------------+----------------+ | CentOS Stream 10 | PASS | +---------------------+----------------+ | Fedora 40 (Clang) | PASS | +---------------------+----------------+ | Fedora 41 | PASS | +---------------------+----------------+ | Debian 12 | PASS | +---------------------+----------------+ | Fedora 41 (Clang) | PASS | +---------------------+----------------+ | RHEL8 | PASS | +---------------------+----------------+ | Ubuntu 22.04 | PASS | +---------------------+----------------+ | RHEL9 | PASS | +---------------------+----------------+ | Ubuntu 24.04 | PASS | +---------------------+----------------+ | Ubuntu 20.04 | PASS | +---------------------+----------------+ | Windows Server 2022 | PASS | +---------------------+----------------+ CentOS Stream 9 Kernel: Depends on container host Compiler: gcc 11.5.0 20240719 (Red Hat 11.5.0-2) Fedora 40 Kernel: Depends on container host Compiler: gcc 14.2.1 20240912 (Red Hat 14.2.1-3) CentOS Stream 10 Kernel: Depends on container host Compiler: gcc 14.2.1 20241104 (Red Hat 14.2.1-6) Fedora 40 (Clang) Kernel: Depends on container host Compiler: clang 18.1.8 (Fedora 18.1.8-1.fc40) Fedora 41 Kernel: Depends on container host Compiler: gcc 14.2.1 20240912 (Red Hat 14.2.1-3) Debian 12 Kernel: Depends on container host Compiler: gcc (Debian 12.2.0-14) 12.2.0 Fedora 41 (Clang) Kernel: Depends on container host Compiler: clang 19.1.5 (Fedora 19.1.5-1.fc41) RHEL8 Kernel: Depends on container host Compiler: gcc 8.5.0 20210514 (Red Hat 8.5.0-22) Ubuntu 22.04 Kernel: Depends on container host Compiler: gcc (Ubuntu 11.4.0-1ubuntu1~22.04) 11.4.0 RHEL9 Kernel: Depends on container host Compiler: gcc 11.5.0 20240719 (Red Hat 11.5.0-2) Ubuntu 24.04 Kernel: Depends on container host Compiler: gcc (Ubuntu 13.3.0-6ubuntu2~24.04) 13.3.0 Ubuntu 20.04 Kernel: Depends on container host Compiler: gcc (Ubuntu 9.4.0-1ubuntu1~20.04.2) 9.4.0 Windows Server 2022 Kernel: 10.0.20348.2031 Compiler: clang 15.0.7, gcc 14.1.0 (MinGW), and MSVC VS 19.39.33521 To view detailed results, visit: https://lab.dpdk.org/results/dashboard/tarballs/33395/ UNH-IOL DPDK Community Lab To manage your email subscriptions, visit: https://lab.dpdk.org/results/dashboard/preferences/subscriptions/