From mboxrd@z Thu Jan 1 00:00:00 1970 Return-Path: Received: from mails.dpdk.org (mails.dpdk.org [217.70.189.124]) by inbox.dpdk.org (Postfix) with ESMTP id 68997465FE for ; Wed, 30 Apr 2025 11:28:16 +0200 (CEST) Received: from mails.dpdk.org (localhost [127.0.0.1]) by mails.dpdk.org (Postfix) with ESMTP id 761A6402A7; Wed, 30 Apr 2025 11:28:15 +0200 (CEST) Received: from mail-pf1-f228.google.com (mail-pf1-f228.google.com [209.85.210.228]) by mails.dpdk.org (Postfix) with ESMTP id A999A402A3 for ; Wed, 30 Apr 2025 11:28:13 +0200 (CEST) Received: by mail-pf1-f228.google.com with SMTP id d2e1a72fcca58-7398d65476eso634423b3a.1 for ; Wed, 30 Apr 2025 02:28:13 -0700 (PDT) DKIM-Signature: v=1; a=rsa-sha256; c=relaxed/relaxed; d=iol.unh.edu; s=unh-iol; t=1746005292; x=1746610092; darn=dpdk.org; h=cc:to:from:subject:message-id:date:from:to:cc:subject:date :message-id:reply-to; bh=vsN5ou7VtNs9UlyoUST6yNIbU8v5VrNkE1xBSFfhMxk=; b=aVCTz7clby7imFyLlVNxHZbp0LPvmPPN1xR6pqRjq8gUtQ1mZiumaNv28+eeZaLTlf Gf0XTGzNsUnhxq9nbndYVAMg2Zys71OWQSONE2v4gGhFs71R4RTuDN/5VPtEr/3gBZX9 /y5/+/llSwV7k/v4hDTge/DQyDhLhBj6Oah2U= X-Google-DKIM-Signature: v=1; a=rsa-sha256; c=relaxed/relaxed; d=1e100.net; s=20230601; t=1746005292; x=1746610092; h=cc:to:from:subject:message-id:date:x-gm-message-state:from:to:cc :subject:date:message-id:reply-to; bh=vsN5ou7VtNs9UlyoUST6yNIbU8v5VrNkE1xBSFfhMxk=; b=OGi1xIV8QoTdy3q/VaizS3ub5WWt0S7ViOKew0YXlxY1DluqN/mxWGIQecM9NZE8Eb K9bixBrDpsr4vQXwlmsQGE0OWqveYyUXNiqqhkbd5EPWderc9SONxx53i0vyBh7Z1oBA FHsnT4u2DZycPnyAJdzFSsYXWGpU6/HgGRMDPB/XOqUGIJywlOfto0zC5rIZWdQhQ4qY e9vvIOKmiWAvFiusXNqKwbWFlDU7opclhr4kOI+WuNRdME/6hjm2YfnO+K0bi9kesVCo iLqvpH1Ahir3q0NATm5GI0Uy13hJ+7le8vfzhn0zdilcJ9pif6LDCMkKSXlWbntqOJgH q8Iw== X-Gm-Message-State: AOJu0Yw9GE678gt1tGAk6aybXDHwWhXZRnks+zcHPzBhgYuSVknvCO+e 1JXakedOKv09l5jt0EeUU6x+PTmLkJk5eOcdnQI1KzPX8P4zInZ5bGe9jjJE47lN1ARunsAyoOQ QzcH6RRZsCXPO8HuuMcSHn0IUy3FI9emTumhKsEyKi9nUMNkC X-Gm-Gg: ASbGncvwCZYCvZSJMEqSVSV9t9zf3j8s4Pvrt7EMHeTSbSHQ3EtleVtGr4IFfvTa4V5 6/fpmCDgMh5P7bGEnw6VGd9yPmPxLdURjz/D8aErcnDqnyaivNhxZQnm6Lak0/QlNDj5dxCLvAB JZfiYpkCi7T4qIbZfWYjJazCXBrl/YI4+EgVLc5k+1FMpfFuJMaM0h1ekLUoAl113XONJXv3fVL QljgJh59S6tPk5TPCp5JeMBzTczYgRkUUs+n0H/MZ7vWp7duW0ARaj63YH5mcu6og6zJ5In+7UZ TsWeCihJkzV233vqHBanuc8Te9mDWIife2E+ylofLHHDWdSX X-Google-Smtp-Source: AGHT+IEsB6GdVPxyCd38ldOWeLebrtoyousiIam9t01kl8X/sV5K+qmXiPqYb48eMHnDRhvblDq5c885+9DM X-Received: by 2002:a05:6a00:4488:b0:732:706c:c4ff with SMTP id d2e1a72fcca58-74039b9971cmr3376096b3a.7.1746005292520; Wed, 30 Apr 2025 02:28:12 -0700 (PDT) Received: from postal.iol.unh.edu (postal.iol.unh.edu. [2606:4100:3880:1234::84]) by smtp-relay.gmail.com with ESMTPS id d2e1a72fcca58-74039a227afsm78592b3a.17.2025.04.30.02.28.12 (version=TLS1_2 cipher=ECDHE-ECDSA-AES128-GCM-SHA256 bits=128/128); Wed, 30 Apr 2025 02:28:12 -0700 (PDT) X-Relaying-Domain: iol.unh.edu Date: Wed, 30 Apr 2025 02:28:12 -0700 (PDT) Message-ID: <6811ed2c.050a0220.8fafb.4369SMTPIN_ADDED_MISSING@mx.google.com> Received: from [172.21.0.5] (unknown [172.18.0.240]) by postal.iol.unh.edu (Postfix) with ESMTP id 9BA636052471; Wed, 30 Apr 2025 05:28:11 -0400 (EDT) Subject: |SUCCESS| [GIT MASTER] 4c5634de9f933555bab9c64a533d3dca999071cd From: dpdklab@iol.unh.edu To: Test Report Cc: dpdk-test-reports@iol.unh.edu, Xueming Li , Christian Ehrhardt , Kevin Traynor , Luca Boccassi Content-Type: text/plain X-BeenThere: test-report@dpdk.org X-Mailman-Version: 2.1.29 Precedence: list List-Id: automatic DPDK test reports List-Unsubscribe: , List-Archive: List-Post: List-Help: List-Subscribe: , Errors-To: test-report-bounces@dpdk.org _Testing PASS_ Branch: tags/v24.11 4c5634de9f933555bab9c64a533d3dca999071cd --> testing pass Upstream job id: ACVP-FIPS-testing#9675 Test environment and result as below: +--------------------+----------------------+----------------------+ | Environment | compressdev_zlib_pmd | dpdk_fips_validation | +====================+======================+======================+ | Ubuntu 22.04 (ARM) | PASS | SKIPPED | +--------------------+----------------------+----------------------+ | Ubuntu 22.04 | PASS | SKIPPED | +--------------------+----------------------+----------------------+ | Ubuntu 20.04 | SKIPPED | PASS | +--------------------+----------------------+----------------------+ Ubuntu 22.04 (ARM) Kernel: 5.15.0-97-generic Compiler: gcc gcc (Ubuntu 11.4.0-1ubuntu1~22.04) 11.4.0 Ubuntu 22.04 Kernel: 5.15.0-100-generic Compiler: gcc gcc (Ubuntu 11.4.0-1ubuntu1~22.04) 11.4.0 Ubuntu 20.04 Kernel: Depends on container host Compiler: gcc (Ubuntu 9.4.0-1ubuntu1~20.04.2) 9.4.0 To view detailed results, visit: https://lab.dpdk.org/results/dashboard/tarballs/33395/ UNH-IOL DPDK Community Lab To manage your email subscriptions, visit: https://lab.dpdk.org/results/dashboard/preferences/subscriptions/