From mboxrd@z Thu Jan  1 00:00:00 1970
Return-Path: <test-report-bounces@dpdk.org>
Received: from mails.dpdk.org (mails.dpdk.org [217.70.189.124])
	by inbox.dpdk.org (Postfix) with ESMTP id 8CAC7465FE
	for <public@inbox.dpdk.org>; Wed, 30 Apr 2025 11:28:27 +0200 (CEST)
Received: from mails.dpdk.org (localhost [127.0.0.1])
	by mails.dpdk.org (Postfix) with ESMTP id 89688402A7;
	Wed, 30 Apr 2025 11:28:27 +0200 (CEST)
Received: from mail-qv1-f100.google.com (mail-qv1-f100.google.com
 [209.85.219.100])
 by mails.dpdk.org (Postfix) with ESMTP id 740F4402A3
 for <test-report@dpdk.org>; Wed, 30 Apr 2025 11:28:26 +0200 (CEST)
Received: by mail-qv1-f100.google.com with SMTP id
 6a1803df08f44-6f2b05f87bcso74217926d6.3
 for <test-report@dpdk.org>; Wed, 30 Apr 2025 02:28:26 -0700 (PDT)
DKIM-Signature: v=1; a=rsa-sha256; c=relaxed/relaxed;
 d=iol.unh.edu; s=unh-iol; t=1746005306; x=1746610106; darn=dpdk.org;
 h=cc:to:from:subject:message-id:date:from:to:cc:subject:date
 :message-id:reply-to;
 bh=c45MXUMhUAERlrIhycsF2xjXIJABU828ZuCma1q7Cpw=;
 b=DNQtKi/XziFFz07HZam5g4xvhFG4R1MeWzXinTuKsHvwVzy/GzVqlxj1zVf/OQ6BD3
 +iEVFSctyBhLJ/N4LTbwtSgEH1guy+c0WGhQCjuFEneGQ1gdNDNYgcR8jnYw2Jts8Baj
 jr+TsOIyHYe1LgRfGCH+tK9CroOBMROYUURu0=
X-Google-DKIM-Signature: v=1; a=rsa-sha256; c=relaxed/relaxed;
 d=1e100.net; s=20230601; t=1746005306; x=1746610106;
 h=cc:to:from:subject:message-id:date:x-gm-message-state:from:to:cc
 :subject:date:message-id:reply-to;
 bh=c45MXUMhUAERlrIhycsF2xjXIJABU828ZuCma1q7Cpw=;
 b=ubINreD6TPoQMK3iArhRgS9NQFlaRcnIsh4+xQACSJxgN6YLvQ0i0HoD/emMmGQdwz
 IepPbE94+QUVmwStP26RsQRlQuo1PikSWbOPLs1YChGEpapbWRSj16WvUzYI/8GEiq1A
 DSK3t3BuevMm2Q7xVa3aM1vDnidsW0CYIM19r8oB8av/nxdnzUyE4SkDaDD00h4/3bRs
 UXwxX5XuuwLZMozlUhA28kR6EL46SjCXdzv8FHqzS72+xO2MnkpE5bq8mXPcq8agla9a
 0w0WyjfC0Hw7Otmj8B+hGRTritPzPPy7avtXcZY8BcHKQGiPfHCg7yDHwdjf+sIcgJrO
 a5uQ==
X-Gm-Message-State: AOJu0YyQIO86VbQYyOUzE4+H/15aWx+RNI47fPFBMuKkYkbWF308qtOx
 rUgMekATg8l2lLZUfh+d+dcAdvaXObzbTbFazsHJa2rvafp8hdczucgRZ8T4wzTVwdqw6FmWyhm
 Ark/mHgotG4mNspw3/MtnX21E9zJtP+6Kwz5DjTAK5v+S0iq2
X-Gm-Gg: ASbGnct7gCp5niff0dFvDTbUhIxi2mwlh5D5gTu0IwRDYN/tmXhmGuthIyvEN8H9P/N
 /Hln9OHEZ8t08OB2LNTan8SQ5hsQ+2G8L0yl9SN48Ad/yNHD7zTVODSATO6KqslAsXJR4Keu66t
 asgUzJ9gfGt0zJVTNWo1vXciws/hm8l60j06MMsd39MuDr5T3oOOKKROzNDpFFS7ImNiYYVGz5A
 JzIKhZjH3WVwN+AeMzYaYlsT+dzlLh3xUyBsgPEW1OUwEQKuLtP4akbS1xkVNhCCt3nV+7Il14u
 6wya2gKe8xgubV0/EMrgBpKt7k7PZz3Rn2BN+FIVqtNNOvQo
X-Google-Smtp-Source: AGHT+IFi9dCs83LdA+cQOdnegEM8YqU5tJyF+24eW+mAmoqPHNiZqs+r0VihosD0tYK1Hqvnj9M65xsMrMro
X-Received: by 2002:a05:6214:5096:b0:6e6:6964:ca77 with SMTP id
 6a1803df08f44-6f4fcf93276mr45317376d6.28.1746005305560; 
 Wed, 30 Apr 2025 02:28:25 -0700 (PDT)
Received: from postal.iol.unh.edu (postal.iol.unh.edu.
 [2606:4100:3880:1234::84]) by smtp-relay.gmail.com with ESMTPS id
 6a1803df08f44-6f4fe82165csm581656d6.59.2025.04.30.02.28.25
 (version=TLS1_2 cipher=ECDHE-ECDSA-AES128-GCM-SHA256 bits=128/128);
 Wed, 30 Apr 2025 02:28:25 -0700 (PDT)
X-Relaying-Domain: iol.unh.edu
Date: Wed, 30 Apr 2025 02:28:25 -0700 (PDT)
Message-ID: <6811ed39.050a0220.ad254.3851SMTPIN_ADDED_MISSING@mx.google.com>
Received: from [172.21.0.6] (unknown [172.18.0.240])
 by postal.iol.unh.edu (Postfix) with ESMTP id 4346B6052471;
 Wed, 30 Apr 2025 05:28:25 -0400 (EDT)
Subject: |SUCCESS| [GIT MASTER] 83a7a648344674c0269fcaeb71d8d16468421a0e
From: dpdklab@iol.unh.edu
To: Test Report <test-report@dpdk.org>
Cc: dpdk-test-reports@iol.unh.edu, Xueming Li <xuemingl@nvidia.com>,
 Christian Ehrhardt <christian.ehrhardt@canonical.com>,
 Kevin Traynor <ktraynor@redhat.com>, Luca Boccassi <bluca@debian.org>
Content-Type: text/plain
X-BeenThere: test-report@dpdk.org
X-Mailman-Version: 2.1.29
Precedence: list
List-Id: automatic DPDK test reports <test-report.dpdk.org>
List-Unsubscribe: <https://mails.dpdk.org/options/test-report>,
 <mailto:test-report-request@dpdk.org?subject=unsubscribe>
List-Archive: <http://mails.dpdk.org/archives/test-report/>
List-Post: <mailto:test-report@dpdk.org>
List-Help: <mailto:test-report-request@dpdk.org?subject=help>
List-Subscribe: <https://mails.dpdk.org/listinfo/test-report>,
 <mailto:test-report-request@dpdk.org?subject=subscribe>
Errors-To: test-report-bounces@dpdk.org

_Testing PASS_

Branch: tags/v23.11

83a7a648344674c0269fcaeb71d8d16468421a0e --> testing pass

Upstream job id: Generic-Unit-Test-DPDK#334445

Test environment and result as below:

+-----------------------------+----------------+---------------------------+--------------+------------------------------+
|         Environment         | dpdk_unit_test | cryptodev_sw_zuc_autotest | lpm_autotest | cryptodev_sw_snow3g_autotest |
+=============================+================+===========================+==============+==============================+
| Debian 12 (arm)             | PASS           | PASS                      | SKIPPED      | PASS                         |
+-----------------------------+----------------+---------------------------+--------------+------------------------------+
| CentOS Stream 9 (ARM)       | PASS           | SKIPPED                   | SKIPPED      | SKIPPED                      |
+-----------------------------+----------------+---------------------------+--------------+------------------------------+
| CentOS Stream 10 (ARM)      | PASS           | SKIPPED                   | SKIPPED      | SKIPPED                      |
+-----------------------------+----------------+---------------------------+--------------+------------------------------+
| Fedora 40 (ARM)             | PASS           | SKIPPED                   | SKIPPED      | SKIPPED                      |
+-----------------------------+----------------+---------------------------+--------------+------------------------------+
| Fedora 40 (ARM Clang)       | PASS           | SKIPPED                   | SKIPPED      | SKIPPED                      |
+-----------------------------+----------------+---------------------------+--------------+------------------------------+
| RHEL9 (ARM)                 | PASS           | SKIPPED                   | SKIPPED      | SKIPPED                      |
+-----------------------------+----------------+---------------------------+--------------+------------------------------+
| Ubuntu 20.04 (ARM)          | PASS           | SKIPPED                   | SKIPPED      | SKIPPED                      |
+-----------------------------+----------------+---------------------------+--------------+------------------------------+
| Fedora 41 (ARM Clang)       | PASS           | SKIPPED                   | SKIPPED      | SKIPPED                      |
+-----------------------------+----------------+---------------------------+--------------+------------------------------+
| Fedora 41 (ARM)             | PASS           | SKIPPED                   | SKIPPED      | SKIPPED                      |
+-----------------------------+----------------+---------------------------+--------------+------------------------------+
| Ubuntu 22.04 (ARM)          | PASS           | SKIPPED                   | SKIPPED      | SKIPPED                      |
+-----------------------------+----------------+---------------------------+--------------+------------------------------+
| Ubuntu 24.04 (ARM)          | PASS           | SKIPPED                   | SKIPPED      | SKIPPED                      |
+-----------------------------+----------------+---------------------------+--------------+------------------------------+
| 32-bit Ubuntu 22.04.4 (ARM) | PASS           | SKIPPED                   | SKIPPED      | SKIPPED                      |
+-----------------------------+----------------+---------------------------+--------------+------------------------------+
| Ubuntu 20.04 ARM SVE        | SKIPPED        | SKIPPED                   | PASS         | SKIPPED                      |
+-----------------------------+----------------+---------------------------+--------------+------------------------------+


Debian 12 (arm)
	Kernel: Depends on container host
	Compiler: gcc (Debian 12.2.0-14) 12.2.0

CentOS Stream 9 (ARM)
	Kernel: Depends on container host
	Compiler: gcc 11.5.0 20240719 (Red Hat 11.5.0-2)

CentOS Stream 10 (ARM)
	Kernel: Depends on container host
	Compiler: gcc 14.2.1 20241104 (Red Hat 14.2.1-6)

Fedora 40 (ARM)
	Kernel: Depends on container host
	Compiler: gcc 14.2.1 20240912 (Red Hat 14.2.1-3)

Fedora 40 (ARM Clang)
	Kernel: Depends on container host
	Compiler: clang 18.1.8 (Fedora 18.1.8-1.fc40)

RHEL9 (ARM)
	Kernel: Depends on container host
	Compiler: gcc 11.5.0 20240719 (Red Hat 11.5.0-2)

Ubuntu 20.04 (ARM)
	Kernel: Depends on container host
	Compiler: gcc (Ubuntu 9.4.0-1ubuntu1~20.04.2) 9.4.0

Fedora 41 (ARM Clang)
	Kernel: Depends on container host
	Compiler: clang 19.1.5 (Fedora 19.1.5-1.fc41)

Fedora 41 (ARM)
	Kernel: Depends on container host
	Compiler: gcc 14.2.1 20240912 (Red Hat 14.2.1-3)

Ubuntu 22.04 (ARM)
	Kernel: Depends on container host
	Compiler: gcc (Ubuntu 11.4.0-1ubuntu1~22.04) 11.4.0

Ubuntu 24.04 (ARM)
	Kernel: Depends on container host
	Compiler: gcc (Ubuntu 13.3.0-6ubuntu2~24.04) 13.3.0

32-bit Ubuntu 22.04.4 (ARM)
	Kernel: 5.15.83+ aarch64
	Compiler: gcc (Ubuntu 11.4.0-1ubuntu1~22.04) 11.4.0

Ubuntu 20.04 ARM SVE
	Kernel: Depends on container host
	Compiler: gcc (Ubuntu 10.5.0-1ubuntu1~20.04) 10.5.0

To view detailed results, visit:
https://lab.dpdk.org/results/dashboard/tarballs/33396/

UNH-IOL DPDK Community Lab

To manage your email subscriptions, visit: 
https://lab.dpdk.org/results/dashboard/preferences/subscriptions/