From mboxrd@z Thu Jan 1 00:00:00 1970 Return-Path: Received: from mails.dpdk.org (mails.dpdk.org [217.70.189.124]) by inbox.dpdk.org (Postfix) with ESMTP id A4592465FE for ; Wed, 30 Apr 2025 11:28:57 +0200 (CEST) Received: from mails.dpdk.org (localhost [127.0.0.1]) by mails.dpdk.org (Postfix) with ESMTP id A11D7402A7; Wed, 30 Apr 2025 11:28:57 +0200 (CEST) Received: from mail-qv1-f97.google.com (mail-qv1-f97.google.com [209.85.219.97]) by mails.dpdk.org (Postfix) with ESMTP id EFC00402A3 for ; Wed, 30 Apr 2025 11:28:56 +0200 (CEST) Received: by mail-qv1-f97.google.com with SMTP id 6a1803df08f44-6ed16ce246bso38586406d6.3 for ; Wed, 30 Apr 2025 02:28:56 -0700 (PDT) DKIM-Signature: v=1; a=rsa-sha256; c=relaxed/relaxed; d=iol.unh.edu; s=unh-iol; t=1746005336; x=1746610136; darn=dpdk.org; h=cc:to:from:subject:message-id:date:from:to:cc:subject:date :message-id:reply-to; bh=FZrBxoztRtPYdHPAllqbgAcOoY4aK8dIuqisf1KWpc0=; b=Zk78JD/P42R7GpxPRyGAYTf/Wf0s1wqhKN+GVv9VySbZMHHku926fPP8lCyHcpUMFw NwRUAdtzZzO4mupRV0m4ukQJljSvO/RAZVjNLjQGjaGktnQO/dmGjCcFgbtUKTa9GrTg 0dlK2TSZwFuqXnk8WrVMf0PPBRePoOmrJfzeE= X-Google-DKIM-Signature: v=1; a=rsa-sha256; c=relaxed/relaxed; d=1e100.net; s=20230601; t=1746005336; x=1746610136; h=cc:to:from:subject:message-id:date:x-gm-message-state:from:to:cc :subject:date:message-id:reply-to; bh=FZrBxoztRtPYdHPAllqbgAcOoY4aK8dIuqisf1KWpc0=; b=CEeq25V3r7IAfUUmh30s+PO2mF8HfuDT2J0k8z9mjQ7/vRNGdRW2Qe3EAfX4eo3I5C BeTXvLmDl0/94YQmn0YT51B+xibV5bAcQV2HY961/uM24QwSj1FY74CoBucnkOJvhzhG 3TXuJkKN/siWx1DMpmvehTfmPiDOGRA7IPvgNw6O+xM/nKFOJ9TilmgYdpLylREW7Np3 /Svl7y2kN67iKTMOBnCdDaxbNiFvDhqzKt96pA2vUQiwJvoYbVRUnUnCU6b4H6UMlEQg Jf37EkWNWdDhThHttL3amBVXnnsAKuK6ZPLenLX4y4emcrmOA5MHUuX5iBhf/ZPgF8kc n1gw== X-Gm-Message-State: AOJu0YzWcQETn+hqE5HZn/rZtEiZRbX5z+UXqtzVf4B6+eSnwK5wT04U IcnSrV1PCPDYem6GvmXOAsxtbhW3+xA/Ys8aoNA4lLksOIqidiUxEqhBsHqllAC8E8fZTlHhw9n 4S93dcIbzn4JVZQfb7uUGikEDCSnROn3X X-Gm-Gg: ASbGncur1NHs80RLrar8SrrTjo10XVb9vfDby8Ug8p43EyIPYDJPpAHmnOZg2P3yDqU Gxdf4M0QU4a/1bKyz500k6PSx6ONG8iEVWKRSxFheiQLtSbOW5OHL8Rmd6P/8i+iEVQemk5hNUq Bo6GShwAWNiAyKjYv5fi0ytHDyoYRzeLoDlUbyw7Q+2j25JMXGqyKoYZccLpx6W3ie5Ktr92FX2 gpHzy81rt8XUis+r299IN+Pjr9ixUnIxcmnAZnetXKVQ5F7APGfgguDGyQNJUNN1tq2SbTEsr4Y Xia/C7kL8L4xXUnsPGs2OgZRX/v/oRgVcYLw X-Google-Smtp-Source: AGHT+IH+GRgHfoxyAEI49vOQD2HqlV0xrVxoncuVpEPoU2dCqsP2Koay8ULFKGyq8pQ8a2NjFGZAdDs3XSZl X-Received: by 2002:ad4:5c62:0:b0:6f4:c8df:43d2 with SMTP id 6a1803df08f44-6f4fcf75780mr42213806d6.35.1746005336426; Wed, 30 Apr 2025 02:28:56 -0700 (PDT) Received: from postal.iol.unh.edu (postal.iol.unh.edu. [132.177.123.84]) by smtp-relay.gmail.com with ESMTPS id 6a1803df08f44-6f4fe821abbsm540066d6.61.2025.04.30.02.28.56 (version=TLS1_2 cipher=ECDHE-ECDSA-AES128-GCM-SHA256 bits=128/128); Wed, 30 Apr 2025 02:28:56 -0700 (PDT) X-Relaying-Domain: iol.unh.edu Date: Wed, 30 Apr 2025 02:28:56 -0700 (PDT) Message-ID: <6811ed58.050a0220.221c07.286bSMTPIN_ADDED_MISSING@mx.google.com> Received: from [172.21.0.5] (unknown [172.18.0.240]) by postal.iol.unh.edu (Postfix) with ESMTP id 1F57B6052471; Wed, 30 Apr 2025 05:28:56 -0400 (EDT) Subject: |SUCCESS| [GIT MASTER] 83a7a648344674c0269fcaeb71d8d16468421a0e From: dpdklab@iol.unh.edu To: Test Report Cc: dpdk-test-reports@iol.unh.edu, Xueming Li , Christian Ehrhardt , Kevin Traynor , Luca Boccassi Content-Type: text/plain X-BeenThere: test-report@dpdk.org X-Mailman-Version: 2.1.29 Precedence: list List-Id: automatic DPDK test reports List-Unsubscribe: , List-Archive: List-Post: List-Help: List-Subscribe: , Errors-To: test-report-bounces@dpdk.org _Testing PASS_ Branch: tags/v23.11 83a7a648344674c0269fcaeb71d8d16468421a0e --> testing pass Upstream job id: Generic-Unit-Test-DPDK#334443 Test environment and result as below: +---------------------+----------------+ | Environment | dpdk_unit_test | +=====================+================+ | Fedora 40 | PASS | +---------------------+----------------+ | CentOS Stream 9 | PASS | +---------------------+----------------+ | CentOS Stream 10 | PASS | +---------------------+----------------+ | Debian 12 | PASS | +---------------------+----------------+ | RHEL9 | PASS | +---------------------+----------------+ | Fedora 40 (Clang) | PASS | +---------------------+----------------+ | RHEL8 | PASS | +---------------------+----------------+ | Fedora 41 | PASS | +---------------------+----------------+ | Ubuntu 22.04 | PASS | +---------------------+----------------+ | Fedora 41 (Clang) | PASS | +---------------------+----------------+ | Ubuntu 20.04 | PASS | +---------------------+----------------+ | Ubuntu 24.04 | PASS | +---------------------+----------------+ | Windows Server 2022 | PASS | +---------------------+----------------+ Fedora 40 Kernel: Depends on container host Compiler: gcc 14.2.1 20240912 (Red Hat 14.2.1-3) CentOS Stream 9 Kernel: Depends on container host Compiler: gcc 11.5.0 20240719 (Red Hat 11.5.0-2) CentOS Stream 10 Kernel: Depends on container host Compiler: gcc 14.2.1 20241104 (Red Hat 14.2.1-6) Debian 12 Kernel: Depends on container host Compiler: gcc (Debian 12.2.0-14) 12.2.0 RHEL9 Kernel: Depends on container host Compiler: gcc 11.5.0 20240719 (Red Hat 11.5.0-2) Fedora 40 (Clang) Kernel: Depends on container host Compiler: clang 18.1.8 (Fedora 18.1.8-1.fc40) RHEL8 Kernel: Depends on container host Compiler: gcc 8.5.0 20210514 (Red Hat 8.5.0-22) Fedora 41 Kernel: Depends on container host Compiler: gcc 14.2.1 20240912 (Red Hat 14.2.1-3) Ubuntu 22.04 Kernel: Depends on container host Compiler: gcc (Ubuntu 11.4.0-1ubuntu1~22.04) 11.4.0 Fedora 41 (Clang) Kernel: Depends on container host Compiler: clang 19.1.5 (Fedora 19.1.5-1.fc41) Ubuntu 20.04 Kernel: Depends on container host Compiler: gcc (Ubuntu 9.4.0-1ubuntu1~20.04.2) 9.4.0 Ubuntu 24.04 Kernel: Depends on container host Compiler: gcc (Ubuntu 13.3.0-6ubuntu2~24.04) 13.3.0 Windows Server 2022 Kernel: 10.0.20348.2031 Compiler: clang 15.0.7, gcc 14.1.0 (MinGW), and MSVC VS 19.39.33521 To view detailed results, visit: https://lab.dpdk.org/results/dashboard/tarballs/33396/ UNH-IOL DPDK Community Lab To manage your email subscriptions, visit: https://lab.dpdk.org/results/dashboard/preferences/subscriptions/