From mboxrd@z Thu Jan 1 00:00:00 1970 Return-Path: Received: from mails.dpdk.org (mails.dpdk.org [217.70.189.124]) by inbox.dpdk.org (Postfix) with ESMTP id CB3774660F for ; Wed, 30 Apr 2025 12:18:22 +0200 (CEST) Received: from mails.dpdk.org (localhost [127.0.0.1]) by mails.dpdk.org (Postfix) with ESMTP id 9BE17402A7; Wed, 30 Apr 2025 12:18:22 +0200 (CEST) Received: from mail-pl1-f228.google.com (mail-pl1-f228.google.com [209.85.214.228]) by mails.dpdk.org (Postfix) with ESMTP id E9121402A3 for ; Wed, 30 Apr 2025 12:18:21 +0200 (CEST) Received: by mail-pl1-f228.google.com with SMTP id d9443c01a7336-22c336fcdaaso85314645ad.3 for ; Wed, 30 Apr 2025 03:18:21 -0700 (PDT) DKIM-Signature: v=1; a=rsa-sha256; c=relaxed/relaxed; d=iol.unh.edu; s=unh-iol; t=1746008301; x=1746613101; darn=dpdk.org; h=cc:to:from:subject:message-id:date:from:to:cc:subject:date :message-id:reply-to; bh=Gh/yOvrA3dRB9fAYU09hndSPpg6n1U7YuRwG5S1HLdU=; b=K9m8liOYGHUzauLfSuPf6j7YTwLzbWtguICzMk6LhrvTbVqWrek4rQ09+imccgg0Qd OgJpF9zw18ECDFJocB5qsWtFixhQzaLvgVY4i20ucsUTY4DlsLJDDPzIPDpFglq+XJsH Vla5M7kmcuRXRLbjLVltRsNhOX5ryTC46PFpo= X-Google-DKIM-Signature: v=1; a=rsa-sha256; c=relaxed/relaxed; d=1e100.net; s=20230601; t=1746008301; x=1746613101; h=cc:to:from:subject:message-id:date:x-gm-message-state:from:to:cc :subject:date:message-id:reply-to; bh=Gh/yOvrA3dRB9fAYU09hndSPpg6n1U7YuRwG5S1HLdU=; b=k6ZtnMug2qP6YbEHFhJLl+tEcJWKLK5L6J6LWIXE7ype1St9yYVVLWHwERO8oTNDkZ jW07qKggrdlHiyw/evN3r2nNNx/M56HXR5Mcow8OqtjZT6CwlVbltGxShFYe+Ckb/58j ZnCgpelp2624K+499CnN8hcNHW779kMxBkJoepoyeB/+612ARRxiwQJODW3zw8/AID3n RNgxrCGhx78RRwWTdW93wjBSdG0Q9M0XycuBTrITTOtqt7tnuduVQp/FiiMcgYCuzUk3 itMymQZHeBZgokGJ5UNfiblgH/79rbDioxR6tjfQGVET18mWN6HRKb3lKOQMUzXhV78e S0XA== X-Gm-Message-State: AOJu0Yw7FF7t6/eO/qIFWQ8MQWlg3pcfZBaHxMjA9VFoHF06fwKTYxl3 MYudyAUioiiuIw5NEH3m9oXk8DavK838XI3JDZtoU5MpV9eJCMhQH/7mnc41GhJOYTwYkVblDW3 CcW6hKzVIHtfsD0jIGLTzW17d6A7o00BHp+X94FCi944brW4J6lxN8/6C X-Gm-Gg: ASbGncvJ9VZgPObImwJtoXO2bJ4Qc0Iwh+QJ1kVhv75YK2pwLtvE3PikcCFXqM3wV9w m9zLSl81yXEXuLBVNmEO5+/Lzxx7Pw+Q0Vzw6g2pXUmzIDDtEcLqVbDYkRZGpsd8svxTSKh0GEM Hr5gskwn502QR7di/894m8vzKpK7iv2wsmgAWZiFHSVuhjwnatQmXOGjDqx6/KATVTNFcImugky Zbl/xLb192Tch4oKHtCJ+1h1dxoZEx3JV5WL1OQVAt7hGOMmkDzz25JRYLn9kFzHuSlFY7q69Wv /gob0T6quzeHYTnXEMyCV1axc6jqGhwIUQMOqpQHtpoLBHeI X-Google-Smtp-Source: AGHT+IFC6xYkqjUQOKEv3UZME9jzQcl07UpRt3dop40hQUFawHxe1eVd/5NbB0xGvOFuH38RvxYQfLfKQ4dt X-Received: by 2002:a17:903:1c7:b0:223:4bd6:3863 with SMTP id d9443c01a7336-22df34aa0c7mr43104395ad.10.1746008300892; Wed, 30 Apr 2025 03:18:20 -0700 (PDT) Received: from postal.iol.unh.edu (postal.iol.unh.edu. [2606:4100:3880:1234::84]) by smtp-relay.gmail.com with ESMTPS id d9443c01a7336-22db52162d0sm14969965ad.98.2025.04.30.03.18.20 (version=TLS1_2 cipher=ECDHE-ECDSA-AES128-GCM-SHA256 bits=128/128); Wed, 30 Apr 2025 03:18:20 -0700 (PDT) X-Relaying-Domain: iol.unh.edu Date: Wed, 30 Apr 2025 03:18:20 -0700 (PDT) Message-ID: <6811f8ec.170a0220.2de043.3977SMTPIN_ADDED_MISSING@mx.google.com> Received: from [172.17.0.2] (unknown [172.18.0.76]) by postal.iol.unh.edu (Postfix) with ESMTP id 1C2CD6052471; Wed, 30 Apr 2025 06:18:20 -0400 (EDT) Subject: |SUCCESS| [GIT MASTER] ff05ee3e3f8fb4ce958a2ce6461e8141aea959c6 From: dpdklab@iol.unh.edu To: Test Report Cc: dpdk-test-reports@iol.unh.edu, Stephen Hemminger Content-Type: text/plain X-BeenThere: test-report@dpdk.org X-Mailman-Version: 2.1.29 Precedence: list List-Id: automatic DPDK test reports List-Unsubscribe: , List-Archive: List-Post: List-Help: List-Subscribe: , Errors-To: test-report-bounces@dpdk.org _Testing PASS_ Branch: dpdk-next-net ff05ee3e3f8fb4ce958a2ce6461e8141aea959c6 --> testing pass Upstream job id: Generic-Unit-Test-DPDK#334472 Test environment and result as below: +---------------------+----------------+ | Environment | dpdk_unit_test | +=====================+================+ | Debian 12 | PASS | +---------------------+----------------+ | CentOS Stream 9 | PASS | +---------------------+----------------+ | Fedora 40 (Clang) | PASS | +---------------------+----------------+ | CentOS Stream 10 | PASS | +---------------------+----------------+ | RHEL8 | PASS | +---------------------+----------------+ | Fedora 40 | PASS | +---------------------+----------------+ | Fedora 41 (Clang) | PASS | +---------------------+----------------+ | RHEL9 | PASS | +---------------------+----------------+ | Fedora 41 | PASS | +---------------------+----------------+ | Ubuntu 22.04 | PASS | +---------------------+----------------+ | Ubuntu 20.04 | PASS | +---------------------+----------------+ | Ubuntu 24.04 | PASS | +---------------------+----------------+ | Windows Server 2022 | PASS | +---------------------+----------------+ Debian 12 Kernel: Depends on container host Compiler: gcc (Debian 12.2.0-14) 12.2.0 CentOS Stream 9 Kernel: Depends on container host Compiler: gcc 11.5.0 20240719 (Red Hat 11.5.0-2) Fedora 40 (Clang) Kernel: Depends on container host Compiler: clang 18.1.8 (Fedora 18.1.8-1.fc40) CentOS Stream 10 Kernel: Depends on container host Compiler: gcc 14.2.1 20241104 (Red Hat 14.2.1-6) RHEL8 Kernel: Depends on container host Compiler: gcc 8.5.0 20210514 (Red Hat 8.5.0-22) Fedora 40 Kernel: Depends on container host Compiler: gcc 14.2.1 20240912 (Red Hat 14.2.1-3) Fedora 41 (Clang) Kernel: Depends on container host Compiler: clang 19.1.5 (Fedora 19.1.5-1.fc41) RHEL9 Kernel: Depends on container host Compiler: gcc 11.5.0 20240719 (Red Hat 11.5.0-2) Fedora 41 Kernel: Depends on container host Compiler: gcc 14.2.1 20240912 (Red Hat 14.2.1-3) Ubuntu 22.04 Kernel: Depends on container host Compiler: gcc (Ubuntu 11.4.0-1ubuntu1~22.04) 11.4.0 Ubuntu 20.04 Kernel: Depends on container host Compiler: gcc (Ubuntu 9.4.0-1ubuntu1~20.04.2) 9.4.0 Ubuntu 24.04 Kernel: Depends on container host Compiler: gcc (Ubuntu 13.3.0-6ubuntu2~24.04) 13.3.0 Windows Server 2022 Kernel: 10.0.20348.2031 Compiler: clang 15.0.7, gcc 14.1.0 (MinGW), and MSVC VS 19.39.33521 To view detailed results, visit: https://lab.dpdk.org/results/dashboard/tarballs/33397/ UNH-IOL DPDK Community Lab To manage your email subscriptions, visit: https://lab.dpdk.org/results/dashboard/preferences/subscriptions/