From mboxrd@z Thu Jan 1 00:00:00 1970 Return-Path: Received: from mails.dpdk.org (mails.dpdk.org [217.70.189.124]) by inbox.dpdk.org (Postfix) with ESMTP id 6BA224660F for ; Wed, 30 Apr 2025 12:22:47 +0200 (CEST) Received: from mails.dpdk.org (localhost [127.0.0.1]) by mails.dpdk.org (Postfix) with ESMTP id 557E7402A7; Wed, 30 Apr 2025 12:22:47 +0200 (CEST) Received: from mail-yb1-f228.google.com (mail-yb1-f228.google.com [209.85.219.228]) by mails.dpdk.org (Postfix) with ESMTP id AD6FC402A3 for ; Wed, 30 Apr 2025 12:22:46 +0200 (CEST) Received: by mail-yb1-f228.google.com with SMTP id 3f1490d57ef6-e733cd55f9eso3079575276.1 for ; Wed, 30 Apr 2025 03:22:46 -0700 (PDT) DKIM-Signature: v=1; a=rsa-sha256; c=relaxed/relaxed; d=iol.unh.edu; s=unh-iol; t=1746008566; x=1746613366; darn=dpdk.org; h=cc:to:from:subject:message-id:date:from:to:cc:subject:date :message-id:reply-to; bh=suzqIGT8tzE/ga/aEgA1ouPK5LRCK+Kb5b/X18y/I7M=; b=KnIy2QGHjpR8Wr0sL2o1pR1qJ5FpnvWwHQafM17PE5ktQRwAZE8OBvFp3n0PjOzvdz HV8IKcXhNdvAb9FozCW4m7CH/QRd1Qzk1gY7Sc3wu+jDnZLWAPIIt5a5KIEOe4+he+IG tTIgAHjGVeWbKkANA4VPbYWS+mlUAA8mBV8Q0= X-Google-DKIM-Signature: v=1; a=rsa-sha256; c=relaxed/relaxed; d=1e100.net; s=20230601; t=1746008566; x=1746613366; h=cc:to:from:subject:message-id:date:x-gm-message-state:from:to:cc :subject:date:message-id:reply-to; bh=suzqIGT8tzE/ga/aEgA1ouPK5LRCK+Kb5b/X18y/I7M=; b=Lestxd8zRx7eCwp9jg0kDSw4m2TLYevPwMdIb9FUwt2T8Iepxy8n22kh8tXQ9dscdy 9ceV7Zq+gWzKQmkWHup+kyOnlOPGlyhxfhdIYLjLM3pWykPnib3xkPnajn0SSwFXKNtj N8nn/u44dLX/LZ6VCnmlNOylxjNF0iRtQlmmz2JYYFP98ct2K0KX9vIcl/bUCtAz/Hz5 xG/8vWN/WoV3sdadITes9xvsFJGx/+XRr2ErKFBX7UBRqBenT/r7LIgKkQe6ZcrOoA/G Dm7bJinaxmg0+ldF87uxofPDp7UPO3IoQH7xMXxzMxPMaqi6CfXDM+b+pQ8WzHuSGN3B mEoA== X-Gm-Message-State: AOJu0Yz/fKLkXo9Fvzz5pqreHWo3tucYmuUDcrISg0kDnZB3Pc77FV7p x+395KhyXusgQkSy9ZeDqfS2vNntCGj0+2MPEmUdGRCk78yRzyt+8DC83SOEedSaOSc47js6fts LOKe+rXVsqG4c627MsB6EwYiV+18g377WLDcTZQeo X-Gm-Gg: ASbGncthPAp5n/p2lHGhg0u0ZWssfGLSbmVxD9ywjc/LGUKbVbiM4vLtgaigPA+5Rq7 M9dBsS4MDSDfWw1+4osasRdImAfZMbkkO5t8cg+JApLJ2+TD7smUgFubjxHhAXI60p6M3vmMcET 5/u3xMLETNkGDI4yiOxR45k46aQ1tot4j+oMgBD3f/HvcySRT8HeDjYku6eRZTMEw60Q5EhbQ7i JHEmsT7RGxEY9ByQRdcU66NNO81JoVZ1DfSsc1lGJ1A13GwWSNoXqEc49LStWZ9R7I8QcvNFYa0 bBe7+LrvUVukxk/PS/0rs5RVGbm2H9a7djXt X-Google-Smtp-Source: AGHT+IEESRDs6KihYWQ+8OzQT+oHbn3d6SGrD0F53azbqgyRudqZSyLiXJyOgrawMbDL0404Yp0xB7K/VAWb X-Received: by 2002:a05:6902:2291:b0:e73:31de:b89d with SMTP id 3f1490d57ef6-e73eb2ebd28mr3376762276.28.1746008565913; Wed, 30 Apr 2025 03:22:45 -0700 (PDT) Received: from postal.iol.unh.edu (postal.iol.unh.edu. [132.177.123.84]) by smtp-relay.gmail.com with ESMTPS id 3f1490d57ef6-e741293a76bsm29129276.7.2025.04.30.03.22.45 (version=TLS1_2 cipher=ECDHE-ECDSA-AES128-GCM-SHA256 bits=128/128); Wed, 30 Apr 2025 03:22:45 -0700 (PDT) X-Relaying-Domain: iol.unh.edu Date: Wed, 30 Apr 2025 03:22:45 -0700 (PDT) Message-ID: <6811f9f5.050a0220.1280d2.1d60SMTPIN_ADDED_MISSING@mx.google.com> Received: from [172.17.0.2] (unknown [172.18.0.74]) by postal.iol.unh.edu (Postfix) with ESMTP id 7A36F6052471; Wed, 30 Apr 2025 06:22:45 -0400 (EDT) Subject: |SUCCESS| [GIT MASTER] ff05ee3e3f8fb4ce958a2ce6461e8141aea959c6 From: dpdklab@iol.unh.edu To: Test Report Cc: dpdk-test-reports@iol.unh.edu, Stephen Hemminger Content-Type: text/plain X-BeenThere: test-report@dpdk.org X-Mailman-Version: 2.1.29 Precedence: list List-Id: automatic DPDK test reports List-Unsubscribe: , List-Archive: List-Post: List-Help: List-Subscribe: , Errors-To: test-report-bounces@dpdk.org _Testing PASS_ Branch: dpdk-next-net ff05ee3e3f8fb4ce958a2ce6461e8141aea959c6 --> testing pass Upstream job id: Generic-DPDK-Compile-Meson#384038 Test environment and result as below: +-----------------------------------+--------------------+-------------------------+-------------------+----------------------+-------------------+------------------+ | Environment | dpdk_meson_compile | dpdk_llvm_clang_compile | dpdk_msvc_compile | dpdk_mingw64_compile | dpdk_compile_spdk | dpdk_compile_ovs | +===================================+====================+=========================+===================+======================+===================+==================+ | Ubuntu 20.04 | PASS | SKIPPED | SKIPPED | SKIPPED | SKIPPED | SKIPPED | +-----------------------------------+--------------------+-------------------------+-------------------+----------------------+-------------------+------------------+ | FreeBSD 13.5 | PASS | SKIPPED | SKIPPED | SKIPPED | SKIPPED | SKIPPED | +-----------------------------------+--------------------+-------------------------+-------------------+----------------------+-------------------+------------------+ | FreeBSD 14.2 | PASS | SKIPPED | SKIPPED | SKIPPED | SKIPPED | SKIPPED | +-----------------------------------+--------------------+-------------------------+-------------------+----------------------+-------------------+------------------+ | CentOS Stream 9 | PASS | SKIPPED | SKIPPED | SKIPPED | PASS | SKIPPED | +-----------------------------------+--------------------+-------------------------+-------------------+----------------------+-------------------+------------------+ | CentOS Stream 10 | PASS | SKIPPED | SKIPPED | SKIPPED | SKIPPED | SKIPPED | +-----------------------------------+--------------------+-------------------------+-------------------+----------------------+-------------------+------------------+ | Debian 12 | PASS | SKIPPED | SKIPPED | SKIPPED | PASS | SKIPPED | +-----------------------------------+--------------------+-------------------------+-------------------+----------------------+-------------------+------------------+ | Fedora 40 (Clang) | PASS | SKIPPED | SKIPPED | SKIPPED | PASS | SKIPPED | +-----------------------------------+--------------------+-------------------------+-------------------+----------------------+-------------------+------------------+ | Fedora 40 | PASS | SKIPPED | SKIPPED | SKIPPED | PASS | SKIPPED | +-----------------------------------+--------------------+-------------------------+-------------------+----------------------+-------------------+------------------+ | Fedora 41 (Clang) | PASS | SKIPPED | SKIPPED | SKIPPED | PASS | PASS | +-----------------------------------+--------------------+-------------------------+-------------------+----------------------+-------------------+------------------+ | Fedora 41 | PASS | SKIPPED | SKIPPED | SKIPPED | PASS | PASS | +-----------------------------------+--------------------+-------------------------+-------------------+----------------------+-------------------+------------------+ | openSUSE Leap 15 | PASS | SKIPPED | SKIPPED | SKIPPED | SKIPPED | SKIPPED | +-----------------------------------+--------------------+-------------------------+-------------------+----------------------+-------------------+------------------+ | RHEL8 | PASS | SKIPPED | SKIPPED | SKIPPED | SKIPPED | SKIPPED | +-----------------------------------+--------------------+-------------------------+-------------------+----------------------+-------------------+------------------+ | RHEL9 | PASS | SKIPPED | SKIPPED | SKIPPED | SKIPPED | SKIPPED | +-----------------------------------+--------------------+-------------------------+-------------------+----------------------+-------------------+------------------+ | Ubuntu 22.04 | PASS | SKIPPED | SKIPPED | SKIPPED | PASS | SKIPPED | +-----------------------------------+--------------------+-------------------------+-------------------+----------------------+-------------------+------------------+ | Ubuntu 24.04 | PASS | SKIPPED | SKIPPED | SKIPPED | PASS | PASS | +-----------------------------------+--------------------+-------------------------+-------------------+----------------------+-------------------+------------------+ | Alpine | PASS | SKIPPED | SKIPPED | SKIPPED | SKIPPED | SKIPPED | +-----------------------------------+--------------------+-------------------------+-------------------+----------------------+-------------------+------------------+ | Ubuntu 24.04 32 Bit Cross Compile | PASS | SKIPPED | SKIPPED | SKIPPED | SKIPPED | SKIPPED | +-----------------------------------+--------------------+-------------------------+-------------------+----------------------+-------------------+------------------+ | Windows Server 2022 | SKIPPED | PASS | PASS | PASS | SKIPPED | SKIPPED | +-----------------------------------+--------------------+-------------------------+-------------------+----------------------+-------------------+------------------+ Ubuntu 20.04 Kernel: 4.19.325-0419325-generic Compiler: gcc (Ubuntu 9.4.0-1ubuntu1~20.04.2) 9.4.0 FreeBSD 13.5 Kernel: 13.5-RELEASE Compiler: clang 19.1.7 FreeBSD 14.2 Kernel: 14.2-RELEASE Compiler: clang 18.1.6 CentOS Stream 9 Kernel: Depends on container host Compiler: gcc 11.5.0 20240719 (Red Hat 11.5.0-2) CentOS Stream 10 Kernel: Depends on container host Compiler: gcc 14.2.1 20241104 (Red Hat 14.2.1-6) Debian 12 Kernel: Depends on container host Compiler: gcc (Debian 12.2.0-14) 12.2.0 Fedora 40 (Clang) Kernel: Depends on container host Compiler: clang 18.1.8 (Fedora 18.1.8-1.fc40) Fedora 40 Kernel: Depends on container host Compiler: gcc 14.2.1 20240912 (Red Hat 14.2.1-3) Fedora 41 (Clang) Kernel: Depends on container host Compiler: clang 19.1.5 (Fedora 19.1.5-1.fc41) Fedora 41 Kernel: Depends on container host Compiler: gcc 14.2.1 20240912 (Red Hat 14.2.1-3) openSUSE Leap 15 Kernel: Depends on container host Compiler: gcc (SUSE Linux) 7.5.0 RHEL8 Kernel: Depends on container host Compiler: gcc 8.5.0 20210514 (Red Hat 8.5.0-22) RHEL9 Kernel: Depends on container host Compiler: gcc 11.5.0 20240719 (Red Hat 11.5.0-2) Ubuntu 22.04 Kernel: Depends on container host Compiler: gcc (Ubuntu 11.4.0-1ubuntu1~22.04) 11.4.0 Ubuntu 24.04 Kernel: Depends on container host Compiler: gcc (Ubuntu 13.3.0-6ubuntu2~24.04) 13.3.0 Alpine Kernel: Depends on container host Compiler: gcc (Alpine 14.2.0) 14.2.0 Ubuntu 24.04 32 Bit Cross Compile Kernel: Depends on container host Compiler: gcc (Ubuntu 13.3.0-6ubuntu2~24.04) 13.3.0 Windows Server 2022 Kernel: 10.0.20348.2031 Compiler: clang 15.0.7, gcc 14.1.0 (MinGW), and MSVC VS 19.39.33521 To view detailed results, visit: https://lab.dpdk.org/results/dashboard/tarballs/33397/ UNH-IOL DPDK Community Lab To manage your email subscriptions, visit: https://lab.dpdk.org/results/dashboard/preferences/subscriptions/