From mboxrd@z Thu Jan 1 00:00:00 1970 Return-Path: Received: from mails.dpdk.org (mails.dpdk.org [217.70.189.124]) by inbox.dpdk.org (Postfix) with ESMTP id 546E44660F for ; Wed, 30 Apr 2025 12:30:24 +0200 (CEST) Received: from mails.dpdk.org (localhost [127.0.0.1]) by mails.dpdk.org (Postfix) with ESMTP id 51517402A7; Wed, 30 Apr 2025 12:30:24 +0200 (CEST) Received: from mail-oa1-f97.google.com (mail-oa1-f97.google.com [209.85.160.97]) by mails.dpdk.org (Postfix) with ESMTP id 7E38D402A3 for ; Wed, 30 Apr 2025 12:30:22 +0200 (CEST) Received: by mail-oa1-f97.google.com with SMTP id 586e51a60fabf-2c759bf1b2eso4172461fac.1 for ; Wed, 30 Apr 2025 03:30:22 -0700 (PDT) DKIM-Signature: v=1; a=rsa-sha256; c=relaxed/relaxed; d=iol.unh.edu; s=unh-iol; t=1746009021; x=1746613821; darn=dpdk.org; h=cc:to:from:subject:message-id:date:from:to:cc:subject:date :message-id:reply-to; bh=btvB5VjOvZ9PFn1WnM2+7iuEpPD/pJnxqlwrsYl/J44=; b=SMipz1XDBb6Vc1bt3bSJrpkz3ZcdBxHjPdcBZvncF23qnnRBtjpZ5zgif95/c9KUz9 HxUkBOTm4Bf3e2BIKYC1xrWeLRSwhS6YT/S1+NBplbHSVQwT0jg+zfpvZCUnGcrtiODS MDgJ8w9FPHmUGNiAs455AZ70l0STOmmL9kpLM= X-Google-DKIM-Signature: v=1; a=rsa-sha256; c=relaxed/relaxed; d=1e100.net; s=20230601; t=1746009021; x=1746613821; h=cc:to:from:subject:message-id:date:x-gm-message-state:from:to:cc :subject:date:message-id:reply-to; bh=btvB5VjOvZ9PFn1WnM2+7iuEpPD/pJnxqlwrsYl/J44=; b=GPxwIDHJBv6V7+4FOxrvwEY3MvZYNSOt6fWmH8f30FjQrQGjfiREPG5L+C0iW7wtsP pAzco8SoJs/ZOPMk04Iac5ANv8jr3dly+/LUW6qNKMLekZOBCag/ckMmQUuqG3otOn1Q 5i30CZwENca+otdpPPaB9eQ4WncpxTErqCGAds2BDBmab0sUCozjZESoRgZTOOEAW4Ba gyX+6hiiBoBHrm/T5cjpFwChNm0KeNCWfBAg/PMlvuA65ZbDAbbsZWfXKjLZyBdD/djn qR7+mLLAEV4TJqwzeuM3bcXGFgwFEPAjQX3btgqOTgCsUygTx1ED0Cmt1Gxrn1Zp7Gh0 XoXw== X-Gm-Message-State: AOJu0YyfM4Zd2F6xKtSXEYxPoezNIP3f5OtBsb1dXqAl0w4s6l8unBl9 u5j2q5fn9hgeSP+zEbJighE3OeRI6iNRZwT2+RhVCcQ8O0cbKLUf209iGoBnYZWEi5DeDwti8uK M/4wHgPuQvAGBAQh1J48Vyf+2LKXcws2v X-Gm-Gg: ASbGncuYpOhpQRlq2jOwSnoqCAy80kaotZLzkilS+Vkq/pwubtN/kkSrXFe5JQrgc1r xuycPCde95unpnc1XsKP2OeW+42/gk7JkA5L7tehYfO8/moU07ghXbbYtetInS5ACSxB9tNuDGM qQB4Cu2uNKfxxDt5ci60m20oMNNShCsR0bUENlgDXfThxECySVCPhUVHdnA7ii6f4mlHykwFqxP /ETRiN1PMEBUOkgtPgXgR95xd2kVHIoEU+U3PzWW/3Yu/6QTgQkVHzCQj29vdJdv9pSkv+TFUKF jyIlrAOBPfN2f5VCc8OKMiIT2V1K6E4et8n0 X-Google-Smtp-Source: AGHT+IEys0vghyNd1GL47Ni4S99aeSP03d4qKjDDYfLB88e6hwiX7Wn3nASuvQTqQ5qiGEP1SBnwz1ACdwKq X-Received: by 2002:a05:6870:a7a7:b0:2d5:4f51:37fa with SMTP id 586e51a60fabf-2da6a2a7fa1mr1234444fac.31.1746009021355; Wed, 30 Apr 2025 03:30:21 -0700 (PDT) Received: from postal.iol.unh.edu (postal.iol.unh.edu. [132.177.123.84]) by smtp-relay.gmail.com with ESMTPS id 586e51a60fabf-2da6e04bd63sm57229fac.4.2025.04.30.03.30.21 (version=TLS1_2 cipher=ECDHE-ECDSA-AES128-GCM-SHA256 bits=128/128); Wed, 30 Apr 2025 03:30:21 -0700 (PDT) X-Relaying-Domain: iol.unh.edu Date: Wed, 30 Apr 2025 03:30:21 -0700 (PDT) Message-ID: <6811fbbd.050a0220.280d52.469dSMTPIN_ADDED_MISSING@mx.google.com> Received: from [172.17.0.3] (unknown [172.18.0.74]) by postal.iol.unh.edu (Postfix) with ESMTP id 752326052471; Wed, 30 Apr 2025 06:30:20 -0400 (EDT) Subject: |SUCCESS| [GIT MASTER] 83a7a648344674c0269fcaeb71d8d16468421a0e From: dpdklab@iol.unh.edu To: Test Report Cc: dpdk-test-reports@iol.unh.edu, Xueming Li , Christian Ehrhardt , Kevin Traynor , Luca Boccassi Content-Type: text/plain X-BeenThere: test-report@dpdk.org X-Mailman-Version: 2.1.29 Precedence: list List-Id: automatic DPDK test reports List-Unsubscribe: , List-Archive: List-Post: List-Help: List-Subscribe: , Errors-To: test-report-bounces@dpdk.org _Testing PASS_ Branch: tags/v23.11 83a7a648344674c0269fcaeb71d8d16468421a0e --> testing pass Upstream job id: ACVP-FIPS-testing#9676 Test environment and result as below: +--------------------+----------------------+----------------------+ | Environment | compressdev_zlib_pmd | dpdk_fips_validation | +====================+======================+======================+ | Ubuntu 22.04 (ARM) | PASS | SKIPPED | +--------------------+----------------------+----------------------+ | Ubuntu 22.04 | PASS | SKIPPED | +--------------------+----------------------+----------------------+ | Ubuntu 20.04 | SKIPPED | PASS | +--------------------+----------------------+----------------------+ Ubuntu 22.04 (ARM) Kernel: 5.15.0-97-generic Compiler: gcc gcc (Ubuntu 11.4.0-1ubuntu1~22.04) 11.4.0 Ubuntu 22.04 Kernel: 5.15.0-100-generic Compiler: gcc gcc (Ubuntu 11.4.0-1ubuntu1~22.04) 11.4.0 Ubuntu 20.04 Kernel: Depends on container host Compiler: gcc (Ubuntu 9.4.0-1ubuntu1~20.04.2) 9.4.0 To view detailed results, visit: https://lab.dpdk.org/results/dashboard/tarballs/33396/ UNH-IOL DPDK Community Lab To manage your email subscriptions, visit: https://lab.dpdk.org/results/dashboard/preferences/subscriptions/