From mboxrd@z Thu Jan 1 00:00:00 1970 Return-Path: Received: from mails.dpdk.org (mails.dpdk.org [217.70.189.124]) by inbox.dpdk.org (Postfix) with ESMTP id A29D24660F for ; Wed, 30 Apr 2025 13:17:18 +0200 (CEST) Received: from mails.dpdk.org (localhost [127.0.0.1]) by mails.dpdk.org (Postfix) with ESMTP id 80906402F0; Wed, 30 Apr 2025 13:17:18 +0200 (CEST) Received: from mail-yw1-f228.google.com (mail-yw1-f228.google.com [209.85.128.228]) by mails.dpdk.org (Postfix) with ESMTP id 2C4A9402A7 for ; Wed, 30 Apr 2025 13:17:17 +0200 (CEST) Received: by mail-yw1-f228.google.com with SMTP id 00721157ae682-708b31650ffso2797427b3.0 for ; Wed, 30 Apr 2025 04:17:17 -0700 (PDT) DKIM-Signature: v=1; a=rsa-sha256; c=relaxed/relaxed; d=iol.unh.edu; s=unh-iol; t=1746011836; x=1746616636; darn=dpdk.org; h=cc:to:from:subject:message-id:date:from:to:cc:subject:date :message-id:reply-to; bh=y0zZN3vBsxKBuagLzLo/NoUER+FrMyRVah8OUCmSX/g=; b=Hfx5krHlJE0pqaqhr9goYK/E8ZSYjFuMDZz0FYtTqKm+jUfigA8n29slpRIQlaUyqe Dj4fCes0BMGtCfpxb96/uP4tvHOvJxeogF6vjPzIlpsC61FI+XoPdPywY3uaaxtQVAe8 2YM4mhXv4CpzuxDBUxwRLHmQVILQsc092Hs6Q= X-Google-DKIM-Signature: v=1; a=rsa-sha256; c=relaxed/relaxed; d=1e100.net; s=20230601; t=1746011836; x=1746616636; h=cc:to:from:subject:message-id:date:x-gm-message-state:from:to:cc :subject:date:message-id:reply-to; bh=y0zZN3vBsxKBuagLzLo/NoUER+FrMyRVah8OUCmSX/g=; b=Q2JpCptnG5TwGMcgvAzOPDAqSZkbt+p9KKm7sn0Xcly/eb6cCAomsOykEDycgB7YiC GbwsUtSixr7esv8o//yQVd+qBAS66Rz9Hs0GbBMCwq6kHzVznIyulS5usYrz+szaU754 1VIYYAACSjlxCwbcWm2zwgt+pgzlJyRlJSMJvmIMD8Mc+QopwMuptYmpyJNiWJCgH11K 62T/1lcVSwUD495fw0tmVduVq6AJsH79wlrVOuC5zjGlEspARz6dGYWGViH4UfZNIiok Y3yHsfpkpTIw4+9QGdAd6JEpAorz7Cg3ItEV0lKBMPOPkKXMYOnNhhPbpCMjeGVGRnK1 tagw== X-Gm-Message-State: AOJu0YxbaiMSxTCM6elwvQkzaQV5pLvuJ3G9S4ltEAcHvZ/cEWErFcbu Ka8O4Wz99NNCwmZkQ+I6NEWjF53LiR1/l3DHRTCYgmPm+oCWNnfq9MUQSMuoJVEh6AxKMXy9Xnu bRgABweS8mBfLmitclgSMm1JInHDJI+UjMNQ8Bzaq X-Gm-Gg: ASbGnctHrxcyg+zh9h+gqNLOWlnMVeAGhwWWwEYMBC4W3L0XlRmwAGW913+/vCDa8pZ Lu5Wgnd7MYqevoPomcFUSnSdHLr5mfjNOf/+sorEk5yXaGHhCIXJwmsXiGzJ3rDUATWgQAShb9E 9y5UgK0VtbWDQQCP7zvFvKqyKU60BfO6J79KGbdap8I0bKt9xAbTZ0x1EVaf20Y+tlQFutveVAN iCBiphdMtvzncl3goiAmpLrnwJC+59ghkejSlCk4ZX34Hb2TvhA2Px/7ACd2amGjCMp16E4Yhzo ND2o8rkldk61UNM29T0cudk5jZu8ApOx/FZm X-Google-Smtp-Source: AGHT+IGNtdAXkqeXy7DqbdsBoKFxk8eNAiCdZyEJisiaBA6S8nqKKzLiiaeGz58XMrPoblBjjahVdJEjEyLf X-Received: by 2002:a05:690c:6603:b0:708:16b0:59ab with SMTP id 00721157ae682-708abc2b903mr41910857b3.0.1746011836428; Wed, 30 Apr 2025 04:17:16 -0700 (PDT) Received: from postal.iol.unh.edu (postal.iol.unh.edu. [132.177.123.84]) by smtp-relay.gmail.com with ESMTPS id 00721157ae682-708ae004eddsm512487b3.18.2025.04.30.04.17.16 (version=TLS1_2 cipher=ECDHE-ECDSA-AES128-GCM-SHA256 bits=128/128); Wed, 30 Apr 2025 04:17:16 -0700 (PDT) X-Relaying-Domain: iol.unh.edu Date: Wed, 30 Apr 2025 04:17:16 -0700 (PDT) Message-ID: <681206bc.050a0220.9ca0e.26f7SMTPIN_ADDED_MISSING@mx.google.com> Received: from [172.17.0.3] (unknown [172.18.0.76]) by postal.iol.unh.edu (Postfix) with ESMTP id 05DD26052471; Wed, 30 Apr 2025 07:17:16 -0400 (EDT) Subject: |SUCCESS| [GIT MASTER] ff05ee3e3f8fb4ce958a2ce6461e8141aea959c6 From: dpdklab@iol.unh.edu To: Test Report Cc: dpdk-test-reports@iol.unh.edu, Stephen Hemminger Content-Type: text/plain X-BeenThere: test-report@dpdk.org X-Mailman-Version: 2.1.29 Precedence: list List-Id: automatic DPDK test reports List-Unsubscribe: , List-Archive: List-Post: List-Help: List-Subscribe: , Errors-To: test-report-bounces@dpdk.org _Testing PASS_ Branch: dpdk-next-net ff05ee3e3f8fb4ce958a2ce6461e8141aea959c6 --> testing pass Upstream job id: ACVP-FIPS-testing#9677 Test environment and result as below: +--------------------+----------------------+----------------------+ | Environment | compressdev_zlib_pmd | dpdk_fips_validation | +====================+======================+======================+ | Ubuntu 22.04 (ARM) | PASS | SKIPPED | +--------------------+----------------------+----------------------+ | Ubuntu 22.04 | PASS | SKIPPED | +--------------------+----------------------+----------------------+ | Ubuntu 20.04 | SKIPPED | PASS | +--------------------+----------------------+----------------------+ Ubuntu 22.04 (ARM) Kernel: 5.15.0-97-generic Compiler: gcc gcc (Ubuntu 11.4.0-1ubuntu1~22.04) 11.4.0 Ubuntu 22.04 Kernel: 5.15.0-100-generic Compiler: gcc gcc (Ubuntu 11.4.0-1ubuntu1~22.04) 11.4.0 Ubuntu 20.04 Kernel: Depends on container host Compiler: gcc (Ubuntu 9.4.0-1ubuntu1~20.04.2) 9.4.0 To view detailed results, visit: https://lab.dpdk.org/results/dashboard/tarballs/33397/ UNH-IOL DPDK Community Lab To manage your email subscriptions, visit: https://lab.dpdk.org/results/dashboard/preferences/subscriptions/