From mboxrd@z Thu Jan 1 00:00:00 1970 Return-Path: Received: from mails.dpdk.org (mails.dpdk.org [217.70.189.124]) by inbox.dpdk.org (Postfix) with ESMTP id 8D9E84660F for ; Wed, 30 Apr 2025 13:48:41 +0200 (CEST) Received: from mails.dpdk.org (localhost [127.0.0.1]) by mails.dpdk.org (Postfix) with ESMTP id 51ABE4028E; Wed, 30 Apr 2025 13:48:41 +0200 (CEST) Received: from mail-il1-f225.google.com (mail-il1-f225.google.com [209.85.166.225]) by mails.dpdk.org (Postfix) with ESMTP id EC9B440279 for ; Wed, 30 Apr 2025 13:48:39 +0200 (CEST) Received: by mail-il1-f225.google.com with SMTP id e9e14a558f8ab-3d46ef71b6cso67134865ab.3 for ; Wed, 30 Apr 2025 04:48:39 -0700 (PDT) DKIM-Signature: v=1; a=rsa-sha256; c=relaxed/relaxed; d=iol.unh.edu; s=unh-iol; t=1746013719; x=1746618519; darn=dpdk.org; h=cc:to:from:subject:message-id:date:from:to:cc:subject:date :message-id:reply-to; bh=HD7DRRyw+ZwOHNXf1zxir5rMs3ndLp0og+0v1us1XmE=; b=IEQw8nP0OOo1gjYRI9wRRkezOSyqCNL3ibe/CYl+8TGmg42rsK2iM8q/9mQ6gPn70N fsjXY+WQgqSeoDkHX/rsp6CeEzijsjwu2ZbZAPvkOaYEkXsP7BB9xTyPWHLveGlxz2tE IphjIRbRzeCMB1Q0KlP/RfXX59Na1j6aDsTG0= X-Google-DKIM-Signature: v=1; a=rsa-sha256; c=relaxed/relaxed; d=1e100.net; s=20230601; t=1746013719; x=1746618519; h=cc:to:from:subject:message-id:date:x-gm-message-state:from:to:cc :subject:date:message-id:reply-to; bh=HD7DRRyw+ZwOHNXf1zxir5rMs3ndLp0og+0v1us1XmE=; b=P502pgTw/6BgfiaJaWhq2d/jF6+4BQnJL6R+5L3qbYNq7tJgtjsshrWywFYo6ZIaU0 1bCdDWyXo10CFcNjcV1PQaaOuV/zTIjz2yLgJvNe0pOuXZF+w6Q4fN18LLnbabSKRtKo Y3WLZjBd5fv3Vse4G+3DrZ9T/XSlVe+HIgeGzF0Ub5O2whAVWmLBWN9yhR88ArEyvke9 pk0WXdngF4GDST4yOnktTTLbdcPjcTTA5mvzO+s79/1sKi1bHMojBpj16b8kVgAe25qD etUf8F24W3GpkV6Kl+Fk33C5ASarZVEI/OTR4+irCTa9U7tZeeRjpdt/w+Tt0iYE6YBN NJ5w== X-Gm-Message-State: AOJu0Yzxbd89v1HUejxwC97lYm3ocXjJ+dSqAEsuLzzQGna6DucLUzVS t1PBdbptG1jrBWBvTo5xzHO8BNSiz8WHC5542ty+dVyoF+x1rZ77dZiDfWhgTUrpre6Q3TdOP+W lWuO6lYDq3Qgr3kr1GWbTBFAF/8bGovuOc4IcRP37NUSqG1ov5//rnFJ2 X-Gm-Gg: ASbGncsFlTrVi3c7rmlMZCYkSR13YbSyjsBoum+e9biR1mNDQgGE0EnFhgZErB8qZd6 zPjfew25cZb2MANEi8p6e7VBWkS1g+M31atnVAUheZg5iEKupwNmfcfAFJamdVl5i/IgwcDP+as jPWZdgVaJsC71vwBrvAbcJRPsU7CpwKDli08+igP06r8mu9CDe3x5XB0gakbGGNOvo7AV2rs+h4 MQvvx/NKltoKo8VnnyUVa3etb3sa8/9mMqqCGegVqw9XAxZRGL59buzCQ/G5Co+/mtweprzK8ei mAILBDWKbKWv4KuWyOMEv7oMPCqgKjf9Fh9Lv3tfURnpCp5+ X-Google-Smtp-Source: AGHT+IEgyq+hmylsyteCWAR+tMAkzMrIF1TBfb/SDT/ShU8YLvH27LadARqoM6IqH/I6c2Zt95ufjq0HxHE1 X-Received: by 2002:a05:6e02:1d9c:b0:3d9:4172:eecf with SMTP id e9e14a558f8ab-3d9676b46d9mr30106585ab.3.1746013718928; Wed, 30 Apr 2025 04:48:38 -0700 (PDT) Received: from postal.iol.unh.edu (postal.iol.unh.edu. [2606:4100:3880:1234::84]) by smtp-relay.gmail.com with ESMTPS id e9e14a558f8ab-3d95f4d8b2fsm3259975ab.69.2025.04.30.04.48.38 (version=TLS1_2 cipher=ECDHE-ECDSA-AES128-GCM-SHA256 bits=128/128); Wed, 30 Apr 2025 04:48:38 -0700 (PDT) X-Relaying-Domain: iol.unh.edu Date: Wed, 30 Apr 2025 04:48:38 -0700 (PDT) Message-ID: <68120e16.920a0220.35ad7c.b40aSMTPIN_ADDED_MISSING@mx.google.com> Received: from [172.17.0.2] (unknown [172.18.0.76]) by postal.iol.unh.edu (Postfix) with ESMTP id 5DCCC6052471; Wed, 30 Apr 2025 07:48:38 -0400 (EDT) Subject: |SUCCESS| [GIT MASTER] ff05ee3e3f8fb4ce958a2ce6461e8141aea959c6 From: dpdklab@iol.unh.edu To: Test Report Cc: dpdk-test-reports@iol.unh.edu, Stephen Hemminger Content-Type: text/plain X-BeenThere: test-report@dpdk.org X-Mailman-Version: 2.1.29 Precedence: list List-Id: automatic DPDK test reports List-Unsubscribe: , List-Archive: List-Post: List-Help: List-Subscribe: , Errors-To: test-report-bounces@dpdk.org _Testing PASS_ Branch: dpdk-next-net ff05ee3e3f8fb4ce958a2ce6461e8141aea959c6 --> testing pass Upstream job id: Generic-DPDK-Compile-Meson#384052 Test environment and result as below: +----------------------------------------+--------------------+ | Environment | dpdk_meson_compile | +========================================+====================+ | RHEL9 (ARM) | PASS | +----------------------------------------+--------------------+ | Ubuntu 20.04 ARM GCC Cross Compile | PASS | +----------------------------------------+--------------------+ | Ubuntu 20.04 ARM SVE | PASS | +----------------------------------------+--------------------+ | Debian 12 with MUSDK | PASS | +----------------------------------------+--------------------+ | Fedora 40 (ARM) | PASS | +----------------------------------------+--------------------+ | Fedora 40 (ARM Clang) | PASS | +----------------------------------------+--------------------+ | Fedora 41 (ARM) | PASS | +----------------------------------------+--------------------+ | Fedora 41 (ARM Clang) | PASS | +----------------------------------------+--------------------+ | Ubuntu 20.04 (ARM) | PASS | +----------------------------------------+--------------------+ | Ubuntu 22.04 (ARM) | PASS | +----------------------------------------+--------------------+ | Ubuntu 24.04 (ARM) | PASS | +----------------------------------------+--------------------+ | CentOS Stream 9 (ARM) | PASS | +----------------------------------------+--------------------+ | CentOS Stream 10 (ARM) | PASS | +----------------------------------------+--------------------+ | Debian 12 (arm) | PASS | +----------------------------------------+--------------------+ | Ubuntu 20.04 ARM Clang Cross Compile | PASS | +----------------------------------------+--------------------+ | Ubuntu 20.04 aarch32 GCC Cross Compile | PASS | +----------------------------------------+--------------------+ RHEL9 (ARM) Kernel: Depends on container host Compiler: gcc 11.5.0 20240719 (Red Hat 11.5.0-2) Ubuntu 20.04 ARM GCC Cross Compile Kernel: Depends on container host Compiler: aarch64-linux-gnu-gcc (Ubuntu 9.4.0-1ubuntu1~20.04.2) 9.4.0 Ubuntu 20.04 ARM SVE Kernel: Depends on container host Compiler: gcc (Ubuntu 10.5.0-1ubuntu1~20.04) 10.5.0 Debian 12 with MUSDK Kernel: Depends on container host Compiler: gcc (Debian 12.2.0-14) 12.2.0 Fedora 40 (ARM) Kernel: Depends on container host Compiler: gcc 14.2.1 20240912 (Red Hat 14.2.1-3) Fedora 40 (ARM Clang) Kernel: Depends on container host Compiler: clang 18.1.8 (Fedora 18.1.8-1.fc40) Fedora 41 (ARM) Kernel: Depends on container host Compiler: gcc 14.2.1 20240912 (Red Hat 14.2.1-3) Fedora 41 (ARM Clang) Kernel: Depends on container host Compiler: clang 19.1.5 (Fedora 19.1.5-1.fc41) Ubuntu 20.04 (ARM) Kernel: Depends on container host Compiler: gcc (Ubuntu 9.4.0-1ubuntu1~20.04.2) 9.4.0 Ubuntu 22.04 (ARM) Kernel: Depends on container host Compiler: gcc (Ubuntu 11.4.0-1ubuntu1~22.04) 11.4.0 Ubuntu 24.04 (ARM) Kernel: Depends on container host Compiler: gcc (Ubuntu 13.3.0-6ubuntu2~24.04) 13.3.0 CentOS Stream 9 (ARM) Kernel: Depends on container host Compiler: gcc 11.5.0 20240719 (Red Hat 11.5.0-2) CentOS Stream 10 (ARM) Kernel: Depends on container host Compiler: gcc 14.2.1 20241104 (Red Hat 14.2.1-6) Debian 12 (arm) Kernel: Depends on container host Compiler: gcc (Debian 12.2.0-14) 12.2.0 Ubuntu 20.04 ARM Clang Cross Compile Kernel: Depends on container host Compiler: clang 10.0.0-4ubuntu1 Ubuntu 20.04 aarch32 GCC Cross Compile Kernel: Depends on container host Compiler: gcc 9.4.0 To view detailed results, visit: https://lab.dpdk.org/results/dashboard/tarballs/33397/ UNH-IOL DPDK Community Lab To manage your email subscriptions, visit: https://lab.dpdk.org/results/dashboard/preferences/subscriptions/