From mboxrd@z Thu Jan 1 00:00:00 1970 Return-Path: Received: from mails.dpdk.org (mails.dpdk.org [217.70.189.124]) by inbox.dpdk.org (Postfix) with ESMTP id 7BD1546669 for ; Wed, 30 Apr 2025 14:32:54 +0200 (CEST) Received: from mails.dpdk.org (localhost [127.0.0.1]) by mails.dpdk.org (Postfix) with ESMTP id 779B34028C; Wed, 30 Apr 2025 14:32:54 +0200 (CEST) Received: from mail-pg1-f225.google.com (mail-pg1-f225.google.com [209.85.215.225]) by mails.dpdk.org (Postfix) with ESMTP id 28CA540279 for ; Wed, 30 Apr 2025 14:32:53 +0200 (CEST) Received: by mail-pg1-f225.google.com with SMTP id 41be03b00d2f7-7fd581c2bf4so5768374a12.3 for ; Wed, 30 Apr 2025 05:32:53 -0700 (PDT) DKIM-Signature: v=1; a=rsa-sha256; c=relaxed/relaxed; d=iol.unh.edu; s=unh-iol; t=1746016372; x=1746621172; darn=dpdk.org; h=references:in-reply-to:cc:to:from:subject:message-id:date:from:to :cc:subject:date:message-id:reply-to; bh=n6n8HtE4CR4LawdVOAuxu2VcJXfx45u2TIS9DcUsHlQ=; b=hubToqzr7rzvS//6A8BKHU9r7tcXzIHAb+PnAQy1OEl+E1nU9ylyhwqIyRHZA6TAWz ZSabLFK+N+U63vKzeMSOrnZ0V6cYh2bynwPFJeh/YSXYTnlGKaC6sSl7wM39YqUubf19 1KefXZFbElyBkCNRUdcUIeJVAxlr4oE0DBvYY= X-Google-DKIM-Signature: v=1; a=rsa-sha256; c=relaxed/relaxed; d=1e100.net; s=20230601; t=1746016372; x=1746621172; h=references:in-reply-to:cc:to:from:subject:message-id:date :x-gm-message-state:from:to:cc:subject:date:message-id:reply-to; bh=n6n8HtE4CR4LawdVOAuxu2VcJXfx45u2TIS9DcUsHlQ=; b=B0od9Z+wug0RZwvtQo1nE6U5XH/Oo/B0XGr87mr4W5hREhkb3LofcbjH37sTBy4I/E tQQfwBnjURCUIYFx0a9Y5jioCaBGvQN7KG2V1PSOj08PVymdxCjnUMjva6R1/y+cxYma 3rYnClV1Cd6khVJkQenP2XWb65pW+8OL1e8Tw4c14Pm3AwY1skC/tPFS4W48muF9sXF0 JEzHP0YTvipQKyKwjzmX8chwV5Ww++WRkF45Cqe1P23o/rV6KPw1LwNCkelxmXPjamav VT2vg7//D8BgpSkDJQhV/PvyyHAgCGB/F3GByrg8H16tHW0EvheZFs8/KPflj2I5zZfs b8Iw== X-Gm-Message-State: AOJu0YztswpifzUWk+MhJei6D3PpVPvkppiMO6qIYk0TGr7MUTTTjKW1 38oRsh9Tkjw0qcBPFO7hqsRYEHIEiEvcXO2s12uugehtTSG6fFXbHN6NnEepKSzCy90lsoUjMWu tEh/h8Xo7MUAkyDTGju7XmsFzvR52AUHrCnOWymmtozGhcD6nKLpFJ24T X-Gm-Gg: ASbGnctj4OjnwK7LcDDeM+ASf6mCqIOY0Vt2EjB5BYQwFmx4q9TtdnjF2Ja2Qv0AE3a BLRLaBNakrS7uSdQCPUEFIOWC+L9YSSz79q6me6AiH9XpzKjGD1Asf8ZMS1mXBgoo0xowWJc/Fa 1wmnaDe5473RF09kQ5VoipCUoc838iAsLd9yVJyRE4wUqXlsTJ8IweXQ2WrO0R3C5X/HE9aMQlq x8P082lyjMHejN7MBq4g+E7IChNh6buHhnMFhq+SR9ioTkWGZL0Rw9VTBeLZaszBNKpEMmKCz0z 6ZUf7xXkzaqJSafWyzHy5DKWd+3GeeMiFqI2InUgpRmws5Fc X-Google-Smtp-Source: AGHT+IE+5cYjEJQ9jinTwDc4SMvCX6/NeBCdC1nuxrDotyuhDx+WwshpLf6TQIyEjLZrZwYmsMeIWwucUjRk X-Received: by 2002:a17:90b:17cd:b0:2ee:cded:9ac7 with SMTP id 98e67ed59e1d1-30a3331ee0bmr3939549a91.20.1746016372359; Wed, 30 Apr 2025 05:32:52 -0700 (PDT) Received: from postal.iol.unh.edu (postal.iol.unh.edu. [2606:4100:3880:1234::84]) by smtp-relay.gmail.com with ESMTPS id 98e67ed59e1d1-30a3478095csm81644a91.7.2025.04.30.05.32.52 (version=TLS1_2 cipher=ECDHE-ECDSA-AES128-GCM-SHA256 bits=128/128); Wed, 30 Apr 2025 05:32:52 -0700 (PDT) X-Relaying-Domain: iol.unh.edu Date: Wed, 30 Apr 2025 05:32:52 -0700 (PDT) Message-ID: <68121874.170a0220.2adf38.4a60SMTPIN_ADDED_MISSING@mx.google.com> Received: from [172.21.0.6] (unknown [172.18.0.240]) by postal.iol.unh.edu (Postfix) with ESMTP id 7F7566052471; Wed, 30 Apr 2025 08:32:51 -0400 (EDT) Subject: |SUCCESS| pw153191-153192 [PATCH] [v3,2/2] drivers: add support for From: dpdklab@iol.unh.edu To: Test Report Cc: dpdk-test-reports@iol.unh.edu In-Reply-To: <20250430091051.789240-2-kirankumark@marvell.com> References: <20250430091051.789240-2-kirankumark@marvell.com> Content-Type: text/plain X-BeenThere: test-report@dpdk.org X-Mailman-Version: 2.1.29 Precedence: list List-Id: automatic DPDK test reports List-Unsubscribe: , List-Archive: List-Post: List-Help: List-Subscribe: , Errors-To: test-report-bounces@dpdk.org Test-Label: iol-unit-amd64-testing Test-Status: SUCCESS http://dpdk.org/patch/153192 _Testing PASS_ Submitter: Kiran Kumar Kokkilagadda Date: Wednesday, April 30 2025 09:10:51 DPDK git baseline: Repo:dpdk Branch: master CommitID:ff05ee3e3f8fb4ce958a2ce6461e8141aea959c6 153191-153192 --> testing pass Upstream job id: Generic-VM-Unit-Test-DPDK#28256 Test environment and result as below: +---------------------+----------------+ | Environment | dpdk_unit_test | +=====================+================+ | CentOS Stream 9 | PASS | +---------------------+----------------+ | CentOS Stream 10 | PASS | +---------------------+----------------+ | Fedora 40 | PASS | +---------------------+----------------+ | Debian 12 | PASS | +---------------------+----------------+ | Fedora 41 (Clang) | PASS | +---------------------+----------------+ | Fedora 41 | PASS | +---------------------+----------------+ | Fedora 40 (Clang) | PASS | +---------------------+----------------+ | RHEL8 | PASS | +---------------------+----------------+ | Ubuntu 22.04 | PASS | +---------------------+----------------+ | RHEL9 | PASS | +---------------------+----------------+ | Ubuntu 20.04 | PASS | +---------------------+----------------+ | Ubuntu 24.04 | PASS | +---------------------+----------------+ | Windows Server 2022 | PASS | +---------------------+----------------+ CentOS Stream 9 Kernel: Depends on container host Compiler: gcc 11.5.0 20240719 (Red Hat 11.5.0-2) CentOS Stream 10 Kernel: Depends on container host Compiler: gcc 14.2.1 20241104 (Red Hat 14.2.1-6) Fedora 40 Kernel: Depends on container host Compiler: gcc 14.2.1 20240912 (Red Hat 14.2.1-3) Debian 12 Kernel: Depends on container host Compiler: gcc (Debian 12.2.0-14) 12.2.0 Fedora 41 (Clang) Kernel: Depends on container host Compiler: clang 19.1.5 (Fedora 19.1.5-1.fc41) Fedora 41 Kernel: Depends on container host Compiler: gcc 14.2.1 20240912 (Red Hat 14.2.1-3) Fedora 40 (Clang) Kernel: Depends on container host Compiler: clang 18.1.8 (Fedora 18.1.8-1.fc40) RHEL8 Kernel: Depends on container host Compiler: gcc 8.5.0 20210514 (Red Hat 8.5.0-22) Ubuntu 22.04 Kernel: Depends on container host Compiler: gcc (Ubuntu 11.4.0-1ubuntu1~22.04) 11.4.0 RHEL9 Kernel: Depends on container host Compiler: gcc 11.5.0 20240719 (Red Hat 11.5.0-2) Ubuntu 20.04 Kernel: Depends on container host Compiler: gcc (Ubuntu 9.4.0-1ubuntu1~20.04.2) 9.4.0 Ubuntu 24.04 Kernel: Depends on container host Compiler: gcc (Ubuntu 13.3.0-6ubuntu2~24.04) 13.3.0 Windows Server 2022 Kernel: 10.0.20348.2031 Compiler: clang 15.0.7, gcc 14.1.0 (MinGW), and MSVC VS 19.39.33521 To view detailed results, visit: https://lab.dpdk.org/results/dashboard/patchsets/33090/ UNH-IOL DPDK Community Lab To manage your email subscriptions, visit: https://lab.dpdk.org/results/dashboard/preferences/subscriptions/