From mboxrd@z Thu Jan 1 00:00:00 1970 Return-Path: Received: from mails.dpdk.org (mails.dpdk.org [217.70.189.124]) by inbox.dpdk.org (Postfix) with ESMTP id DD8BD46669 for ; Wed, 30 Apr 2025 14:35:46 +0200 (CEST) Received: from mails.dpdk.org (localhost [127.0.0.1]) by mails.dpdk.org (Postfix) with ESMTP id CCC644028C; Wed, 30 Apr 2025 14:35:46 +0200 (CEST) Received: from mail-yw1-f226.google.com (mail-yw1-f226.google.com [209.85.128.226]) by mails.dpdk.org (Postfix) with ESMTP id 2D5C940279 for ; Wed, 30 Apr 2025 14:35:45 +0200 (CEST) Received: by mail-yw1-f226.google.com with SMTP id 00721157ae682-7082e46880eso63928957b3.1 for ; Wed, 30 Apr 2025 05:35:45 -0700 (PDT) DKIM-Signature: v=1; a=rsa-sha256; c=relaxed/relaxed; d=iol.unh.edu; s=unh-iol; t=1746016544; x=1746621344; darn=dpdk.org; h=references:in-reply-to:cc:to:from:subject:message-id:date:from:to :cc:subject:date:message-id:reply-to; bh=m+oy4IQ+4i1BAc3CdnFlN60WKVyb+HA+bpjsKrt7iJY=; b=Jq5ybV7YjkfYDykAjGO445TXMHN/k6btwg9V3lrmK7JjYTYVhcYqaWr1npv97LHRj6 kMAHaDzCZaq8xV2nVzR+bT68x/SUFHwg8rWPzcVPGZ/v926wFVM5+ZjDd2eAl9z23XiA rbvoxJY39mm8t6zP2NJU1CVjFsnWurxqm5kNg= X-Google-DKIM-Signature: v=1; a=rsa-sha256; c=relaxed/relaxed; d=1e100.net; s=20230601; t=1746016544; x=1746621344; h=references:in-reply-to:cc:to:from:subject:message-id:date :x-gm-message-state:from:to:cc:subject:date:message-id:reply-to; bh=m+oy4IQ+4i1BAc3CdnFlN60WKVyb+HA+bpjsKrt7iJY=; b=p4vishyqzFxMeNaASvoZ3CYLn+r8jZrbLeSsVtbBb5ZqdIJnoY/JnhGuwZYZ82Aojl xCMTFW3mBwXMpuFejX11Jg8n7Srka3E/FmKCjw8f5EkhQLfiR0vHv9KJiKTdfiR8lXpY Nx7fMkR1dNRl771gRFYFcCB7h1xoniJ7yYNsramqOqdpMvbUjyxikuzB2TFhFN1z3nNh 6eED0Ow1OL/BM+jmeU5vQpmXe7lQ9doGc3KSljBxjDmIxwS8+T1P3lk8KTcVp+jXabK8 m8pMaoARNFOyOunmSy/GsegVPB+DYKLfII/T+jN1EurJX+MycHMOtRNxRun5Wp/srks6 zHxw== X-Gm-Message-State: AOJu0Yw+Ds6wH1skYi5fDWU2n7FtOx2trv5ZX/Jr+s7i1iLpoIQZH4j2 4aejr42RQf337Gk1hsQGvjS5ev8j4e7ZXZg0aFHx/6UA3vtnGWI+Wyyag58WTPv9hAqAFY59ro9 O1ebbSPawpgThEKbxfBzPqYacmrX9IVct15LGodtd X-Gm-Gg: ASbGncvjW7xaKBh8To37+iKPas+X0ZvuXVTmYtO8kE4DqQ1ggnsd6LJKmY7YqgMUTN/ u1bxZ/5/DYh2/bBqxg8q6rWhwbUTUUraq8jfGJrS68roylkRtdHwYdR34Ux3tmUde1HQobs5UXi 17Rt+QXVqxlccL7KMbgUCVbkcGHhJ0ICJPzul2eK7YDFt2bTAW+QhVMKgchuMJ0hcvezO2Ezp8Y D9mcr0NsCEhfwTPUolxNct6BPpawwPhrthJSqA73hrUO0vL/nB9nPSb0msZlBbhH/DPIjiHVE9O MTbmtpdvBGovEwRP+H165yGwRx8S9zS7zXwu X-Google-Smtp-Source: AGHT+IERisvtrPw/xjjRMLRgdMfXuH4S8n9k+WMPMSv/TpbwIbgQHSzGlkYVLTkzm4tW/vsykiALoa1tUOPa X-Received: by 2002:a05:690c:f14:b0:6fe:bfb9:549c with SMTP id 00721157ae682-708abd53bc6mr44805887b3.1.1746016544457; Wed, 30 Apr 2025 05:35:44 -0700 (PDT) Received: from postal.iol.unh.edu (postal.iol.unh.edu. [132.177.123.84]) by smtp-relay.gmail.com with ESMTPS id 00721157ae682-708ae00d7efsm581557b3.25.2025.04.30.05.35.44 (version=TLS1_2 cipher=ECDHE-ECDSA-AES128-GCM-SHA256 bits=128/128); Wed, 30 Apr 2025 05:35:44 -0700 (PDT) X-Relaying-Domain: iol.unh.edu Date: Wed, 30 Apr 2025 05:35:44 -0700 (PDT) Message-ID: <68121920.050a0220.11a4dc.2fe1SMTPIN_ADDED_MISSING@mx.google.com> Received: from [172.17.0.3] (unknown [172.18.0.76]) by postal.iol.unh.edu (Postfix) with ESMTP id 120866052471; Wed, 30 Apr 2025 08:35:44 -0400 (EDT) Subject: |SUCCESS| pw153191-153192 [PATCH] [v3,2/2] drivers: add support for From: dpdklab@iol.unh.edu To: Test Report Cc: dpdk-test-reports@iol.unh.edu In-Reply-To: <20250430091051.789240-2-kirankumark@marvell.com> References: <20250430091051.789240-2-kirankumark@marvell.com> Content-Type: text/plain X-BeenThere: test-report@dpdk.org X-Mailman-Version: 2.1.29 Precedence: list List-Id: automatic DPDK test reports List-Unsubscribe: , List-Archive: List-Post: List-Help: List-Subscribe: , Errors-To: test-report-bounces@dpdk.org Test-Label: iol-unit-arm64-testing Test-Status: SUCCESS http://dpdk.org/patch/153192 _Testing PASS_ Submitter: Kiran Kumar Kokkilagadda Date: Wednesday, April 30 2025 09:10:51 DPDK git baseline: Repo:dpdk Branch: master CommitID:ff05ee3e3f8fb4ce958a2ce6461e8141aea959c6 153191-153192 --> testing pass Upstream job id: Generic-Unit-Test-DPDK#334499 Test environment and result as below: +-----------------------------+--------------+---------------------------+----------------+------------------------------+ | Environment | lpm_autotest | cryptodev_sw_zuc_autotest | dpdk_unit_test | cryptodev_sw_snow3g_autotest | +=============================+==============+===========================+================+==============================+ | Ubuntu 20.04 ARM SVE | PASS | SKIPPED | SKIPPED | SKIPPED | +-----------------------------+--------------+---------------------------+----------------+------------------------------+ | Debian 12 (arm) | SKIPPED | PASS | PASS | PASS | +-----------------------------+--------------+---------------------------+----------------+------------------------------+ | CentOS Stream 9 (ARM) | SKIPPED | SKIPPED | PASS | SKIPPED | +-----------------------------+--------------+---------------------------+----------------+------------------------------+ | Fedora 40 (ARM) | SKIPPED | SKIPPED | PASS | SKIPPED | +-----------------------------+--------------+---------------------------+----------------+------------------------------+ | CentOS Stream 10 (ARM) | SKIPPED | SKIPPED | PASS | SKIPPED | +-----------------------------+--------------+---------------------------+----------------+------------------------------+ | Fedora 41 (ARM) | SKIPPED | SKIPPED | PASS | SKIPPED | +-----------------------------+--------------+---------------------------+----------------+------------------------------+ | Fedora 40 (ARM Clang) | SKIPPED | SKIPPED | PASS | SKIPPED | +-----------------------------+--------------+---------------------------+----------------+------------------------------+ | Fedora 41 (ARM Clang) | SKIPPED | SKIPPED | PASS | SKIPPED | +-----------------------------+--------------+---------------------------+----------------+------------------------------+ | Ubuntu 20.04 (ARM) | SKIPPED | SKIPPED | PASS | SKIPPED | +-----------------------------+--------------+---------------------------+----------------+------------------------------+ | RHEL9 (ARM) | SKIPPED | SKIPPED | PASS | SKIPPED | +-----------------------------+--------------+---------------------------+----------------+------------------------------+ | Ubuntu 22.04 (ARM) | SKIPPED | SKIPPED | PASS | SKIPPED | +-----------------------------+--------------+---------------------------+----------------+------------------------------+ | Ubuntu 24.04 (ARM) | SKIPPED | SKIPPED | PASS | SKIPPED | +-----------------------------+--------------+---------------------------+----------------+------------------------------+ | 32-bit Ubuntu 22.04.4 (ARM) | SKIPPED | SKIPPED | PASS | SKIPPED | +-----------------------------+--------------+---------------------------+----------------+------------------------------+ Ubuntu 20.04 ARM SVE Kernel: Depends on container host Compiler: gcc (Ubuntu 10.5.0-1ubuntu1~20.04) 10.5.0 Debian 12 (arm) Kernel: Depends on container host Compiler: gcc (Debian 12.2.0-14) 12.2.0 CentOS Stream 9 (ARM) Kernel: Depends on container host Compiler: gcc 11.5.0 20240719 (Red Hat 11.5.0-2) Fedora 40 (ARM) Kernel: Depends on container host Compiler: gcc 14.2.1 20240912 (Red Hat 14.2.1-3) CentOS Stream 10 (ARM) Kernel: Depends on container host Compiler: gcc 14.2.1 20241104 (Red Hat 14.2.1-6) Fedora 41 (ARM) Kernel: Depends on container host Compiler: gcc 14.2.1 20240912 (Red Hat 14.2.1-3) Fedora 40 (ARM Clang) Kernel: Depends on container host Compiler: clang 18.1.8 (Fedora 18.1.8-1.fc40) Fedora 41 (ARM Clang) Kernel: Depends on container host Compiler: clang 19.1.5 (Fedora 19.1.5-1.fc41) Ubuntu 20.04 (ARM) Kernel: Depends on container host Compiler: gcc (Ubuntu 9.4.0-1ubuntu1~20.04.2) 9.4.0 RHEL9 (ARM) Kernel: Depends on container host Compiler: gcc 11.5.0 20240719 (Red Hat 11.5.0-2) Ubuntu 22.04 (ARM) Kernel: Depends on container host Compiler: gcc (Ubuntu 11.4.0-1ubuntu1~22.04) 11.4.0 Ubuntu 24.04 (ARM) Kernel: Depends on container host Compiler: gcc (Ubuntu 13.3.0-6ubuntu2~24.04) 13.3.0 32-bit Ubuntu 22.04.4 (ARM) Kernel: 5.15.83+ aarch64 Compiler: gcc (Ubuntu 11.4.0-1ubuntu1~22.04) 11.4.0 To view detailed results, visit: https://lab.dpdk.org/results/dashboard/patchsets/33090/ UNH-IOL DPDK Community Lab To manage your email subscriptions, visit: https://lab.dpdk.org/results/dashboard/preferences/subscriptions/