From mboxrd@z Thu Jan 1 00:00:00 1970 Return-Path: Received: from mails.dpdk.org (mails.dpdk.org [217.70.189.124]) by inbox.dpdk.org (Postfix) with ESMTP id EC27F46669 for ; Wed, 30 Apr 2025 14:45:57 +0200 (CEST) Received: from mails.dpdk.org (localhost [127.0.0.1]) by mails.dpdk.org (Postfix) with ESMTP id E410940280; Wed, 30 Apr 2025 14:45:57 +0200 (CEST) Received: from mail-io1-f97.google.com (mail-io1-f97.google.com [209.85.166.97]) by mails.dpdk.org (Postfix) with ESMTP id 69C7B40279 for ; Wed, 30 Apr 2025 14:45:56 +0200 (CEST) Received: by mail-io1-f97.google.com with SMTP id ca18e2360f4ac-85dac9729c3so681287039f.2 for ; Wed, 30 Apr 2025 05:45:56 -0700 (PDT) DKIM-Signature: v=1; a=rsa-sha256; c=relaxed/relaxed; d=iol.unh.edu; s=unh-iol; t=1746017156; x=1746621956; darn=dpdk.org; h=references:in-reply-to:cc:to:from:subject:message-id:date:from:to :cc:subject:date:message-id:reply-to; bh=q7Q0V4JL7M6iN+Cf3HDIL+uUk0RlzivcFHbD/6qJH8w=; b=NDID5Ge6WD7gHCfnX3Kj3a4jbd17U/654bHiqMCn33nfR9mdkOIWaY7sO7XvjAIf0O 5mlAS/2gUZgeX6EIMYveF9nHfVcpuZBPhYmxDhQYjpkLOvDXhUC8eVJjz8N57cEw7lQ/ D2XgLS2LwgTmzLWD/sSVmOYPgul//sR9nXFuM= X-Google-DKIM-Signature: v=1; a=rsa-sha256; c=relaxed/relaxed; d=1e100.net; s=20230601; t=1746017156; x=1746621956; h=references:in-reply-to:cc:to:from:subject:message-id:date :x-gm-message-state:from:to:cc:subject:date:message-id:reply-to; bh=q7Q0V4JL7M6iN+Cf3HDIL+uUk0RlzivcFHbD/6qJH8w=; b=naV66ebdTskekMJz3Emv4s8BGPdovZ5KfYH4Dc17iecvKZ6snx0QDhju9PeCxcGIh/ +Lkc/v4nJ/Bi/4GBHEz1DpZyEOGCMaMFZyh19qEZe8dVOMyTHWCKn7tAWDEd9ELd0Iaq uVmiTXcRnqIghHIELe02u3SNWM9YlOpSak5IUMnwBubnQKtD+fggVQN5/n1QTpefmdTg oVl1tRxKd18/QfR6uDGfDuQKIBYygt91RXtJrASyBE7sLhFpK9Gxg8nGC7j2Xz1Ka1KB iTgkwJo/afC1acLzAhyeTm181XtNpxaFlbPbNodoTz1uyN0FXcSx77ySE4RngD+dWEPx jx/A== X-Gm-Message-State: AOJu0YxIye5+/sPb1YabpogqSpdm9+mp0spyZ7DG77JslNR2TDQaoa3f LzLsVM1uPhHtImDOZFT3hYBUtLc6EWOp+zb2S0S1Y2dvap4lESUMon+14PIzAZIgZAkcOTHqqOn cVAHYI78bIOM9Apt5DW33pUW2yvKetRyvLGlakiLx X-Gm-Gg: ASbGnctzaP2Lxa25CsbpibTBFzE8S4lL55+DOyda/22b17iv02LwEOcOxPeRJzGjpMW GD+EvEk2/Q/kGzt4sj0ngZi1dJ28xDrs6jDUc+j7sddhfIcBR8sCBu9oh4nNryQmSe3o/8LPd1e zUwobXf63x5Ck3bBP6OVh5ApruNNZ4z0YW8Qoe4FOq/k06eK6I09P1uNEitsmyOLevRDtOmHVw5 f9QxQbacVh7xtePgbCXtW1cdGrOjk0jBIXadY8+hxflUyS/u0udREQhEdXWZTQ3baf9cbvBHEwa J23TCvBL/3lXw1KUIZuM2RmV61EKM8EDlWcA X-Google-Smtp-Source: AGHT+IEEnAUx1mWkCwX0nNUkp+Sjk/0Xb+852QzzlJueAyPtxcFFS+hnS72GycS0k9SmEiN6St+HRJBJx8LA X-Received: by 2002:a05:6602:3a8c:b0:864:488e:a581 with SMTP id ca18e2360f4ac-86495e4a756mr468128339f.4.1746017155789; Wed, 30 Apr 2025 05:45:55 -0700 (PDT) Received: from postal.iol.unh.edu (postal.iol.unh.edu. [132.177.123.84]) by smtp-relay.gmail.com with ESMTPS id ca18e2360f4ac-8648c1ed8afsm24613739f.28.2025.04.30.05.45.55 (version=TLS1_2 cipher=ECDHE-ECDSA-AES128-GCM-SHA256 bits=128/128); Wed, 30 Apr 2025 05:45:55 -0700 (PDT) X-Relaying-Domain: iol.unh.edu Date: Wed, 30 Apr 2025 05:45:55 -0700 (PDT) Message-ID: <68121b83.050a0220.309226.7db6SMTPIN_ADDED_MISSING@mx.google.com> Received: from [172.17.0.5] (unknown [172.18.0.74]) by postal.iol.unh.edu (Postfix) with ESMTP id 3FF836052471; Wed, 30 Apr 2025 08:45:55 -0400 (EDT) Subject: |SUCCESS| pw153191-153192 [PATCH] [v3,2/2] drivers: add support for From: dpdklab@iol.unh.edu To: Test Report Cc: dpdk-test-reports@iol.unh.edu In-Reply-To: <20250430091051.789240-2-kirankumark@marvell.com> References: <20250430091051.789240-2-kirankumark@marvell.com> Content-Type: text/plain X-BeenThere: test-report@dpdk.org X-Mailman-Version: 2.1.29 Precedence: list List-Id: automatic DPDK test reports List-Unsubscribe: , List-Archive: List-Post: List-Help: List-Subscribe: , Errors-To: test-report-bounces@dpdk.org Test-Label: iol-sample-apps-testing Test-Status: SUCCESS http://dpdk.org/patch/153192 _Testing PASS_ Submitter: Kiran Kumar Kokkilagadda Date: Wednesday, April 30 2025 09:10:51 DPDK git baseline: Repo:dpdk Branch: master CommitID:ff05ee3e3f8fb4ce958a2ce6461e8141aea959c6 153191-153192 --> testing pass Upstream job id: ACVP-FIPS-testing#9678 Test environment and result as below: +--------------------+----------------------+----------------------+ | Environment | compressdev_zlib_pmd | dpdk_fips_validation | +====================+======================+======================+ | Ubuntu 22.04 (ARM) | PASS | SKIPPED | +--------------------+----------------------+----------------------+ | Ubuntu 22.04 | PASS | SKIPPED | +--------------------+----------------------+----------------------+ | Ubuntu 20.04 | SKIPPED | PASS | +--------------------+----------------------+----------------------+ Ubuntu 22.04 (ARM) Kernel: 5.15.0-97-generic Compiler: gcc gcc (Ubuntu 11.4.0-1ubuntu1~22.04) 11.4.0 Ubuntu 22.04 Kernel: 5.15.0-100-generic Compiler: gcc gcc (Ubuntu 11.4.0-1ubuntu1~22.04) 11.4.0 Ubuntu 20.04 Kernel: Depends on container host Compiler: gcc (Ubuntu 9.4.0-1ubuntu1~20.04.2) 9.4.0 To view detailed results, visit: https://lab.dpdk.org/results/dashboard/patchsets/33090/ UNH-IOL DPDK Community Lab To manage your email subscriptions, visit: https://lab.dpdk.org/results/dashboard/preferences/subscriptions/