From mboxrd@z Thu Jan 1 00:00:00 1970 Return-Path: Received: from mails.dpdk.org (mails.dpdk.org [217.70.189.124]) by inbox.dpdk.org (Postfix) with ESMTP id 2224846669 for ; Wed, 30 Apr 2025 15:10:06 +0200 (CEST) Received: from mails.dpdk.org (localhost [127.0.0.1]) by mails.dpdk.org (Postfix) with ESMTP id F031C40280; Wed, 30 Apr 2025 15:10:05 +0200 (CEST) Received: from mail-io1-f100.google.com (mail-io1-f100.google.com [209.85.166.100]) by mails.dpdk.org (Postfix) with ESMTP id 2D57C40279 for ; Wed, 30 Apr 2025 15:10:04 +0200 (CEST) Received: by mail-io1-f100.google.com with SMTP id ca18e2360f4ac-85b3f92c866so149276239f.3 for ; Wed, 30 Apr 2025 06:10:04 -0700 (PDT) DKIM-Signature: v=1; a=rsa-sha256; c=relaxed/relaxed; d=iol.unh.edu; s=unh-iol; t=1746018603; x=1746623403; darn=dpdk.org; h=references:in-reply-to:cc:to:from:subject:message-id:date:from:to :cc:subject:date:message-id:reply-to; bh=LFARhDr/e2SrzNYXmAW1KGKsZgYudjtRU9MC1pZP+CA=; b=NYeRAlGVG29xksrgoHS6iVdYezAsBqr9P+x+1/QDIZqMI4KPeIamvtZD7y+/SayCYi BofkCmmcVdSHnezKE7kfFJPFwTXBEBSNS9LDoozMNDdV+Y3htQP1yLkCAapo1mBN9Pk9 pG6L2chZtlWk5o0V5hkMdIcsV3PoIy0xnwe2o= X-Google-DKIM-Signature: v=1; a=rsa-sha256; c=relaxed/relaxed; d=1e100.net; s=20230601; t=1746018603; x=1746623403; h=references:in-reply-to:cc:to:from:subject:message-id:date :x-gm-message-state:from:to:cc:subject:date:message-id:reply-to; bh=LFARhDr/e2SrzNYXmAW1KGKsZgYudjtRU9MC1pZP+CA=; b=Lz8oJTNqKkuuQkYfrAZFpnIvK9qds39ZqWpKmV3nPqzY9HjPS50/fj1xo/tRmt4VOz SzOdxZa/YjQU2/SncoJLaJ49A2q/8nOQamvANl1EJGq6DA7tZCM95O3vXw9rhTNOVpV5 Re1sVLXUnNnBIPIinb5gAv6zmdqdrXLIW46/BHLZVKCr/tMwjvtZedI9zJdQ3UTu0ASL cHrTzrkFiXV32qPYBOn6L1UfUNsq43l/1Vtjz0/Q1yLXuiFWFq5ZI8URg2I0oNldeU2d Sss2jEAKtZu4En6KzVHFMvDr6iU2yQUH3d8bIJn7qdesGs+p1NF6qF4z7QOm0myMO7Of +bXQ== X-Gm-Message-State: AOJu0Yz00zOr2ZIL6h3VbXMFdB1gM1waAlqUbWrTLdHnFh1AeQd6TACh P3zRS4fcAwnmzCCbW/YqjBgYeU/2MXj9l+oLasc6BVaQUybzUobF9PqeF+Tc+uznV6lzLBMzEDf KVuPhwyDoMOeiT579CchURWeEZIj2f9DDcQ/duUaX X-Gm-Gg: ASbGncuRMJ/elLQzyQl+03ToI8DgLdrPlPcMP1ESzdUuNqJNaKlOXAomqmwnFJl4swS PFdF2MS23VCbEtMD0vjlBovu04UWAR4ZhNp1BNNtUAeyqQVjEe9B4P4Bm+BV4uoO81u/HtCq9/8 +8d+ofFNPilplEhenEs7XBDqRDwk/F0oaY0JDvzIY5TwvrZGnoEPM3neum45knBxebcr6iLO92U /toZBj19BYTzGXd94A2dawNirb+KYEo3zu/c9RljDeYCYRCvmcCN1PQjbf3eRjrhe21qlUmUe81 gPSzjVi1tLyEVnzEOLdcICmLG2D5hKipiKFY X-Google-Smtp-Source: AGHT+IGIg4DCEDNYqzFowsTWsKpt+WpMgmqi7c4ZzBZR3E7KrHGvUrepUbqwpL5UmVlWWzqotHM0hlbe0Tpk X-Received: by 2002:a05:6e02:349a:b0:3d4:36c3:7fe3 with SMTP id e9e14a558f8ab-3d967fad766mr23517045ab.9.1746018603413; Wed, 30 Apr 2025 06:10:03 -0700 (PDT) Received: from postal.iol.unh.edu (postal.iol.unh.edu. [132.177.123.84]) by smtp-relay.gmail.com with ESMTPS id 8926c6da1cb9f-4f862de3b85sm277239173.20.2025.04.30.06.10.03 (version=TLS1_2 cipher=ECDHE-ECDSA-AES128-GCM-SHA256 bits=128/128); Wed, 30 Apr 2025 06:10:03 -0700 (PDT) X-Relaying-Domain: iol.unh.edu Date: Wed, 30 Apr 2025 06:10:03 -0700 (PDT) Message-ID: <6812212b.050a0220.389cf8.9469SMTPIN_ADDED_MISSING@mx.google.com> Received: from [172.17.0.2] (unknown [172.18.0.74]) by postal.iol.unh.edu (Postfix) with ESMTP id E975B6052471; Wed, 30 Apr 2025 09:10:02 -0400 (EDT) Subject: |SUCCESS| pw153191-153192 [PATCH] [v3,2/2] drivers: add support for From: dpdklab@iol.unh.edu To: Test Report Cc: dpdk-test-reports@iol.unh.edu In-Reply-To: <20250430091051.789240-2-kirankumark@marvell.com> References: <20250430091051.789240-2-kirankumark@marvell.com> Content-Type: text/plain X-BeenThere: test-report@dpdk.org X-Mailman-Version: 2.1.29 Precedence: list List-Id: automatic DPDK test reports List-Unsubscribe: , List-Archive: List-Post: List-Help: List-Subscribe: , Errors-To: test-report-bounces@dpdk.org Test-Label: iol-compile-arm64-testing Test-Status: SUCCESS http://dpdk.org/patch/153192 _Testing PASS_ Submitter: Kiran Kumar Kokkilagadda Date: Wednesday, April 30 2025 09:10:51 DPDK git baseline: Repo:dpdk Branch: master CommitID:ff05ee3e3f8fb4ce958a2ce6461e8141aea959c6 153191-153192 --> testing pass Upstream job id: Generic-DPDK-Compile-Meson#384068 Test environment and result as below: +----------------------------------------+--------------------+ | Environment | dpdk_meson_compile | +========================================+====================+ | RHEL9 (ARM) | PASS | +----------------------------------------+--------------------+ | Ubuntu 20.04 ARM SVE | PASS | +----------------------------------------+--------------------+ | Ubuntu 20.04 ARM GCC Cross Compile | PASS | +----------------------------------------+--------------------+ | Debian 12 with MUSDK | PASS | +----------------------------------------+--------------------+ | Fedora 40 (ARM) | PASS | +----------------------------------------+--------------------+ | Fedora 40 (ARM Clang) | PASS | +----------------------------------------+--------------------+ | Fedora 41 (ARM) | PASS | +----------------------------------------+--------------------+ | Fedora 41 (ARM Clang) | PASS | +----------------------------------------+--------------------+ | Ubuntu 22.04 (ARM) | PASS | +----------------------------------------+--------------------+ | Ubuntu 24.04 (ARM) | PASS | +----------------------------------------+--------------------+ | CentOS Stream 9 (ARM) | PASS | +----------------------------------------+--------------------+ | CentOS Stream 10 (ARM) | PASS | +----------------------------------------+--------------------+ | Debian 12 (arm) | PASS | +----------------------------------------+--------------------+ | Ubuntu 20.04 ARM Clang Cross Compile | PASS | +----------------------------------------+--------------------+ | Ubuntu 20.04 aarch32 GCC Cross Compile | PASS | +----------------------------------------+--------------------+ | Ubuntu 20.04 (ARM) | PASS | +----------------------------------------+--------------------+ RHEL9 (ARM) Kernel: Depends on container host Compiler: gcc 11.5.0 20240719 (Red Hat 11.5.0-2) Ubuntu 20.04 ARM SVE Kernel: Depends on container host Compiler: gcc (Ubuntu 10.5.0-1ubuntu1~20.04) 10.5.0 Ubuntu 20.04 ARM GCC Cross Compile Kernel: Depends on container host Compiler: aarch64-linux-gnu-gcc (Ubuntu 9.4.0-1ubuntu1~20.04.2) 9.4.0 Debian 12 with MUSDK Kernel: Depends on container host Compiler: gcc (Debian 12.2.0-14) 12.2.0 Fedora 40 (ARM) Kernel: Depends on container host Compiler: gcc 14.2.1 20240912 (Red Hat 14.2.1-3) Fedora 40 (ARM Clang) Kernel: Depends on container host Compiler: clang 18.1.8 (Fedora 18.1.8-1.fc40) Fedora 41 (ARM) Kernel: Depends on container host Compiler: gcc 14.2.1 20240912 (Red Hat 14.2.1-3) Fedora 41 (ARM Clang) Kernel: Depends on container host Compiler: clang 19.1.5 (Fedora 19.1.5-1.fc41) Ubuntu 22.04 (ARM) Kernel: Depends on container host Compiler: gcc (Ubuntu 11.4.0-1ubuntu1~22.04) 11.4.0 Ubuntu 24.04 (ARM) Kernel: Depends on container host Compiler: gcc (Ubuntu 13.3.0-6ubuntu2~24.04) 13.3.0 CentOS Stream 9 (ARM) Kernel: Depends on container host Compiler: gcc 11.5.0 20240719 (Red Hat 11.5.0-2) CentOS Stream 10 (ARM) Kernel: Depends on container host Compiler: gcc 14.2.1 20241104 (Red Hat 14.2.1-6) Debian 12 (arm) Kernel: Depends on container host Compiler: gcc (Debian 12.2.0-14) 12.2.0 Ubuntu 20.04 ARM Clang Cross Compile Kernel: Depends on container host Compiler: clang 10.0.0-4ubuntu1 Ubuntu 20.04 aarch32 GCC Cross Compile Kernel: Depends on container host Compiler: gcc 9.4.0 Ubuntu 20.04 (ARM) Kernel: Depends on container host Compiler: gcc (Ubuntu 9.4.0-1ubuntu1~20.04.2) 9.4.0 To view detailed results, visit: https://lab.dpdk.org/results/dashboard/patchsets/33090/ UNH-IOL DPDK Community Lab To manage your email subscriptions, visit: https://lab.dpdk.org/results/dashboard/preferences/subscriptions/