From mboxrd@z Thu Jan 1 00:00:00 1970 Return-Path: Received: from mails.dpdk.org (mails.dpdk.org [217.70.189.124]) by inbox.dpdk.org (Postfix) with ESMTP id 560D946669 for ; Wed, 30 Apr 2025 15:11:55 +0200 (CEST) Received: from mails.dpdk.org (localhost [127.0.0.1]) by mails.dpdk.org (Postfix) with ESMTP id 2F30A40280; Wed, 30 Apr 2025 15:11:55 +0200 (CEST) Received: from mail-pl1-f228.google.com (mail-pl1-f228.google.com [209.85.214.228]) by mails.dpdk.org (Postfix) with ESMTP id EF8A640279 for ; Wed, 30 Apr 2025 15:11:53 +0200 (CEST) Received: by mail-pl1-f228.google.com with SMTP id d9443c01a7336-227d6b530d8so80218245ad.3 for ; Wed, 30 Apr 2025 06:11:53 -0700 (PDT) DKIM-Signature: v=1; a=rsa-sha256; c=relaxed/relaxed; d=iol.unh.edu; s=unh-iol; t=1746018713; x=1746623513; darn=dpdk.org; h=references:in-reply-to:cc:to:from:subject:message-id:date:from:to :cc:subject:date:message-id:reply-to; bh=beWDQ9DJ1f5Q1O3Z7mgti3jgHhy66P46V4UZnebAxTE=; b=RtVlKmFKMpCw0/+zBtVbgNyfST1N1RosoGQmMIjD2lcWq8q5F85inoB8jZSuCIQiOa vaetj1s7f8ddtyOKI5uZCHxYm75tdUtjIVkPD5KXC3wNebVrzVvox0lsZhfnjOSmsGdm AP+gC8mI5/pBzfvm5vFqLph9W4kRjHfPOXrIM= X-Google-DKIM-Signature: v=1; a=rsa-sha256; c=relaxed/relaxed; d=1e100.net; s=20230601; t=1746018713; x=1746623513; h=references:in-reply-to:cc:to:from:subject:message-id:date :x-gm-message-state:from:to:cc:subject:date:message-id:reply-to; bh=beWDQ9DJ1f5Q1O3Z7mgti3jgHhy66P46V4UZnebAxTE=; b=n3ohO+P5Cy6AOiZ/K2UWr5xGZFkimVScpwwWKlgt+ZxokFIgHlEZIzTdJ71/3w6rhf nfu69mrNoh+V/LrF64w4c38+rgL4BNrBha2R7mnA9ryrIsxHizThnJeMDXt9uu8yyYLt VFqkeC5pqeM7RFQGAaZC+JFikoJ8W7ORul0T2iNQ/Cu2ERHfiz0xhpDx700UkBC6pHHG NeGA8Ypo3ohLjH/rJhH8MuUF5zNTTFnee2LCOaGZbCmvBFYpr7WvkBvN9n/TncfdI9Yo zKVsh+b2C+nQq26XfuoYVf20Afmm4dWuVDdcgoFU/lk5SCk5tFP8qbrVzaNvFhJ2p60r AWdQ== X-Gm-Message-State: AOJu0YxB6h6GrOsVK7ZRG+9XUznlpLNE9NluNzg4XKSx23TE9dueACie ltJxGZxgQrspKEHxXD2uP16D7Hkz2wbDpzWGxSDXk3PCxkh/HKP5JgLZfCfiMIq/Oj4GLPF2xCB IkUoqQNTmO/45A7sCEB4GQfhV3M5+huQ+VdGWc2dI X-Gm-Gg: ASbGnctWLl00Not4v7SiwE2AYkrDsrL/C7/EhxgybYuScZOEr162stOGueS5ldqXoWo MhpdYzuRw1WilA1cENpuDtPPEQtWm+EnDi4iPhmsJwOklanJy7ixE6UkSNnruQ50On9hj7jF0uB Rn4zdvBB3eLgqPKU7G6Bdc6b+lGAEw/99idzEGVRjBNGJL1KpCnmiMyytYjEZAw1ig36kAD40nZ 2HhCyp96x9TClkSI3mImFPd2yh7FCLm3zc+SgNcDo6pv3ymrgMh88A0rRdgEZNXOwclUNqAGirv E7JOhYtpu1IZvh+AXrUOMKGLb5herEP7IdKY X-Google-Smtp-Source: AGHT+IF1UVmmZDZ1HvAsahJxgzXJzcvSTVUzGosj/SUhkKS5KWdnP4JUPxtUlSnIaMjc1UuDm5YFrtDxHSwG X-Received: by 2002:a17:903:24e:b0:224:910:23f6 with SMTP id d9443c01a7336-22df35ca98fmr43051835ad.45.1746018712937; Wed, 30 Apr 2025 06:11:52 -0700 (PDT) Received: from postal.iol.unh.edu (postal.iol.unh.edu. [132.177.123.84]) by smtp-relay.gmail.com with ESMTPS id d9443c01a7336-22db5216951sm15015825ad.105.2025.04.30.06.11.52 (version=TLS1_2 cipher=ECDHE-ECDSA-AES128-GCM-SHA256 bits=128/128); Wed, 30 Apr 2025 06:11:52 -0700 (PDT) X-Relaying-Domain: iol.unh.edu Date: Wed, 30 Apr 2025 06:11:52 -0700 (PDT) Message-ID: <68122198.170a0220.c9c63.2b46SMTPIN_ADDED_MISSING@mx.google.com> Received: from [172.17.0.3] (unknown [172.18.0.74]) by postal.iol.unh.edu (Postfix) with ESMTP id E77EB6052471; Wed, 30 Apr 2025 09:11:51 -0400 (EDT) Subject: |SUCCESS| pw153191-153192 [PATCH] [v3,2/2] drivers: add support for From: dpdklab@iol.unh.edu To: Test Report Cc: dpdk-test-reports@iol.unh.edu In-Reply-To: <20250430091051.789240-2-kirankumark@marvell.com> References: <20250430091051.789240-2-kirankumark@marvell.com> Content-Type: text/plain X-BeenThere: test-report@dpdk.org X-Mailman-Version: 2.1.29 Precedence: list List-Id: automatic DPDK test reports List-Unsubscribe: , List-Archive: List-Post: List-Help: List-Subscribe: , Errors-To: test-report-bounces@dpdk.org Test-Label: iol-compile-arm64-testing Test-Status: SUCCESS http://dpdk.org/patch/153192 _Testing PASS_ Submitter: Kiran Kumar Kokkilagadda Date: Wednesday, April 30 2025 09:10:51 DPDK git baseline: Repo:dpdk Branch: master CommitID:ff05ee3e3f8fb4ce958a2ce6461e8141aea959c6 153191-153192 --> testing pass Upstream job id: Generic-DPDK-Compile-Meson#384066 Test environment and result as below: +----------------------------------------+--------------------+ | Environment | dpdk_meson_compile | +========================================+====================+ | RHEL9 (ARM) | PASS | +----------------------------------------+--------------------+ | Ubuntu 20.04 ARM SVE | PASS | +----------------------------------------+--------------------+ | Ubuntu 20.04 ARM GCC Cross Compile | PASS | +----------------------------------------+--------------------+ | Debian 12 with MUSDK | PASS | +----------------------------------------+--------------------+ | Fedora 40 (ARM) | PASS | +----------------------------------------+--------------------+ | Fedora 40 (ARM Clang) | PASS | +----------------------------------------+--------------------+ | Fedora 41 (ARM) | PASS | +----------------------------------------+--------------------+ | Fedora 41 (ARM Clang) | PASS | +----------------------------------------+--------------------+ | Ubuntu 22.04 (ARM) | PASS | +----------------------------------------+--------------------+ | Ubuntu 24.04 (ARM) | PASS | +----------------------------------------+--------------------+ | CentOS Stream 9 (ARM) | PASS | +----------------------------------------+--------------------+ | CentOS Stream 10 (ARM) | PASS | +----------------------------------------+--------------------+ | Debian 12 (arm) | PASS | +----------------------------------------+--------------------+ | Ubuntu 20.04 ARM Clang Cross Compile | PASS | +----------------------------------------+--------------------+ | Ubuntu 20.04 aarch32 GCC Cross Compile | PASS | +----------------------------------------+--------------------+ | Ubuntu 20.04 (ARM) | PASS | +----------------------------------------+--------------------+ RHEL9 (ARM) Kernel: Depends on container host Compiler: gcc 11.5.0 20240719 (Red Hat 11.5.0-2) Ubuntu 20.04 ARM SVE Kernel: Depends on container host Compiler: gcc (Ubuntu 10.5.0-1ubuntu1~20.04) 10.5.0 Ubuntu 20.04 ARM GCC Cross Compile Kernel: Depends on container host Compiler: aarch64-linux-gnu-gcc (Ubuntu 9.4.0-1ubuntu1~20.04.2) 9.4.0 Debian 12 with MUSDK Kernel: Depends on container host Compiler: gcc (Debian 12.2.0-14) 12.2.0 Fedora 40 (ARM) Kernel: Depends on container host Compiler: gcc 14.2.1 20240912 (Red Hat 14.2.1-3) Fedora 40 (ARM Clang) Kernel: Depends on container host Compiler: clang 18.1.8 (Fedora 18.1.8-1.fc40) Fedora 41 (ARM) Kernel: Depends on container host Compiler: gcc 14.2.1 20240912 (Red Hat 14.2.1-3) Fedora 41 (ARM Clang) Kernel: Depends on container host Compiler: clang 19.1.5 (Fedora 19.1.5-1.fc41) Ubuntu 22.04 (ARM) Kernel: Depends on container host Compiler: gcc (Ubuntu 11.4.0-1ubuntu1~22.04) 11.4.0 Ubuntu 24.04 (ARM) Kernel: Depends on container host Compiler: gcc (Ubuntu 13.3.0-6ubuntu2~24.04) 13.3.0 CentOS Stream 9 (ARM) Kernel: Depends on container host Compiler: gcc 11.5.0 20240719 (Red Hat 11.5.0-2) CentOS Stream 10 (ARM) Kernel: Depends on container host Compiler: gcc 14.2.1 20241104 (Red Hat 14.2.1-6) Debian 12 (arm) Kernel: Depends on container host Compiler: gcc (Debian 12.2.0-14) 12.2.0 Ubuntu 20.04 ARM Clang Cross Compile Kernel: Depends on container host Compiler: clang 10.0.0-4ubuntu1 Ubuntu 20.04 aarch32 GCC Cross Compile Kernel: Depends on container host Compiler: gcc 9.4.0 Ubuntu 20.04 (ARM) Kernel: Depends on container host Compiler: gcc (Ubuntu 9.4.0-1ubuntu1~20.04.2) 9.4.0 To view detailed results, visit: https://lab.dpdk.org/results/dashboard/patchsets/33090/ UNH-IOL DPDK Community Lab To manage your email subscriptions, visit: https://lab.dpdk.org/results/dashboard/preferences/subscriptions/