From mboxrd@z Thu Jan 1 00:00:00 1970 Return-Path: Received: from mails.dpdk.org (mails.dpdk.org [217.70.189.124]) by inbox.dpdk.org (Postfix) with ESMTP id 8147746669 for ; Wed, 30 Apr 2025 15:13:53 +0200 (CEST) Received: from mails.dpdk.org (localhost [127.0.0.1]) by mails.dpdk.org (Postfix) with ESMTP id 5DC4140280; Wed, 30 Apr 2025 15:13:53 +0200 (CEST) Received: from mail-pl1-f226.google.com (mail-pl1-f226.google.com [209.85.214.226]) by mails.dpdk.org (Postfix) with ESMTP id A874340279 for ; Wed, 30 Apr 2025 15:13:51 +0200 (CEST) Received: by mail-pl1-f226.google.com with SMTP id d9443c01a7336-224191d92e4so77847775ad.3 for ; Wed, 30 Apr 2025 06:13:51 -0700 (PDT) DKIM-Signature: v=1; a=rsa-sha256; c=relaxed/relaxed; d=iol.unh.edu; s=unh-iol; t=1746018831; x=1746623631; darn=dpdk.org; h=cc:to:from:subject:message-id:date:from:to:cc:subject:date :message-id:reply-to; bh=lSEgSZWc3yeV23VUwMIhiCA7zLZvoYVWlmXddMsyVyo=; b=X32lGr1Ov221WdYFLxa5NPTNunrxCzNokpxTZSCM2Y+0+kwaiVkGZb5l/sJilL8XX6 lnoHB4MfAJJBjb/3JycCBIsv9EYbo1qfFt66gHXoLntQNCtbTnho7eGjvmUyozGkdJDw DpTpEdo3l0B5i37w7ZKFSoG9P0XUTb9EZRzTE= X-Google-DKIM-Signature: v=1; a=rsa-sha256; c=relaxed/relaxed; d=1e100.net; s=20230601; t=1746018831; x=1746623631; h=cc:to:from:subject:message-id:date:x-gm-message-state:from:to:cc :subject:date:message-id:reply-to; bh=lSEgSZWc3yeV23VUwMIhiCA7zLZvoYVWlmXddMsyVyo=; b=POqlXd/kR7WTOPFwuvVEIgNZW7Uk6T8PDwK2IeSr8b6RaywUyC4TZkO8scAtnwzVwZ pVwPKDewBVDlg9E+JyD+FAQPmq/elDP1BLd6/7bFxGAmA8+hXsAfvThFTloQXIvXbz0+ zn34AiTkA5l0/4O87NajOeaGH4RbvqVouaFgiATS4YND0XqT93KOuZMhbqyFcEkhmP9q fXkBT/HQ1wKLPnG4QD6C3g2yme6cuKFfUnXDxtWjjzh/JgDyEUIxYUlqmy6f7jtN3MIa xfZndLs50l65WKkF0KOglT/qXFASkPU+zQLn0xFQzifAvEtEpDKUZvlhp2B+z38pRGBN BBnw== X-Gm-Message-State: AOJu0Yz23rPtC+W3yx6AWqFmDUQIoR54DPjLB0bfD7xGixAC/gnDJ2xZ 814lXcdj4YxNvM4F73x8znAzz8Oby/cXttC7Z5m2d8BP+fABBRMTpXsGD5DWyNxePzrCsZh39zq 7ziB7u0mmciYkVPXJuXZVtOu6sqYBumlC/ipCkM5SUfVq+9+CWOD00pVD X-Gm-Gg: ASbGncuwO6N8i80jgZFR6x3odnHRsYBQ6WMT/8O8FzMIUHtKWYl1/9JYpOgFLWEBHPh WAWbaAop0Hk0dBOCNnJkDexK+D2nWghfx1FdZtA2Gwjzw+0TIpL5VUiY9E/LXOECEYxlu8uDFfa 6MjUMt/CzmMFzY98eMeJsrG89hC0TOBPPXGa42uiDvTonkwRKdMjWBiJ4oRbLgLRk08oPa8EOow WOLEEM2U/4r/JVkLJZElrx2nsNziRVid8/E6lbW9qMBy0jC9O4Hu4NPL9DlW7A2qHr0HHWGSWbQ H3mo+SWizDKtpJd1fFzdkCkegh8pz5oUIKXJEMR6O5r7+2ic X-Google-Smtp-Source: AGHT+IGIONDQrqkUX4W3SUsmuSHD6GhsPUCOuxM/RgIIzqcUOLDiMDKJoTiZB1j3OGVd/s11f8mUJhOKlz8/ X-Received: by 2002:a17:903:250:b0:223:4d5e:789d with SMTP id d9443c01a7336-22df578cd96mr41849415ad.19.1746018830741; Wed, 30 Apr 2025 06:13:50 -0700 (PDT) Received: from postal.iol.unh.edu (postal.iol.unh.edu. [2606:4100:3880:1234::84]) by smtp-relay.gmail.com with ESMTPS id d9443c01a7336-22db5100d87sm14857535ad.80.2025.04.30.06.13.50 (version=TLS1_2 cipher=ECDHE-ECDSA-AES128-GCM-SHA256 bits=128/128); Wed, 30 Apr 2025 06:13:50 -0700 (PDT) X-Relaying-Domain: iol.unh.edu Date: Wed, 30 Apr 2025 06:13:50 -0700 (PDT) Message-ID: <6812220e.170a0220.144838.2cb5SMTPIN_ADDED_MISSING@mx.google.com> Received: from [172.17.0.2] (unknown [172.18.0.76]) by postal.iol.unh.edu (Postfix) with ESMTP id 255C56052471; Wed, 30 Apr 2025 09:13:50 -0400 (EDT) Subject: |SUCCESS| [GIT MASTER] fbc38e47cb04dd99313b35ec6809bc7e52730f3f From: dpdklab@iol.unh.edu To: Test Report Cc: dpdk-test-reports@iol.unh.edu, Bruce Richardson Content-Type: text/plain X-BeenThere: test-report@dpdk.org X-Mailman-Version: 2.1.29 Precedence: list List-Id: automatic DPDK test reports List-Unsubscribe: , List-Archive: List-Post: List-Help: List-Subscribe: , Errors-To: test-report-bounces@dpdk.org _Testing PASS_ Branch: dpdk-next-net-intel fbc38e47cb04dd99313b35ec6809bc7e52730f3f --> testing pass Upstream job id: Generic-Unit-Test-DPDK#334524 Test environment and result as below: +-------------------+----------------+ | Environment | dpdk_unit_test | +===================+================+ | CentOS Stream 9 | PASS | +-------------------+----------------+ | CentOS Stream 10 | PASS | +-------------------+----------------+ | Fedora 40 | PASS | +-------------------+----------------+ | Fedora 40 (Clang) | PASS | +-------------------+----------------+ | Debian 12 | PASS | +-------------------+----------------+ | Fedora 41 | PASS | +-------------------+----------------+ | Fedora 41 (Clang) | PASS | +-------------------+----------------+ | Ubuntu 22.04 | PASS | +-------------------+----------------+ | RHEL8 | PASS | +-------------------+----------------+ | Ubuntu 20.04 | PASS | +-------------------+----------------+ | RHEL9 | PASS | +-------------------+----------------+ | Ubuntu 24.04 | PASS | +-------------------+----------------+ CentOS Stream 9 Kernel: Depends on container host Compiler: gcc 11.5.0 20240719 (Red Hat 11.5.0-2) CentOS Stream 10 Kernel: Depends on container host Compiler: gcc 14.2.1 20241104 (Red Hat 14.2.1-6) Fedora 40 Kernel: Depends on container host Compiler: gcc 14.2.1 20240912 (Red Hat 14.2.1-3) Fedora 40 (Clang) Kernel: Depends on container host Compiler: clang 18.1.8 (Fedora 18.1.8-1.fc40) Debian 12 Kernel: Depends on container host Compiler: gcc (Debian 12.2.0-14) 12.2.0 Fedora 41 Kernel: Depends on container host Compiler: gcc 14.2.1 20240912 (Red Hat 14.2.1-3) Fedora 41 (Clang) Kernel: Depends on container host Compiler: clang 19.1.5 (Fedora 19.1.5-1.fc41) Ubuntu 22.04 Kernel: Depends on container host Compiler: gcc (Ubuntu 11.4.0-1ubuntu1~22.04) 11.4.0 RHEL8 Kernel: Depends on container host Compiler: gcc 8.5.0 20210514 (Red Hat 8.5.0-22) Ubuntu 20.04 Kernel: Depends on container host Compiler: gcc (Ubuntu 9.4.0-1ubuntu1~20.04.2) 9.4.0 RHEL9 Kernel: Depends on container host Compiler: gcc 11.5.0 20240719 (Red Hat 11.5.0-2) Ubuntu 24.04 Kernel: Depends on container host Compiler: gcc (Ubuntu 13.3.0-6ubuntu2~24.04) 13.3.0 To view detailed results, visit: https://lab.dpdk.org/results/dashboard/tarballs/33399/ UNH-IOL DPDK Community Lab To manage your email subscriptions, visit: https://lab.dpdk.org/results/dashboard/preferences/subscriptions/