From mboxrd@z Thu Jan 1 00:00:00 1970 Return-Path: Received: from mails.dpdk.org (mails.dpdk.org [217.70.189.124]) by inbox.dpdk.org (Postfix) with ESMTP id 42AB646669 for ; Wed, 30 Apr 2025 15:34:21 +0200 (CEST) Received: from mails.dpdk.org (localhost [127.0.0.1]) by mails.dpdk.org (Postfix) with ESMTP id 1436B40280; Wed, 30 Apr 2025 15:34:21 +0200 (CEST) Received: from mail-qk1-f227.google.com (mail-qk1-f227.google.com [209.85.222.227]) by mails.dpdk.org (Postfix) with ESMTP id A35B940279 for ; Wed, 30 Apr 2025 15:34:19 +0200 (CEST) Received: by mail-qk1-f227.google.com with SMTP id af79cd13be357-7c07cd527e4so782427385a.3 for ; Wed, 30 Apr 2025 06:34:19 -0700 (PDT) DKIM-Signature: v=1; a=rsa-sha256; c=relaxed/relaxed; d=iol.unh.edu; s=unh-iol; t=1746020059; x=1746624859; darn=dpdk.org; h=cc:to:from:subject:message-id:date:from:to:cc:subject:date :message-id:reply-to; bh=5fBwq2ncdXmdOAjTRQUIIiUOqqULukzA19Pe4s6DRSk=; b=Rtc2njXcTFOauHod75fR7EBIDeRNWpZTuUMEos00X7i5/0W/loDhI4/18YhjcYuwUB 9FML+AuzN+Mo//OW88uDFcsGAL22GXsUEFQnN0U5qLOE8tWK4cKb6wATg14NsbukLj4a 3yzS62BUHXE20X/6tM6WVngXSiIavGkQGtp40= X-Google-DKIM-Signature: v=1; a=rsa-sha256; c=relaxed/relaxed; d=1e100.net; s=20230601; t=1746020059; x=1746624859; h=cc:to:from:subject:message-id:date:x-gm-message-state:from:to:cc :subject:date:message-id:reply-to; bh=5fBwq2ncdXmdOAjTRQUIIiUOqqULukzA19Pe4s6DRSk=; b=Ei3E7A1E61Bc6WaOPRvJulQ5i6qFra96QkEKxxS8dwFDDFvDPItNLHJL2NNxEIVJDF 8aIKEUC/xjg/18ffBtzYrC2c+BJ8U6o3TIL6mywlo7FZQjIO2zx72+qIXIWE9pPf3o4o ZAFNRk988UKS/oxQoKwy5z8Uy/n78wPhnExZQ3V3zO3HpuoKRiBWRbCQE6h+bKZPS9CU EvNnNU+yVqdkXnfZXXTmoe7sR/dAkHSRZkY5bc3jBkcx2ZQJJvXAT9lfmXqUcqJfwkih 8N297XS9592GOu/BgHfNbrJ57viV719vu4K9hP8bY5AYKk66BZGFTv0s4Jzfhs6W8jWP WGRg== X-Gm-Message-State: AOJu0YxFGcePZF6dAIh58dVuZcnBetgJoLfOCleyqRLinnBxBKbtvxk8 W4KV60Iu5/h3DfHXw8V1ZRta5OlMVk+KUx1BjkclwmldQu98JQdvXWZpYEj4+jRRKFbuQ25UON6 +iK5BR5sz7w85zKB4JcN/rk5GXoo6X3roTSfSasdNdJQrVZe9D6Mvoc0T X-Gm-Gg: ASbGnctUcwfjem2h5P2omv0VJ+rIKY+BEfwvr4icP31eKAl9nKFIfezdkvVkTN7HwSj IZlhTonQ9d6dTprblKOhFgAng9z7g5mNOJ7jbPcQI2pv0SEAz2CQCtpdxzGfrscQNVPN8lalVX9 J0bIsOoqBey5uI3U1F+/kXHjavNy2jzYyQJIYt0hMibHSd3zVfNvsEvMvPHYrkHzvfyNbAyMM2n Z8JwwSgi86Jg91xCGYH7vUpTN64iKx6q9drQX/rJhLxWeRJ7ySgyOUeJE7UwY9ssqAvDWYIfvjo drDHhRBVKhk0VmZ4x5Bu67gh8TaXToYPttYpHOHhPqBLjN4K X-Google-Smtp-Source: AGHT+IEuSz7wXN3iYvZ6kOrJIVJVqr4lWix/UK6SJ6my0rBh5LBOBvMchdMH7hW/0NlZPT+Uxr2D6g5z2K1d X-Received: by 2002:a05:6214:1bcd:b0:6e8:8798:275d with SMTP id 6a1803df08f44-6f4fcd16226mr57140856d6.0.1746020058691; Wed, 30 Apr 2025 06:34:18 -0700 (PDT) Received: from postal.iol.unh.edu (postal.iol.unh.edu. [2606:4100:3880:1234::84]) by smtp-relay.gmail.com with ESMTPS id 6a1803df08f44-6f4fe802c75sm764716d6.43.2025.04.30.06.34.18 (version=TLS1_2 cipher=ECDHE-ECDSA-AES128-GCM-SHA256 bits=128/128); Wed, 30 Apr 2025 06:34:18 -0700 (PDT) X-Relaying-Domain: iol.unh.edu Date: Wed, 30 Apr 2025 06:34:18 -0700 (PDT) Message-ID: <681226da.050a0220.92e3f.3cf3SMTPIN_ADDED_MISSING@mx.google.com> Received: from [172.17.0.2] (unknown [172.18.0.74]) by postal.iol.unh.edu (Postfix) with ESMTP id 58B8C6052471; Wed, 30 Apr 2025 09:34:18 -0400 (EDT) Subject: |SUCCESS| [GIT MASTER] fbc38e47cb04dd99313b35ec6809bc7e52730f3f From: dpdklab@iol.unh.edu To: Test Report Cc: dpdk-test-reports@iol.unh.edu, Bruce Richardson Content-Type: text/plain X-BeenThere: test-report@dpdk.org X-Mailman-Version: 2.1.29 Precedence: list List-Id: automatic DPDK test reports List-Unsubscribe: , List-Archive: List-Post: List-Help: List-Subscribe: , Errors-To: test-report-bounces@dpdk.org _Testing PASS_ Branch: dpdk-next-net-intel fbc38e47cb04dd99313b35ec6809bc7e52730f3f --> testing pass Upstream job id: Aarch32-Unit-Test#6100 Test environment and result as below: +-----------------------------+---------------------------+------------------------------+--------------+----------------+ | Environment | cryptodev_sw_zuc_autotest | cryptodev_sw_snow3g_autotest | lpm_autotest | dpdk_unit_test | +=============================+===========================+==============================+==============+================+ | Debian 12 (arm) | PASS | PASS | SKIPPED | PASS | +-----------------------------+---------------------------+------------------------------+--------------+----------------+ | Ubuntu 20.04 ARM SVE | SKIPPED | SKIPPED | PASS | SKIPPED | +-----------------------------+---------------------------+------------------------------+--------------+----------------+ | CentOS Stream 10 (ARM) | SKIPPED | SKIPPED | SKIPPED | PASS | +-----------------------------+---------------------------+------------------------------+--------------+----------------+ | CentOS Stream 9 (ARM) | SKIPPED | SKIPPED | SKIPPED | PASS | +-----------------------------+---------------------------+------------------------------+--------------+----------------+ | Fedora 40 (ARM) | SKIPPED | SKIPPED | SKIPPED | PASS | +-----------------------------+---------------------------+------------------------------+--------------+----------------+ | Fedora 41 (ARM) | SKIPPED | SKIPPED | SKIPPED | PASS | +-----------------------------+---------------------------+------------------------------+--------------+----------------+ | Fedora 40 (ARM Clang) | SKIPPED | SKIPPED | SKIPPED | PASS | +-----------------------------+---------------------------+------------------------------+--------------+----------------+ | Ubuntu 20.04 (ARM) | SKIPPED | SKIPPED | SKIPPED | PASS | +-----------------------------+---------------------------+------------------------------+--------------+----------------+ | Fedora 41 (ARM Clang) | SKIPPED | SKIPPED | SKIPPED | PASS | +-----------------------------+---------------------------+------------------------------+--------------+----------------+ | RHEL9 (ARM) | SKIPPED | SKIPPED | SKIPPED | PASS | +-----------------------------+---------------------------+------------------------------+--------------+----------------+ | Ubuntu 22.04 (ARM) | SKIPPED | SKIPPED | SKIPPED | PASS | +-----------------------------+---------------------------+------------------------------+--------------+----------------+ | Ubuntu 24.04 (ARM) | SKIPPED | SKIPPED | SKIPPED | PASS | +-----------------------------+---------------------------+------------------------------+--------------+----------------+ | 32-bit Ubuntu 22.04.4 (ARM) | SKIPPED | SKIPPED | SKIPPED | PASS | +-----------------------------+---------------------------+------------------------------+--------------+----------------+ Debian 12 (arm) Kernel: Depends on container host Compiler: gcc (Debian 12.2.0-14) 12.2.0 Ubuntu 20.04 ARM SVE Kernel: Depends on container host Compiler: gcc (Ubuntu 10.5.0-1ubuntu1~20.04) 10.5.0 CentOS Stream 10 (ARM) Kernel: Depends on container host Compiler: gcc 14.2.1 20241104 (Red Hat 14.2.1-6) CentOS Stream 9 (ARM) Kernel: Depends on container host Compiler: gcc 11.5.0 20240719 (Red Hat 11.5.0-2) Fedora 40 (ARM) Kernel: Depends on container host Compiler: gcc 14.2.1 20240912 (Red Hat 14.2.1-3) Fedora 41 (ARM) Kernel: Depends on container host Compiler: gcc 14.2.1 20240912 (Red Hat 14.2.1-3) Fedora 40 (ARM Clang) Kernel: Depends on container host Compiler: clang 18.1.8 (Fedora 18.1.8-1.fc40) Ubuntu 20.04 (ARM) Kernel: Depends on container host Compiler: gcc (Ubuntu 9.4.0-1ubuntu1~20.04.2) 9.4.0 Fedora 41 (ARM Clang) Kernel: Depends on container host Compiler: clang 19.1.5 (Fedora 19.1.5-1.fc41) RHEL9 (ARM) Kernel: Depends on container host Compiler: gcc 11.5.0 20240719 (Red Hat 11.5.0-2) Ubuntu 22.04 (ARM) Kernel: Depends on container host Compiler: gcc (Ubuntu 11.4.0-1ubuntu1~22.04) 11.4.0 Ubuntu 24.04 (ARM) Kernel: Depends on container host Compiler: gcc (Ubuntu 13.3.0-6ubuntu2~24.04) 13.3.0 32-bit Ubuntu 22.04.4 (ARM) Kernel: 5.15.83+ aarch64 Compiler: gcc (Ubuntu 11.4.0-1ubuntu1~22.04) 11.4.0 To view detailed results, visit: https://lab.dpdk.org/results/dashboard/tarballs/33399/ UNH-IOL DPDK Community Lab To manage your email subscriptions, visit: https://lab.dpdk.org/results/dashboard/preferences/subscriptions/