From mboxrd@z Thu Jan 1 00:00:00 1970 Return-Path: Received: from mails.dpdk.org (mails.dpdk.org [217.70.189.124]) by inbox.dpdk.org (Postfix) with ESMTP id 9E4B246669 for ; Wed, 30 Apr 2025 15:39:04 +0200 (CEST) Received: from mails.dpdk.org (localhost [127.0.0.1]) by mails.dpdk.org (Postfix) with ESMTP id 78E1A40280; Wed, 30 Apr 2025 15:39:04 +0200 (CEST) Received: from mail-yw1-f226.google.com (mail-yw1-f226.google.com [209.85.128.226]) by mails.dpdk.org (Postfix) with ESMTP id 43DA140279 for ; Wed, 30 Apr 2025 15:39:03 +0200 (CEST) Received: by mail-yw1-f226.google.com with SMTP id 00721157ae682-6feab7c5f96so64604547b3.3 for ; Wed, 30 Apr 2025 06:39:03 -0700 (PDT) DKIM-Signature: v=1; a=rsa-sha256; c=relaxed/relaxed; d=iol.unh.edu; s=unh-iol; t=1746020342; x=1746625142; darn=dpdk.org; h=cc:to:from:subject:message-id:date:from:to:cc:subject:date :message-id:reply-to; bh=PaMMD9n7rtzeebezzxXYp1QvqkzL9K57qn4jtc4WSTw=; b=N4E1pajOpEo3YpjMQqA6sFB/Ba/sYj3pKaCUzAL0Fx8rJKfYjRZrnLtvWc2f7cIf5Y kGwqrS1joeeZkaXTPk7OE+ia+VcXsOh8P5GijgUQKSnGGFxEn7zLpIabKfWB/iKQuf8y itJ9kdbpXge6H/Vmv3V/Br57kZJpnc6nYbgdE= X-Google-DKIM-Signature: v=1; a=rsa-sha256; c=relaxed/relaxed; d=1e100.net; s=20230601; t=1746020342; x=1746625142; h=cc:to:from:subject:message-id:date:x-gm-message-state:from:to:cc :subject:date:message-id:reply-to; bh=PaMMD9n7rtzeebezzxXYp1QvqkzL9K57qn4jtc4WSTw=; b=gmCOxdwbj/jH8b/jdb7PYKe0rBXiDlA6SB18iOJ+0kXAPrVHIKIEnJlwcp8g3cZqsK 1xW4029D4HXoInH1tzHQn9cnbdIqurEjvQq9eCm9unDqihJ2Ey47jSw95n+JB28q1zZN 5OuHTsqDQQ3rA5WJz4CPuDfmdtTf0x8HTGmLIuwyW9z2MBVteSARm5KU5qDLTgjfWDEK kaZMuLhNjlfQ92tD/Z3+PDvb3oT+CkA4IR7VgPrkTOkS4VvFoNUFvb62w558NDIwKyYi pfg2Q++gVLjL+EBraC2mfHr5l9iJSKun1EdltRtIMCumFI3nuJ5YKbcjKljXk15HaJrQ 8KOQ== X-Gm-Message-State: AOJu0YyNLbrLEvg3a7JVC/j0GwpSpSMaxi+iG3sP+jfPwPpJbY/00FeH V1lj/yP7V8/1jnuEbkLykVYGlgf43WrLmobMCyrHtSCY/hkEjgV5rNKw2K94zJgJQDo7SZuHkzV AMts5k3/nydCSNDzt8yMKaVxTd8ty3imRJf6c+tQj9xOk6ixv9Q80rLzQ X-Gm-Gg: ASbGncvZEfipMQPcEx7t5HX2JxBdGVZ8kTl9deYjJq4GQN4GQeJLBRS5DOvjPn/g9bc e3mQr6PUxHUOopVTC/EwAGLxlTJ1yKzzgHzEz2K0JldjuiZwnEHGS1EG3wKDKsJwqDel3h6UC2d Byb2/5pwq8o/Cdi1ombLGx+hJlkk1plZzOAmXyFX4bRNyp93bxs48pocGGSuVb1G4hKgM1MCCOC n8yO6W46EOUlyUpsgFMGLzZbfHxvB2SxLN0uDlBBacpVKVAfsh2vn+bdn0CGhV3FJdeTtjktFCe plvhYlzMM6rwAgFbOFNQimHYTO/9YHgpvB8VhfYNP+tGt0SW X-Google-Smtp-Source: AGHT+IEGt8UbxxrceGtS2lEsx8TBtAplHQk2BGvU/bpJEYp7dF9I9NuOMMdRN8kCgswFMM6NlaPkKlzHZGPN X-Received: by 2002:a05:690c:39c:b0:6d4:4a0c:fcf0 with SMTP id 00721157ae682-708ad61d6dfmr35840397b3.20.1746020342414; Wed, 30 Apr 2025 06:39:02 -0700 (PDT) Received: from postal.iol.unh.edu (postal.iol.unh.edu. [2606:4100:3880:1234::84]) by smtp-relay.gmail.com with ESMTPS id 00721157ae682-708ae03c569sm560327b3.21.2025.04.30.06.39.02 (version=TLS1_2 cipher=ECDHE-ECDSA-AES128-GCM-SHA256 bits=128/128); Wed, 30 Apr 2025 06:39:02 -0700 (PDT) X-Relaying-Domain: iol.unh.edu Date: Wed, 30 Apr 2025 06:39:02 -0700 (PDT) Message-ID: <681227f6.810a0220.1fc6d1.29d7SMTPIN_ADDED_MISSING@mx.google.com> Received: from [172.17.0.2] (unknown [172.18.0.74]) by postal.iol.unh.edu (Postfix) with ESMTP id EF3006052471; Wed, 30 Apr 2025 09:39:01 -0400 (EDT) Subject: |SUCCESS| [GIT MASTER] fbc38e47cb04dd99313b35ec6809bc7e52730f3f From: dpdklab@iol.unh.edu To: Test Report Cc: dpdk-test-reports@iol.unh.edu, Bruce Richardson Content-Type: text/plain X-BeenThere: test-report@dpdk.org X-Mailman-Version: 2.1.29 Precedence: list List-Id: automatic DPDK test reports List-Unsubscribe: , List-Archive: List-Post: List-Help: List-Subscribe: , Errors-To: test-report-bounces@dpdk.org _Testing PASS_ Branch: dpdk-next-net-intel fbc38e47cb04dd99313b35ec6809bc7e52730f3f --> testing pass Upstream job id: Generic-DPDK-Compile-Meson#384098 Test environment and result as below: +-----------------------------------+--------------------+-------------------+------------------+-------------------+-------------------------+ | Environment | dpdk_meson_compile | dpdk_compile_spdk | dpdk_compile_ovs | dpdk_msvc_compile | dpdk_llvm_clang_compile | +===================================+====================+===================+==================+===================+=========================+ | CentOS Stream 9 | PASS | PASS | SKIPPED | SKIPPED | SKIPPED | +-----------------------------------+--------------------+-------------------+------------------+-------------------+-------------------------+ | Debian 12 | PASS | PASS | SKIPPED | SKIPPED | SKIPPED | +-----------------------------------+--------------------+-------------------+------------------+-------------------+-------------------------+ | Fedora 40 | PASS | PASS | SKIPPED | SKIPPED | SKIPPED | +-----------------------------------+--------------------+-------------------+------------------+-------------------+-------------------------+ | Fedora 40 (Clang) | PASS | PASS | SKIPPED | SKIPPED | SKIPPED | +-----------------------------------+--------------------+-------------------+------------------+-------------------+-------------------------+ | Fedora 41 | PASS | PASS | PASS | SKIPPED | SKIPPED | +-----------------------------------+--------------------+-------------------+------------------+-------------------+-------------------------+ | Fedora 41 (Clang) | PASS | PASS | PASS | SKIPPED | SKIPPED | +-----------------------------------+--------------------+-------------------+------------------+-------------------+-------------------------+ | RHEL9 | PASS | SKIPPED | SKIPPED | SKIPPED | SKIPPED | +-----------------------------------+--------------------+-------------------+------------------+-------------------+-------------------------+ | openSUSE Leap 15 | PASS | SKIPPED | SKIPPED | SKIPPED | SKIPPED | +-----------------------------------+--------------------+-------------------+------------------+-------------------+-------------------------+ | Ubuntu 20.04 | PASS | SKIPPED | SKIPPED | SKIPPED | SKIPPED | +-----------------------------------+--------------------+-------------------+------------------+-------------------+-------------------------+ | RHEL8 | PASS | SKIPPED | SKIPPED | SKIPPED | SKIPPED | +-----------------------------------+--------------------+-------------------+------------------+-------------------+-------------------------+ | Ubuntu 24.04 | PASS | PASS | PASS | SKIPPED | SKIPPED | +-----------------------------------+--------------------+-------------------+------------------+-------------------+-------------------------+ | Ubuntu 22.04 | PASS | PASS | SKIPPED | SKIPPED | SKIPPED | +-----------------------------------+--------------------+-------------------+------------------+-------------------+-------------------------+ | Alpine | PASS | SKIPPED | SKIPPED | SKIPPED | SKIPPED | +-----------------------------------+--------------------+-------------------+------------------+-------------------+-------------------------+ | Ubuntu 24.04 32 Bit Cross Compile | PASS | SKIPPED | SKIPPED | SKIPPED | SKIPPED | +-----------------------------------+--------------------+-------------------+------------------+-------------------+-------------------------+ | FreeBSD 13.5 | PASS | SKIPPED | SKIPPED | SKIPPED | SKIPPED | +-----------------------------------+--------------------+-------------------+------------------+-------------------+-------------------------+ | FreeBSD 14.2 | PASS | SKIPPED | SKIPPED | SKIPPED | SKIPPED | +-----------------------------------+--------------------+-------------------+------------------+-------------------+-------------------------+ | Windows Server 2022 | SKIPPED | SKIPPED | SKIPPED | PASS | PASS | +-----------------------------------+--------------------+-------------------+------------------+-------------------+-------------------------+ CentOS Stream 9 Kernel: Depends on container host Compiler: gcc 11.5.0 20240719 (Red Hat 11.5.0-2) Debian 12 Kernel: Depends on container host Compiler: gcc (Debian 12.2.0-14) 12.2.0 Fedora 40 Kernel: Depends on container host Compiler: gcc 14.2.1 20240912 (Red Hat 14.2.1-3) Fedora 40 (Clang) Kernel: Depends on container host Compiler: clang 18.1.8 (Fedora 18.1.8-1.fc40) Fedora 41 Kernel: Depends on container host Compiler: gcc 14.2.1 20240912 (Red Hat 14.2.1-3) Fedora 41 (Clang) Kernel: Depends on container host Compiler: clang 19.1.5 (Fedora 19.1.5-1.fc41) RHEL9 Kernel: Depends on container host Compiler: gcc 11.5.0 20240719 (Red Hat 11.5.0-2) openSUSE Leap 15 Kernel: Depends on container host Compiler: gcc (SUSE Linux) 7.5.0 Ubuntu 20.04 Kernel: Depends on container host Compiler: gcc (Ubuntu 9.4.0-1ubuntu1~20.04.2) 9.4.0 RHEL8 Kernel: Depends on container host Compiler: gcc 8.5.0 20210514 (Red Hat 8.5.0-22) Ubuntu 24.04 Kernel: Depends on container host Compiler: gcc (Ubuntu 13.3.0-6ubuntu2~24.04) 13.3.0 Ubuntu 22.04 Kernel: Depends on container host Compiler: gcc (Ubuntu 11.4.0-1ubuntu1~22.04) 11.4.0 Alpine Kernel: Depends on container host Compiler: gcc (Alpine 14.2.0) 14.2.0 Ubuntu 24.04 32 Bit Cross Compile Kernel: Depends on container host Compiler: gcc (Ubuntu 13.3.0-6ubuntu2~24.04) 13.3.0 FreeBSD 13.5 Kernel: 13.5-RELEASE Compiler: clang 19.1.7 FreeBSD 14.2 Kernel: 14.2-RELEASE Compiler: clang 18.1.6 Windows Server 2022 Kernel: 10.0.20348.2031 Compiler: clang 15.0.7, gcc 14.1.0 (MinGW), and MSVC VS 19.39.33521 To view detailed results, visit: https://lab.dpdk.org/results/dashboard/tarballs/33399/ UNH-IOL DPDK Community Lab To manage your email subscriptions, visit: https://lab.dpdk.org/results/dashboard/preferences/subscriptions/