From mboxrd@z Thu Jan 1 00:00:00 1970 Return-Path: Received: from mails.dpdk.org (mails.dpdk.org [217.70.189.124]) by inbox.dpdk.org (Postfix) with ESMTP id E72F446669 for ; Wed, 30 Apr 2025 15:42:23 +0200 (CEST) Received: from mails.dpdk.org (localhost [127.0.0.1]) by mails.dpdk.org (Postfix) with ESMTP id C65F340280; Wed, 30 Apr 2025 15:42:23 +0200 (CEST) Received: from mail-il1-f226.google.com (mail-il1-f226.google.com [209.85.166.226]) by mails.dpdk.org (Postfix) with ESMTP id 0D57B40279 for ; Wed, 30 Apr 2025 15:42:22 +0200 (CEST) Received: by mail-il1-f226.google.com with SMTP id e9e14a558f8ab-3d818add2a3so3624775ab.1 for ; Wed, 30 Apr 2025 06:42:21 -0700 (PDT) DKIM-Signature: v=1; a=rsa-sha256; c=relaxed/relaxed; d=iol.unh.edu; s=unh-iol; t=1746020541; x=1746625341; darn=dpdk.org; h=cc:to:from:subject:message-id:date:from:to:cc:subject:date :message-id:reply-to; bh=0Zn2NSTu+wfKefmkhR1s8WDvfFH9hSJsuFmDyNSOxGc=; b=IzLODRrfF/mMXnNxZwzNutIS8fkH8n5p1tIiAbAvJpsGLOmmXVFBhAuKgZASWJTa7I W7tBGJpXLY4vCI5Na8G3D4zobkqYRcVI0GlySt1Hk84tHuxveLqxStqJRJ2KejLMPMia JOHXCnV9DiD7zYc2loqCrECthfgt0g8Nnh2sM= X-Google-DKIM-Signature: v=1; a=rsa-sha256; c=relaxed/relaxed; d=1e100.net; s=20230601; t=1746020541; x=1746625341; h=cc:to:from:subject:message-id:date:x-gm-message-state:from:to:cc :subject:date:message-id:reply-to; bh=0Zn2NSTu+wfKefmkhR1s8WDvfFH9hSJsuFmDyNSOxGc=; b=nToSYIDZUrw9iFliy/YL/7QUQIiRkzCf6tKPOh/qO3o5hP952Iskp+qHdqxoWr8+5Q jB2tAEEQufMQ05ZYdj3yeXCuiK7LDIjXobZDdfpKWSE7p6CL8vBj4RKVfU+/CwhGEBr2 M8Z2qKKzUmy8gYFaY1TSuvTrE9DxJNTMKAVOAwxI1ZeJNEu0i00hzxN7IbGs1nXKJaX/ u3AzBf3tH5cGLyCBl7WxDlPSrQPP1HBnJ9dxE0sOMfrL+yIoy0rd4qtXB7UVQ7CRGL8m FbAAgnZEkqzUYUrlnK7GiWuj0RK6KBZMbxePNJVo9So+bClXo9AXOJALpqrDgUApNZt/ m1kQ== X-Gm-Message-State: AOJu0Yyn/Rj54um8o8b1e+quk0aL4Jjp/gl5lJKv0mEXNSDmSM5Pb/yW kgAcSwVQzMAdP1SH7UchGOsjf+zq3k0aBFUJYRMNYdzrvu9aUKhIy+v+ub9VJpdJDKU9frfvEU1 gCq7VI1h8XdmI40Fk9cRtaTkPYQLdKNFa7lS2mhoL X-Gm-Gg: ASbGncsFSWH+1Uy1kFSgmIQOIRSKQUEQ2egSXi5V2X5wSFIyillRvxt+M9jM6FO1O8t RDKgFzMdkJ9TIdnsx0Fh5ZV3rQ43zNQNNF3ooJoDJG21d8FOaAN3oytccdwg7+lXEh1JTY8fDhA h7bi7zHybRqosm+veaf81hgsma+ZIWYetuXd4zlCDwhd+u0qsLwiasU8ulK383HKMCuz4VpmMPX UVs1dOmCSLi5/sjjXIIgBCkFNzXFyG99ooA//9zt82ivIa50L56KRHnDhpM2Wfn9OlT9tPBMsQt Mossi9/lx3lxENO7n9twdMryoTmtXsEPFZrK X-Google-Smtp-Source: AGHT+IEcHhjsc7iMQFHk4DBEp5cZhppsSPU65VU5x6MpITvE7gXMJMGm5P2tIYzT9T2g6gToKOK9hPqx/tPm X-Received: by 2002:a05:6e02:1985:b0:3d6:cb49:1e5f with SMTP id e9e14a558f8ab-3d96790c529mr34470145ab.2.1746020541114; Wed, 30 Apr 2025 06:42:21 -0700 (PDT) Received: from postal.iol.unh.edu (postal.iol.unh.edu. [132.177.123.84]) by smtp-relay.gmail.com with ESMTPS id 8926c6da1cb9f-4f8630c86c5sm279705173.61.2025.04.30.06.42.21 (version=TLS1_2 cipher=ECDHE-ECDSA-AES128-GCM-SHA256 bits=128/128); Wed, 30 Apr 2025 06:42:21 -0700 (PDT) X-Relaying-Domain: iol.unh.edu Date: Wed, 30 Apr 2025 06:42:21 -0700 (PDT) Message-ID: <681228bd.050a0220.1040ec.a0d9SMTPIN_ADDED_MISSING@mx.google.com> Received: from [172.17.0.2] (unknown [172.18.0.74]) by postal.iol.unh.edu (Postfix) with ESMTP id 8CCDD6052471; Wed, 30 Apr 2025 09:42:20 -0400 (EDT) Subject: |SUCCESS| [GIT MASTER] fbc38e47cb04dd99313b35ec6809bc7e52730f3f From: dpdklab@iol.unh.edu To: Test Report Cc: dpdk-test-reports@iol.unh.edu, Bruce Richardson Content-Type: text/plain X-BeenThere: test-report@dpdk.org X-Mailman-Version: 2.1.29 Precedence: list List-Id: automatic DPDK test reports List-Unsubscribe: , List-Archive: List-Post: List-Help: List-Subscribe: , Errors-To: test-report-bounces@dpdk.org _Testing PASS_ Branch: dpdk-next-net-intel fbc38e47cb04dd99313b35ec6809bc7e52730f3f --> testing pass Upstream job id: Generic-VM-Unit-Test-DPDK#28257 Test environment and result as below: +---------------------+----------------+ | Environment | dpdk_unit_test | +=====================+================+ | CentOS Stream 9 | PASS | +---------------------+----------------+ | CentOS Stream 10 | PASS | +---------------------+----------------+ | Fedora 40 | PASS | +---------------------+----------------+ | Fedora 40 (Clang) | PASS | +---------------------+----------------+ | Debian 12 | PASS | +---------------------+----------------+ | Fedora 41 | PASS | +---------------------+----------------+ | Fedora 41 (Clang) | PASS | +---------------------+----------------+ | Ubuntu 22.04 | PASS | +---------------------+----------------+ | RHEL8 | PASS | +---------------------+----------------+ | Ubuntu 20.04 | PASS | +---------------------+----------------+ | RHEL9 | PASS | +---------------------+----------------+ | Ubuntu 24.04 | PASS | +---------------------+----------------+ | Windows Server 2022 | PASS | +---------------------+----------------+ CentOS Stream 9 Kernel: Depends on container host Compiler: gcc 11.5.0 20240719 (Red Hat 11.5.0-2) CentOS Stream 10 Kernel: Depends on container host Compiler: gcc 14.2.1 20241104 (Red Hat 14.2.1-6) Fedora 40 Kernel: Depends on container host Compiler: gcc 14.2.1 20240912 (Red Hat 14.2.1-3) Fedora 40 (Clang) Kernel: Depends on container host Compiler: clang 18.1.8 (Fedora 18.1.8-1.fc40) Debian 12 Kernel: Depends on container host Compiler: gcc (Debian 12.2.0-14) 12.2.0 Fedora 41 Kernel: Depends on container host Compiler: gcc 14.2.1 20240912 (Red Hat 14.2.1-3) Fedora 41 (Clang) Kernel: Depends on container host Compiler: clang 19.1.5 (Fedora 19.1.5-1.fc41) Ubuntu 22.04 Kernel: Depends on container host Compiler: gcc (Ubuntu 11.4.0-1ubuntu1~22.04) 11.4.0 RHEL8 Kernel: Depends on container host Compiler: gcc 8.5.0 20210514 (Red Hat 8.5.0-22) Ubuntu 20.04 Kernel: Depends on container host Compiler: gcc (Ubuntu 9.4.0-1ubuntu1~20.04.2) 9.4.0 RHEL9 Kernel: Depends on container host Compiler: gcc 11.5.0 20240719 (Red Hat 11.5.0-2) Ubuntu 24.04 Kernel: Depends on container host Compiler: gcc (Ubuntu 13.3.0-6ubuntu2~24.04) 13.3.0 Windows Server 2022 Kernel: 10.0.20348.2031 Compiler: clang 15.0.7, gcc 14.1.0 (MinGW), and MSVC VS 19.39.33521 To view detailed results, visit: https://lab.dpdk.org/results/dashboard/tarballs/33399/ UNH-IOL DPDK Community Lab To manage your email subscriptions, visit: https://lab.dpdk.org/results/dashboard/preferences/subscriptions/