From mboxrd@z Thu Jan 1 00:00:00 1970 Return-Path: Received: from mails.dpdk.org (mails.dpdk.org [217.70.189.124]) by inbox.dpdk.org (Postfix) with ESMTP id 35BE746669 for ; Wed, 30 Apr 2025 15:44:36 +0200 (CEST) Received: from mails.dpdk.org (localhost [127.0.0.1]) by mails.dpdk.org (Postfix) with ESMTP id 108A340280; Wed, 30 Apr 2025 15:44:36 +0200 (CEST) Received: from mail-yw1-f228.google.com (mail-yw1-f228.google.com [209.85.128.228]) by mails.dpdk.org (Postfix) with ESMTP id EDCDE40279 for ; Wed, 30 Apr 2025 15:44:33 +0200 (CEST) Received: by mail-yw1-f228.google.com with SMTP id 00721157ae682-70811611315so62576917b3.1 for ; Wed, 30 Apr 2025 06:44:33 -0700 (PDT) DKIM-Signature: v=1; a=rsa-sha256; c=relaxed/relaxed; d=iol.unh.edu; s=unh-iol; t=1746020673; x=1746625473; darn=dpdk.org; h=cc:to:from:subject:message-id:date:from:to:cc:subject:date :message-id:reply-to; bh=vWFZaQ/I6VJ1AqJ7HDQwPBYAB5b/c3jT5e/0MOs4b8k=; b=bDkbIXTBIIBm53bn4ie0XO5nk9ySNnEeyARBYR14L/Tr7enHsNEVxI39uwyGmEUyWp WEWXiAa8NJAwyNm8fV3w1nqe2Ooe/qpA9KVqERvAnDuVqCIMA97yW77LBbIFdzDQYJ4p b9NOL9GwAKHHm8hXn2UE6nwSvfGpYHuc/KrQU= X-Google-DKIM-Signature: v=1; a=rsa-sha256; c=relaxed/relaxed; d=1e100.net; s=20230601; t=1746020673; x=1746625473; h=cc:to:from:subject:message-id:date:x-gm-message-state:from:to:cc :subject:date:message-id:reply-to; bh=vWFZaQ/I6VJ1AqJ7HDQwPBYAB5b/c3jT5e/0MOs4b8k=; b=d/MVw1s9BE/nHG241YTED2jEJISfyGPLCc8uHDMybf/4L3HceC5mYzdl/KkIW9LxrL HBnwDLwrfEj34CRtc5pbxmdZnxdT6NPizTZcIxR2xOI+KX9OYjTvFsymwyF6LOK+QOm2 SIaVxpJERQhHz43fq3irXKfDR4Ojb7bGI2IH17+nkmiUlVRlPb7l2a8e4P6zW74o0rAw AO5vbgrYVkW/HRjnZINJ6KGi/MB8uR6Vj8RUe3d5uMi3VVCGUf8TfVsAWbWQuXgRRgdy f4xJGi+G8OQlhdUthGjTw2PkXs2A74z8ifECaLD6I6CvJSZrinALVwj5gE9vcPzpCXRH vA7w== X-Gm-Message-State: AOJu0YzUItPG3dsi3oat3/2N1oZJTrJ8+vYQlZVKhxW4zKXWzhoFG2CI /3CNkdogG+CqkLGezTdubC0MiD9gJZwaZKKcIBlIejni7i8sHKEcX/kcE6m/ODy5ksABhOsGpPi YUOiIGPGv2CjwIL0iwPJIMulfJFXDJeXrcaWkO87DtZE8/Pl2pbWaNPle X-Gm-Gg: ASbGncuge0GIFgGz4SJ/xetKje0cEcvK5Q9JfsqR1aNgsGTFpaRleDd0DMaPnVJlmp8 M7vbNiKZIQOvrhJgIsm+NzFDiwbHgaPwBJEm0yzEUhI3r8dctYIEgQrR3uBlElXRXA3L74ceoBJ xstaVkpVZgG6aBcXij2oVZUY2IvKNlu2sD9ETp+AWM5vPto4MHgQBl8RKI7HjJIWAC5MSzfKXga oGaxVm4OdOpGMEqjCikC1bym/n4TKR5Db9K0QkDXaE+aN7rYpjLwlOa7Zwob4uGWc5ZZV/KkhyL PB6AdqpXE8/MrUN00pwIiNUN5qPpYjHT1J9AZGeoOAr5a1QS X-Google-Smtp-Source: AGHT+IE7tcumO79enjSHyGny8gRI2YW2lBv/Ij+1PaW0Vzl9FUApEDJV1I2+9I+2zEeaSiR0/2C0vlrLoQlE X-Received: by 2002:a05:690c:6287:b0:6ff:1fac:c4ef with SMTP id 00721157ae682-708ad6bed76mr39991137b3.23.1746020673160; Wed, 30 Apr 2025 06:44:33 -0700 (PDT) Received: from postal.iol.unh.edu (postal.iol.unh.edu. [2606:4100:3880:1234::84]) by smtp-relay.gmail.com with ESMTPS id 00721157ae682-708adfb5916sm601897b3.8.2025.04.30.06.44.33 (version=TLS1_2 cipher=ECDHE-ECDSA-AES128-GCM-SHA256 bits=128/128); Wed, 30 Apr 2025 06:44:33 -0700 (PDT) X-Relaying-Domain: iol.unh.edu Date: Wed, 30 Apr 2025 06:44:33 -0700 (PDT) Message-ID: <68122941.050a0220.3a7c9.2e8bSMTPIN_ADDED_MISSING@mx.google.com> Received: from [172.17.0.2] (unknown [172.18.0.74]) by postal.iol.unh.edu (Postfix) with ESMTP id BA5E36052471; Wed, 30 Apr 2025 09:44:32 -0400 (EDT) Subject: |SUCCESS| [GIT MASTER] fbc38e47cb04dd99313b35ec6809bc7e52730f3f From: dpdklab@iol.unh.edu To: Test Report Cc: dpdk-test-reports@iol.unh.edu, Bruce Richardson Content-Type: text/plain X-BeenThere: test-report@dpdk.org X-Mailman-Version: 2.1.29 Precedence: list List-Id: automatic DPDK test reports List-Unsubscribe: , List-Archive: List-Post: List-Help: List-Subscribe: , Errors-To: test-report-bounces@dpdk.org _Testing PASS_ Branch: dpdk-next-net-intel fbc38e47cb04dd99313b35ec6809bc7e52730f3f --> testing pass Upstream job id: Windows-Compile-DPDK-Native#28145 Test environment and result as below: +-----------------------------------+--------------------+-------------------+------------------+-------------------+-------------------------+----------------------+ | Environment | dpdk_meson_compile | dpdk_compile_spdk | dpdk_compile_ovs | dpdk_msvc_compile | dpdk_llvm_clang_compile | dpdk_mingw64_compile | +===================================+====================+===================+==================+===================+=========================+======================+ | CentOS Stream 9 | PASS | PASS | SKIPPED | SKIPPED | SKIPPED | SKIPPED | +-----------------------------------+--------------------+-------------------+------------------+-------------------+-------------------------+----------------------+ | Debian 12 | PASS | PASS | SKIPPED | SKIPPED | SKIPPED | SKIPPED | +-----------------------------------+--------------------+-------------------+------------------+-------------------+-------------------------+----------------------+ | Fedora 40 | PASS | PASS | SKIPPED | SKIPPED | SKIPPED | SKIPPED | +-----------------------------------+--------------------+-------------------+------------------+-------------------+-------------------------+----------------------+ | Fedora 40 (Clang) | PASS | PASS | SKIPPED | SKIPPED | SKIPPED | SKIPPED | +-----------------------------------+--------------------+-------------------+------------------+-------------------+-------------------------+----------------------+ | Fedora 41 | PASS | PASS | PASS | SKIPPED | SKIPPED | SKIPPED | +-----------------------------------+--------------------+-------------------+------------------+-------------------+-------------------------+----------------------+ | Fedora 41 (Clang) | PASS | PASS | PASS | SKIPPED | SKIPPED | SKIPPED | +-----------------------------------+--------------------+-------------------+------------------+-------------------+-------------------------+----------------------+ | RHEL9 | PASS | SKIPPED | SKIPPED | SKIPPED | SKIPPED | SKIPPED | +-----------------------------------+--------------------+-------------------+------------------+-------------------+-------------------------+----------------------+ | openSUSE Leap 15 | PASS | SKIPPED | SKIPPED | SKIPPED | SKIPPED | SKIPPED | +-----------------------------------+--------------------+-------------------+------------------+-------------------+-------------------------+----------------------+ | Ubuntu 20.04 | PASS | SKIPPED | SKIPPED | SKIPPED | SKIPPED | SKIPPED | +-----------------------------------+--------------------+-------------------+------------------+-------------------+-------------------------+----------------------+ | RHEL8 | PASS | SKIPPED | SKIPPED | SKIPPED | SKIPPED | SKIPPED | +-----------------------------------+--------------------+-------------------+------------------+-------------------+-------------------------+----------------------+ | Ubuntu 24.04 | PASS | PASS | PASS | SKIPPED | SKIPPED | SKIPPED | +-----------------------------------+--------------------+-------------------+------------------+-------------------+-------------------------+----------------------+ | Ubuntu 22.04 | PASS | PASS | SKIPPED | SKIPPED | SKIPPED | SKIPPED | +-----------------------------------+--------------------+-------------------+------------------+-------------------+-------------------------+----------------------+ | Alpine | PASS | SKIPPED | SKIPPED | SKIPPED | SKIPPED | SKIPPED | +-----------------------------------+--------------------+-------------------+------------------+-------------------+-------------------------+----------------------+ | Ubuntu 24.04 32 Bit Cross Compile | PASS | SKIPPED | SKIPPED | SKIPPED | SKIPPED | SKIPPED | +-----------------------------------+--------------------+-------------------+------------------+-------------------+-------------------------+----------------------+ | FreeBSD 13.5 | PASS | SKIPPED | SKIPPED | SKIPPED | SKIPPED | SKIPPED | +-----------------------------------+--------------------+-------------------+------------------+-------------------+-------------------------+----------------------+ | FreeBSD 14.2 | PASS | SKIPPED | SKIPPED | SKIPPED | SKIPPED | SKIPPED | +-----------------------------------+--------------------+-------------------+------------------+-------------------+-------------------------+----------------------+ | Windows Server 2022 | SKIPPED | SKIPPED | SKIPPED | PASS | PASS | PASS | +-----------------------------------+--------------------+-------------------+------------------+-------------------+-------------------------+----------------------+ CentOS Stream 9 Kernel: Depends on container host Compiler: gcc 11.5.0 20240719 (Red Hat 11.5.0-2) Debian 12 Kernel: Depends on container host Compiler: gcc (Debian 12.2.0-14) 12.2.0 Fedora 40 Kernel: Depends on container host Compiler: gcc 14.2.1 20240912 (Red Hat 14.2.1-3) Fedora 40 (Clang) Kernel: Depends on container host Compiler: clang 18.1.8 (Fedora 18.1.8-1.fc40) Fedora 41 Kernel: Depends on container host Compiler: gcc 14.2.1 20240912 (Red Hat 14.2.1-3) Fedora 41 (Clang) Kernel: Depends on container host Compiler: clang 19.1.5 (Fedora 19.1.5-1.fc41) RHEL9 Kernel: Depends on container host Compiler: gcc 11.5.0 20240719 (Red Hat 11.5.0-2) openSUSE Leap 15 Kernel: Depends on container host Compiler: gcc (SUSE Linux) 7.5.0 Ubuntu 20.04 Kernel: Depends on container host Compiler: gcc (Ubuntu 9.4.0-1ubuntu1~20.04.2) 9.4.0 RHEL8 Kernel: Depends on container host Compiler: gcc 8.5.0 20210514 (Red Hat 8.5.0-22) Ubuntu 24.04 Kernel: Depends on container host Compiler: gcc (Ubuntu 13.3.0-6ubuntu2~24.04) 13.3.0 Ubuntu 22.04 Kernel: Depends on container host Compiler: gcc (Ubuntu 11.4.0-1ubuntu1~22.04) 11.4.0 Alpine Kernel: Depends on container host Compiler: gcc (Alpine 14.2.0) 14.2.0 Ubuntu 24.04 32 Bit Cross Compile Kernel: Depends on container host Compiler: gcc (Ubuntu 13.3.0-6ubuntu2~24.04) 13.3.0 FreeBSD 13.5 Kernel: 13.5-RELEASE Compiler: clang 19.1.7 FreeBSD 14.2 Kernel: 14.2-RELEASE Compiler: clang 18.1.6 Windows Server 2022 Kernel: 10.0.20348.2031 Compiler: clang 15.0.7, gcc 14.1.0 (MinGW), and MSVC VS 19.39.33521 To view detailed results, visit: https://lab.dpdk.org/results/dashboard/tarballs/33399/ UNH-IOL DPDK Community Lab To manage your email subscriptions, visit: https://lab.dpdk.org/results/dashboard/preferences/subscriptions/