From mboxrd@z Thu Jan 1 00:00:00 1970 Return-Path: Received: from mails.dpdk.org (mails.dpdk.org [217.70.189.124]) by inbox.dpdk.org (Postfix) with ESMTP id DA5B346669 for ; Wed, 30 Apr 2025 15:50:38 +0200 (CEST) Received: from mails.dpdk.org (localhost [127.0.0.1]) by mails.dpdk.org (Postfix) with ESMTP id C6BE44042E; Wed, 30 Apr 2025 15:50:38 +0200 (CEST) Received: from mail-pj1-f97.google.com (mail-pj1-f97.google.com [209.85.216.97]) by mails.dpdk.org (Postfix) with ESMTP id 0054D402D4 for ; Wed, 30 Apr 2025 15:50:36 +0200 (CEST) Received: by mail-pj1-f97.google.com with SMTP id 98e67ed59e1d1-2ff799d99dcso7337363a91.1 for ; Wed, 30 Apr 2025 06:50:36 -0700 (PDT) DKIM-Signature: v=1; a=rsa-sha256; c=relaxed/relaxed; d=iol.unh.edu; s=unh-iol; t=1746021036; x=1746625836; darn=dpdk.org; h=cc:to:from:subject:message-id:date:from:to:cc:subject:date :message-id:reply-to; bh=tA57sebJc2IV2b99cQs3t55WdbMjUWseyMRB0JqHWg8=; b=AmV+zE5ffdpSH4jbc87nGMZWpe0ao3FoX7+Xf/1Tvs97mq/ew6TtFGSydRs/pJIbpb h//NYBWEsz7DLITTK512MaMQdFN358Xw+xkuebDrHqNmi+uP+6cPOhdpHT9ok0kG/D6g 4xLNK6ETJBTB5xRDDOry1O0D+iJsFirJu+lzI= X-Google-DKIM-Signature: v=1; a=rsa-sha256; c=relaxed/relaxed; d=1e100.net; s=20230601; t=1746021036; x=1746625836; h=cc:to:from:subject:message-id:date:x-gm-message-state:from:to:cc :subject:date:message-id:reply-to; bh=tA57sebJc2IV2b99cQs3t55WdbMjUWseyMRB0JqHWg8=; b=XExjzdIm2GAlfRwEeZ6kZpUZDvxU6Ho88UXc4oOKRtn10p3Hw0U1IBxYo0wlw57upV 8yN1A+8dg+nWj2Z8Ot56KQGfgcw0J224Dip9ZmQN/vKDmMxqcMJ++t0YeBI4ycG5Qw4g IWLT50uvRggrHzo+9f/W36ZKybUlwlvkwIDTiZuW6gxE2IEVaWwQr+fjUt+ZillKUSK2 cutcj3KaMM3MsizxbYORbvb2owLo0TOfSyKfdnLjkEXKRgBSwCVurSoCchaitvEJk03u w/RqOjPqEQbkiOnN8XUFS6y4dGRstkGIvYYsnhDB+k/2i1dkKjLegtvHB/ZCTPGb8K1d Zupw== X-Gm-Message-State: AOJu0YyHIij95w49LhK24A2JeC12BRWpQ1I5tJm/8thMjnpsLJFzrkNA CCEZ3DiTDHi10zCtqr7fTe+8dVSkH8N/DbvPLa8dMBSfIF6ARHjC5CCElc3WW4fqt1dendpC6y0 HUF2cH5xxsA8+v4Uurc0cpFNZfmpBNV5Bf9TsT4MT X-Gm-Gg: ASbGncssKW7ebqviu1iB27zZCgT3XFe79HH4NuPj8tPpygbQJGgntvt2lEp9/v5AxiK zeCLruNuxLsM9LXC06gjADPsbIJGEK+JBzHQmMg/vR+jZ+UjgpFDbzKDY4XeQdTHlKCgNb7Skkg 9oSVTR8UyfL/EAJNLnLFPa1cCg5eYaKZhghLCaRq0vu6BlLBvtiwduMtvHmMKEtacVcAaX4IOWY vXmJfP8frluqxS8welvfGiVtVsdO0Xp2o5qfnquCom51x36kvGkOUweFAW5237P7dknd/Wj1LSM wtXKH1HzOlK3mkys5VrRx/MmKV8X1C0QIYLC X-Google-Smtp-Source: AGHT+IHu6+iDy5oYngqGRHIgm9cksF4O3u/tgmm8Rdtv+Q4AJ/Ofxr+tdDkEnYcZGo/+Gw1elSXkWq8jP6Zx X-Received: by 2002:a17:90b:280c:b0:2ee:8427:4b02 with SMTP id 98e67ed59e1d1-30a333550ecmr4646993a91.28.1746021036064; Wed, 30 Apr 2025 06:50:36 -0700 (PDT) Received: from postal.iol.unh.edu (postal.iol.unh.edu. [132.177.123.84]) by smtp-relay.gmail.com with ESMTPS id 98e67ed59e1d1-30a263ea65asm30827a91.1.2025.04.30.06.50.35 (version=TLS1_2 cipher=ECDHE-ECDSA-AES128-GCM-SHA256 bits=128/128); Wed, 30 Apr 2025 06:50:36 -0700 (PDT) X-Relaying-Domain: iol.unh.edu Date: Wed, 30 Apr 2025 06:50:36 -0700 (PDT) Message-ID: <68122aac.170a0220.261c8f.0d19SMTPIN_ADDED_MISSING@mx.google.com> Received: from [172.17.0.2] (unknown [172.18.0.74]) by postal.iol.unh.edu (Postfix) with ESMTP id 26C3B6052471; Wed, 30 Apr 2025 09:50:35 -0400 (EDT) Subject: |SUCCESS| [GIT MASTER] fbc38e47cb04dd99313b35ec6809bc7e52730f3f From: dpdklab@iol.unh.edu To: Test Report Cc: dpdk-test-reports@iol.unh.edu, Bruce Richardson Content-Type: text/plain X-BeenThere: test-report@dpdk.org X-Mailman-Version: 2.1.29 Precedence: list List-Id: automatic DPDK test reports List-Unsubscribe: , List-Archive: List-Post: List-Help: List-Subscribe: , Errors-To: test-report-bounces@dpdk.org _Testing PASS_ Branch: dpdk-next-net-intel fbc38e47cb04dd99313b35ec6809bc7e52730f3f --> testing pass Upstream job id: Generic-VM-Unit-Test-DPDK#28258 Test environment and result as below: +---------------------+----------------+ | Environment | dpdk_unit_test | +=====================+================+ | CentOS Stream 9 | PASS | +---------------------+----------------+ | CentOS Stream 10 | PASS | +---------------------+----------------+ | Fedora 40 | PASS | +---------------------+----------------+ | Fedora 40 (Clang) | PASS | +---------------------+----------------+ | Debian 12 | PASS | +---------------------+----------------+ | Fedora 41 | PASS | +---------------------+----------------+ | Fedora 41 (Clang) | PASS | +---------------------+----------------+ | Ubuntu 22.04 | PASS | +---------------------+----------------+ | RHEL8 | PASS | +---------------------+----------------+ | Ubuntu 20.04 | PASS | +---------------------+----------------+ | RHEL9 | PASS | +---------------------+----------------+ | Ubuntu 24.04 | PASS | +---------------------+----------------+ | Windows Server 2022 | PASS | +---------------------+----------------+ CentOS Stream 9 Kernel: Depends on container host Compiler: gcc 11.5.0 20240719 (Red Hat 11.5.0-2) CentOS Stream 10 Kernel: Depends on container host Compiler: gcc 14.2.1 20241104 (Red Hat 14.2.1-6) Fedora 40 Kernel: Depends on container host Compiler: gcc 14.2.1 20240912 (Red Hat 14.2.1-3) Fedora 40 (Clang) Kernel: Depends on container host Compiler: clang 18.1.8 (Fedora 18.1.8-1.fc40) Debian 12 Kernel: Depends on container host Compiler: gcc (Debian 12.2.0-14) 12.2.0 Fedora 41 Kernel: Depends on container host Compiler: gcc 14.2.1 20240912 (Red Hat 14.2.1-3) Fedora 41 (Clang) Kernel: Depends on container host Compiler: clang 19.1.5 (Fedora 19.1.5-1.fc41) Ubuntu 22.04 Kernel: Depends on container host Compiler: gcc (Ubuntu 11.4.0-1ubuntu1~22.04) 11.4.0 RHEL8 Kernel: Depends on container host Compiler: gcc 8.5.0 20210514 (Red Hat 8.5.0-22) Ubuntu 20.04 Kernel: Depends on container host Compiler: gcc (Ubuntu 9.4.0-1ubuntu1~20.04.2) 9.4.0 RHEL9 Kernel: Depends on container host Compiler: gcc 11.5.0 20240719 (Red Hat 11.5.0-2) Ubuntu 24.04 Kernel: Depends on container host Compiler: gcc (Ubuntu 13.3.0-6ubuntu2~24.04) 13.3.0 Windows Server 2022 Kernel: 10.0.20348.2031 Compiler: clang 15.0.7, gcc 14.1.0 (MinGW), and MSVC VS 19.39.33521 To view detailed results, visit: https://lab.dpdk.org/results/dashboard/tarballs/33399/ UNH-IOL DPDK Community Lab To manage your email subscriptions, visit: https://lab.dpdk.org/results/dashboard/preferences/subscriptions/