From mboxrd@z Thu Jan 1 00:00:00 1970 Return-Path: Received: from mails.dpdk.org (mails.dpdk.org [217.70.189.124]) by inbox.dpdk.org (Postfix) with ESMTP id 4A83D4666C for ; Wed, 30 Apr 2025 16:03:43 +0200 (CEST) Received: from mails.dpdk.org (localhost [127.0.0.1]) by mails.dpdk.org (Postfix) with ESMTP id 215D44028C; Wed, 30 Apr 2025 16:03:43 +0200 (CEST) Received: from mail-pf1-f226.google.com (mail-pf1-f226.google.com [209.85.210.226]) by mails.dpdk.org (Postfix) with ESMTP id 0550D40280 for ; Wed, 30 Apr 2025 16:03:41 +0200 (CEST) Received: by mail-pf1-f226.google.com with SMTP id d2e1a72fcca58-739b3fe7ce8so6904010b3a.0 for ; Wed, 30 Apr 2025 07:03:41 -0700 (PDT) DKIM-Signature: v=1; a=rsa-sha256; c=relaxed/relaxed; d=iol.unh.edu; s=unh-iol; t=1746021821; x=1746626621; darn=dpdk.org; h=cc:to:from:subject:message-id:date:from:to:cc:subject:date :message-id:reply-to; bh=HuVsiHeAMPD7eUqThkTDL71xSS/aAkIzm0Geo9sU1WY=; b=ii8g7zbj1DAMceG6nYMU3EeYAoE/vyqkUDBAWw8PbZnPfHmCa2iipwf2CBf5oylFsp HB+CdfY36AEztcV8GH5bsAvk5yThX+5EKJa2eFFq4YAs33iLSNisoAw+6oXOa1orEjR9 X/vEgqdZhHA/+/H5ZHUsbgreujlIFiqtBm3aA= X-Google-DKIM-Signature: v=1; a=rsa-sha256; c=relaxed/relaxed; d=1e100.net; s=20230601; t=1746021821; x=1746626621; h=cc:to:from:subject:message-id:date:x-gm-message-state:from:to:cc :subject:date:message-id:reply-to; bh=HuVsiHeAMPD7eUqThkTDL71xSS/aAkIzm0Geo9sU1WY=; b=jwXsWRNoL4zyo3qkiC5YXAAoV6GqBVyi2U+aT3ODLWs3VIc7ate3LoD7Y9f3hbcj2t PPjYsglrBtt9m0Y/BYA0EXR1MM6LlSMSxxJXb6jSaN69CjM0JkO3cZu0FJT1qBpjs9K/ 3NlTkRzqjRwkjr2UJH3YALidKKIqJuZdb0IpHA75ybyxk1WMjYcQ+cAedK4vv8VbXGy/ 8VEkpF/op4tbkSmPS7DorevPNGesRkXHfpWVVjlYTnKA2uGa8w8Eu2cW6cL/OdaZmPd0 ObX81Wg4UncEbKJBrboYzRxx1X0fnbXzjci+dTO17E5mzduTa/eKAXONiSM/dYjE/rN0 G24Q== X-Gm-Message-State: AOJu0Yx8n8lJHDl1vu9h0xZcog7g4ocmBsQkffaaMM/246qtxoX/Eh6z uO1q7GeBY+UCjODz1dOyYLkCY0jU5SgJv7jJosyZ0etZwrL6nRjZcOQX09CBjBgZ9vQdD95zbal 6W3jkvqNMhSvQbSMzVEPPbt2b0aVgU8b2lGsniduE X-Gm-Gg: ASbGncvUcIImMSRAjjhGcuYRK8S+57QnKK/nDYlwIFZAtKDBjoxbD4LSCpS9l8avMU5 QphD/dhXwhga8e2dCoTaAbz5WKxvsCc9xN4nTRn9B/VsygjlJi/+4yK5lpaL6Y+koECQGzbkxrA 3wDYbbCHfFTh3ev4+MCV2TMjd+KJ0C2kKli1w+yHd38JLHd6IEwBnzQV1WfClxnCE/n8V47+EXZ iw2fMYN5qP0hMHePzmoSwzZ68hDqPDMP8t5OdST+PZ4coOABMc7i0r7NEBn8LCZ49+a2LBhl0dc sPGsdH6oNqLUmUtP5PxgEtGinyXjO1Qv3g/q X-Google-Smtp-Source: AGHT+IEpAQj2v12WRFUEUCLEyM1MGTnzwSxijMSMDAlwCbVlUH/s7dXTG9VWCyRhMAJTLTj6gzsKwIcSxbah X-Received: by 2002:a05:6a00:2385:b0:736:32d2:aa8e with SMTP id d2e1a72fcca58-74038992c75mr4681098b3a.6.1746021821076; Wed, 30 Apr 2025 07:03:41 -0700 (PDT) Received: from postal.iol.unh.edu (postal.iol.unh.edu. [132.177.123.84]) by smtp-relay.gmail.com with ESMTPS id d2e1a72fcca58-740398e6c99sm98975b3a.1.2025.04.30.07.03.40 (version=TLS1_2 cipher=ECDHE-ECDSA-AES128-GCM-SHA256 bits=128/128); Wed, 30 Apr 2025 07:03:41 -0700 (PDT) X-Relaying-Domain: iol.unh.edu Date: Wed, 30 Apr 2025 07:03:41 -0700 (PDT) Message-ID: <68122dbd.050a0220.10ea63.4be7SMTPIN_ADDED_MISSING@mx.google.com> Received: from [172.17.0.2] (unknown [172.18.0.74]) by postal.iol.unh.edu (Postfix) with ESMTP id ADF8C6052471; Wed, 30 Apr 2025 10:03:39 -0400 (EDT) Subject: |SUCCESS| [GIT MASTER] fbc38e47cb04dd99313b35ec6809bc7e52730f3f From: dpdklab@iol.unh.edu To: Test Report Cc: dpdk-test-reports@iol.unh.edu, Bruce Richardson Content-Type: text/plain X-BeenThere: test-report@dpdk.org X-Mailman-Version: 2.1.29 Precedence: list List-Id: automatic DPDK test reports List-Unsubscribe: , List-Archive: List-Post: List-Help: List-Subscribe: , Errors-To: test-report-bounces@dpdk.org _Testing PASS_ Branch: dpdk-next-net-intel fbc38e47cb04dd99313b35ec6809bc7e52730f3f --> testing pass Upstream job id: ACVP-FIPS-testing#9679 Test environment and result as below: +--------------------+----------------------+----------------------+ | Environment | compressdev_zlib_pmd | dpdk_fips_validation | +====================+======================+======================+ | Ubuntu 22.04 (ARM) | PASS | SKIPPED | +--------------------+----------------------+----------------------+ | Ubuntu 22.04 | PASS | SKIPPED | +--------------------+----------------------+----------------------+ | Ubuntu 20.04 | SKIPPED | PASS | +--------------------+----------------------+----------------------+ Ubuntu 22.04 (ARM) Kernel: 5.15.0-97-generic Compiler: gcc gcc (Ubuntu 11.4.0-1ubuntu1~22.04) 11.4.0 Ubuntu 22.04 Kernel: 5.15.0-100-generic Compiler: gcc gcc (Ubuntu 11.4.0-1ubuntu1~22.04) 11.4.0 Ubuntu 20.04 Kernel: Depends on container host Compiler: gcc (Ubuntu 9.4.0-1ubuntu1~20.04.2) 9.4.0 To view detailed results, visit: https://lab.dpdk.org/results/dashboard/tarballs/33399/ UNH-IOL DPDK Community Lab To manage your email subscriptions, visit: https://lab.dpdk.org/results/dashboard/preferences/subscriptions/