From mboxrd@z Thu Jan 1 00:00:00 1970 Return-Path: Received: from mails.dpdk.org (mails.dpdk.org [217.70.189.124]) by inbox.dpdk.org (Postfix) with ESMTP id 2E19D4666C for ; Wed, 30 Apr 2025 16:48:11 +0200 (CEST) Received: from mails.dpdk.org (localhost [127.0.0.1]) by mails.dpdk.org (Postfix) with ESMTP id 2A6AD402B1; Wed, 30 Apr 2025 16:48:11 +0200 (CEST) Received: from mail-yb1-f225.google.com (mail-yb1-f225.google.com [209.85.219.225]) by mails.dpdk.org (Postfix) with ESMTP id 70A5F402A0 for ; Wed, 30 Apr 2025 16:48:09 +0200 (CEST) Received: by mail-yb1-f225.google.com with SMTP id 3f1490d57ef6-e731cd5f2adso4341887276.0 for ; Wed, 30 Apr 2025 07:48:09 -0700 (PDT) DKIM-Signature: v=1; a=rsa-sha256; c=relaxed/relaxed; d=iol.unh.edu; s=unh-iol; t=1746024488; x=1746629288; darn=dpdk.org; h=cc:to:from:subject:message-id:date:from:to:cc:subject:date :message-id:reply-to; bh=jKRfg8HARimFeEPIaRil2MmfqLYs3oDPnPbsairhIrU=; b=ZkfOKkNq9Cl9ZXZE9fdgUfQDGR8Ih0JNGmB7+ZGPmxJD1yuJF8qDZqSlRUURUXf43B Xp+nTTRw6YmSL26dr97rT0D6OmT/KUqKHCajMNmEf1wkptF7blCRpRQ+6PDU7sQPBl1f HHaLwHL2nTOk7u6D+9n8kIE8fxIC97XipcM9w= X-Google-DKIM-Signature: v=1; a=rsa-sha256; c=relaxed/relaxed; d=1e100.net; s=20230601; t=1746024488; x=1746629288; h=cc:to:from:subject:message-id:date:x-gm-message-state:from:to:cc :subject:date:message-id:reply-to; bh=jKRfg8HARimFeEPIaRil2MmfqLYs3oDPnPbsairhIrU=; b=Wu4lz+WZvXu/xyQ2CeqGKjkz/jjZvOCZclisQ1wElgCMxPgcpBNGij+L5G7OtRKZS+ SyiqtF09omOSrz2g0u1rwI7JNKTOw6jAXbLYnyQtxidzoPJXPZakT7Ibbann2daQvo/j z6EqFSB1HdjG+6o/GzkQ/54C+5QU0G4aw0dTIF/ek5i7X/qa4L/PAV3azjR3pOjMvW6x hqInJYPaxVjec9+DZYWbxn/Nj86jtCskAKAhztLqOmZt39uC9RRS4CvOZsEoCVhmVPlF 51x5IeTGxTAr0ThmltiJGYovYGVixhyFoN98JyTqeZ4x0IyrcE56bQEFG6DacUjUCPXT WctA== X-Gm-Message-State: AOJu0YyAZMz0MdIIryCLMWmukxEILRJX66RM30MoL+kj74MXmufD3RjF Fb7AgaD1JD2IlMFdIXt1PZ7df/21p6OP7/DgnglkDob+gRwjOVcir5YYKIYgDL5vHfOYWkOw501 4XJZtVJL+V+FEUVXBzzSz+UVSQ9vPaIUdi4dDS0Z3 X-Gm-Gg: ASbGncuBfxTuMtlSPqs8KjNwMdeE3bNRKgZNUbrJiq6Kd0xT+eT9OcslWJsEiewDUEY Qql5lPxCY+JnoTZWMsJ1P/HVBPq1UiOyL3TBQhWRcnengjzbjoqYoA/Px5jcEieMUOMjwhHrZWO M5IU+DUyl41YIAE2PGrYM9AM6iYzM1x7R94XOHTpJu5ppaHMK843DVpNMtkv6IwN6dwUUMfluWO UPaa2O8BctNItIg98EkGh0jgMbUzbI5C1vW+XvJTZconST+pLvOYGozfObytEU5+MtYyvqtwL9A dt0TlFORet+AvwW4r/Bb/IZTiaWqoGKNHTML X-Google-Smtp-Source: AGHT+IGimbNe2BHs48AcfmstW/JYqfhrNv4G7uBD+S48+wT83fJ5eNwA8RVD5oSlAo7GqBFwXW/YnlWHuYRu X-Received: by 2002:a05:690c:1b:b0:6fe:bfb7:68bd with SMTP id 00721157ae682-708abd46579mr54120477b3.1.1746024488748; Wed, 30 Apr 2025 07:48:08 -0700 (PDT) Received: from postal.iol.unh.edu (postal.iol.unh.edu. [132.177.123.84]) by smtp-relay.gmail.com with ESMTPS id 00721157ae682-708ae1fb9b9sm1144757b3.65.2025.04.30.07.48.08 (version=TLS1_2 cipher=ECDHE-ECDSA-AES128-GCM-SHA256 bits=128/128); Wed, 30 Apr 2025 07:48:08 -0700 (PDT) X-Relaying-Domain: iol.unh.edu Date: Wed, 30 Apr 2025 07:48:08 -0700 (PDT) Message-ID: <68123828.0d0a0220.11d5e9.62d7SMTPIN_ADDED_MISSING@mx.google.com> Received: from [172.21.0.6] (unknown [172.18.0.240]) by postal.iol.unh.edu (Postfix) with ESMTP id 4DAE76052471; Wed, 30 Apr 2025 10:48:08 -0400 (EDT) Subject: |SUCCESS| [GIT MASTER] fbc38e47cb04dd99313b35ec6809bc7e52730f3f From: dpdklab@iol.unh.edu To: Test Report Cc: dpdk-test-reports@iol.unh.edu, Bruce Richardson Content-Type: text/plain X-BeenThere: test-report@dpdk.org X-Mailman-Version: 2.1.29 Precedence: list List-Id: automatic DPDK test reports List-Unsubscribe: , List-Archive: List-Post: List-Help: List-Subscribe: , Errors-To: test-report-bounces@dpdk.org _Testing PASS_ Branch: dpdk-next-net-intel fbc38e47cb04dd99313b35ec6809bc7e52730f3f --> testing pass Upstream job id: Generic-DPDK-Compile-Meson#384107 Test environment and result as below: +----------------------------------------+--------------------+ | Environment | dpdk_meson_compile | +========================================+====================+ | Ubuntu 20.04 ARM SVE | PASS | +----------------------------------------+--------------------+ | RHEL9 (ARM) | PASS | +----------------------------------------+--------------------+ | Ubuntu 20.04 ARM GCC Cross Compile | PASS | +----------------------------------------+--------------------+ | Debian 12 with MUSDK | PASS | +----------------------------------------+--------------------+ | Ubuntu 20.04 (ARM) | PASS | +----------------------------------------+--------------------+ | Fedora 41 (ARM) | PASS | +----------------------------------------+--------------------+ | Ubuntu 24.04 (ARM) | PASS | +----------------------------------------+--------------------+ | Fedora 40 (ARM) | PASS | +----------------------------------------+--------------------+ | Fedora 41 (ARM Clang) | PASS | +----------------------------------------+--------------------+ | Fedora 40 (ARM Clang) | PASS | +----------------------------------------+--------------------+ | Ubuntu 22.04 (ARM) | PASS | +----------------------------------------+--------------------+ | CentOS Stream 9 (ARM) | PASS | +----------------------------------------+--------------------+ | CentOS Stream 10 (ARM) | PASS | +----------------------------------------+--------------------+ | Ubuntu 20.04 ARM Clang Cross Compile | PASS | +----------------------------------------+--------------------+ | Debian 12 (arm) | PASS | +----------------------------------------+--------------------+ | Ubuntu 20.04 aarch32 GCC Cross Compile | PASS | +----------------------------------------+--------------------+ Ubuntu 20.04 ARM SVE Kernel: Depends on container host Compiler: gcc (Ubuntu 10.5.0-1ubuntu1~20.04) 10.5.0 RHEL9 (ARM) Kernel: Depends on container host Compiler: gcc 11.5.0 20240719 (Red Hat 11.5.0-2) Ubuntu 20.04 ARM GCC Cross Compile Kernel: Depends on container host Compiler: aarch64-linux-gnu-gcc (Ubuntu 9.4.0-1ubuntu1~20.04.2) 9.4.0 Debian 12 with MUSDK Kernel: Depends on container host Compiler: gcc (Debian 12.2.0-14) 12.2.0 Ubuntu 20.04 (ARM) Kernel: Depends on container host Compiler: gcc (Ubuntu 9.4.0-1ubuntu1~20.04.2) 9.4.0 Fedora 41 (ARM) Kernel: Depends on container host Compiler: gcc 14.2.1 20240912 (Red Hat 14.2.1-3) Ubuntu 24.04 (ARM) Kernel: Depends on container host Compiler: gcc (Ubuntu 13.3.0-6ubuntu2~24.04) 13.3.0 Fedora 40 (ARM) Kernel: Depends on container host Compiler: gcc 14.2.1 20240912 (Red Hat 14.2.1-3) Fedora 41 (ARM Clang) Kernel: Depends on container host Compiler: clang 19.1.5 (Fedora 19.1.5-1.fc41) Fedora 40 (ARM Clang) Kernel: Depends on container host Compiler: clang 18.1.8 (Fedora 18.1.8-1.fc40) Ubuntu 22.04 (ARM) Kernel: Depends on container host Compiler: gcc (Ubuntu 11.4.0-1ubuntu1~22.04) 11.4.0 CentOS Stream 9 (ARM) Kernel: Depends on container host Compiler: gcc 11.5.0 20240719 (Red Hat 11.5.0-2) CentOS Stream 10 (ARM) Kernel: Depends on container host Compiler: gcc 14.2.1 20241104 (Red Hat 14.2.1-6) Ubuntu 20.04 ARM Clang Cross Compile Kernel: Depends on container host Compiler: clang 10.0.0-4ubuntu1 Debian 12 (arm) Kernel: Depends on container host Compiler: gcc (Debian 12.2.0-14) 12.2.0 Ubuntu 20.04 aarch32 GCC Cross Compile Kernel: Depends on container host Compiler: gcc 9.4.0 To view detailed results, visit: https://lab.dpdk.org/results/dashboard/tarballs/33399/ UNH-IOL DPDK Community Lab To manage your email subscriptions, visit: https://lab.dpdk.org/results/dashboard/preferences/subscriptions/