From mboxrd@z Thu Jan 1 00:00:00 1970 Return-Path: Received: from mails.dpdk.org (mails.dpdk.org [217.70.189.124]) by inbox.dpdk.org (Postfix) with ESMTP id A75E74666C for ; Wed, 30 Apr 2025 17:30:17 +0200 (CEST) Received: from mails.dpdk.org (localhost [127.0.0.1]) by mails.dpdk.org (Postfix) with ESMTP id 746B5402B1; Wed, 30 Apr 2025 17:30:17 +0200 (CEST) Received: from mail-il1-f226.google.com (mail-il1-f226.google.com [209.85.166.226]) by mails.dpdk.org (Postfix) with ESMTP id B33B9402A0 for ; Wed, 30 Apr 2025 17:30:16 +0200 (CEST) Received: by mail-il1-f226.google.com with SMTP id e9e14a558f8ab-3d8020ba858so81961645ab.0 for ; Wed, 30 Apr 2025 08:30:16 -0700 (PDT) DKIM-Signature: v=1; a=rsa-sha256; c=relaxed/relaxed; d=iol.unh.edu; s=unh-iol; t=1746027016; x=1746631816; darn=dpdk.org; h=references:in-reply-to:cc:to:from:subject:message-id:date:from:to :cc:subject:date:message-id:reply-to; bh=BaX959WaexS42swk6EojLgbLG1YdpSs1jMJKY7gxcDE=; b=WH6uoSx8EkU1Dq3XMRUo8kFFJ3mY/3ujrF1WYYAxjU2NZ7NUUJULf4FRdt7bUodYiF bZsg2NShcw3UIpxovUPMCBXVc3SDZapOrel+hr+iJZFJGjC/fG5obZ4j6OkxVLpTWKSg KPRFoevkDO+WwmKxV2EFIGIkW8Q2/eQbnHMvQ= X-Google-DKIM-Signature: v=1; a=rsa-sha256; c=relaxed/relaxed; d=1e100.net; s=20230601; t=1746027016; x=1746631816; h=references:in-reply-to:cc:to:from:subject:message-id:date :x-gm-message-state:from:to:cc:subject:date:message-id:reply-to; bh=BaX959WaexS42swk6EojLgbLG1YdpSs1jMJKY7gxcDE=; b=VFxGAeGgtiDh/xhYjtx64TJP+zoy64MS/Le/l6JCVwoNw5NCxfF83uNhdd6u9ayHM+ mi7PGdZUPol+51b0XVkowmDQ/sJ0hrM966lWU3yweFCszvLD/djVYb/tt9UNrjgEIfu+ p0+eyVnh8uTlxY3rUBzaRJsQpiQZbuVQ4UlFgjENiX+JxoFvX7ezIIHF7J7k1x5KIaw2 d7O4mZPVvBkT4MMKdyrKPgKAMnrmG3W5dVtZYRf6VLiZNMWTRVQjC49zAmL1P35EjCRY 4vq3i26E8lB/8pPPZ0dVaerKaWj/Cggvgehp9CZF8bzGf6YRfn87c3I+J95yCxp815lK x5qw== X-Gm-Message-State: AOJu0YwmDDPPCflNPxjyP0bU7GScCMwZaY5uprkFT06ksHcK1iOuTlxN DCvNF9zY5dwxwua3vZ7MKUnmxsfGcSFUx/dt1Xg7M6luNZe4qfYcu1NyozfHClL6Kd8UmTTy14m 9HV3ZUh1eAjsIzjvdyDcctMjgWXWmsPdE4jAz89Dl X-Gm-Gg: ASbGncu1sYBYhNcFtea9FTBGrJP78gmi3z0D6TYHAiM+oLqum9Xed46HIK26JzDrQUH T4aSsDWjTEemtDtlpjuLy7A1/SNCvDqJaHa+inlD8AoQBj55sjpj40wzhQdamiRyPAtvuK2bseg 2kmdSpUv+dC5Ij6J7AeZl1WTC/bINRuPdcjT8D+HMBFfMZM/rtN6u1APUyTwMexGAYQmSNczxLK bsV6hQSyRgVdCrCZ3yVOe5/7dwmEOGlfksMFXapbZZvEVQ6E72T2SuFr4mh+NtOxHUj32BMpUZL XxzmmwG/mMsFJnevYUVo0Uo+9GOFaRHTwmqX X-Google-Smtp-Source: AGHT+IH7Q4xdPh4S+6h5EszhS5DWxWazh9Wob7TCWRUzir6lC1lJzYqg0KKPi0TWXrp9mMgmQlDvqQ2oF5FW X-Received: by 2002:a05:6e02:1c2e:b0:3d8:1d7c:e192 with SMTP id e9e14a558f8ab-3d9676bdf79mr37719525ab.7.1746027016054; Wed, 30 Apr 2025 08:30:16 -0700 (PDT) Received: from postal.iol.unh.edu (postal.iol.unh.edu. [132.177.123.84]) by smtp-relay.gmail.com with ESMTPS id 8926c6da1cb9f-4f8630c97a8sm290011173.64.2025.04.30.08.30.15 (version=TLS1_2 cipher=ECDHE-ECDSA-AES128-GCM-SHA256 bits=128/128); Wed, 30 Apr 2025 08:30:16 -0700 (PDT) X-Relaying-Domain: iol.unh.edu Date: Wed, 30 Apr 2025 08:30:16 -0700 (PDT) Message-ID: <68124208.050a0220.f9b81.9e24SMTPIN_ADDED_MISSING@mx.google.com> Received: from [172.17.0.2] (unknown [172.18.0.76]) by postal.iol.unh.edu (Postfix) with ESMTP id 41EAB6052471; Wed, 30 Apr 2025 11:30:15 -0400 (EDT) Subject: |SUCCESS| pw153207-153218 [PATCH] [v1,25/25] net/ntnic: fix operatio From: dpdklab@iol.unh.edu To: Test Report Cc: dpdk-test-reports@iol.unh.edu In-Reply-To: <20250430134840.402553-26-okl-plv@napatech.com> References: <20250430134840.402553-26-okl-plv@napatech.com> Content-Type: text/plain X-BeenThere: test-report@dpdk.org X-Mailman-Version: 2.1.29 Precedence: list List-Id: automatic DPDK test reports List-Unsubscribe: , List-Archive: List-Post: List-Help: List-Subscribe: , Errors-To: test-report-bounces@dpdk.org Test-Label: iol-unit-amd64-testing Test-Status: SUCCESS http://dpdk.org/patch/153218 _Testing PASS_ Submitter: Oleksandr Kolomeiets Date: Wednesday, April 30 2025 13:48:37 DPDK git baseline: Repo:dpdk Branch: master CommitID:ff05ee3e3f8fb4ce958a2ce6461e8141aea959c6 153207-153218 --> testing pass Upstream job id: Generic-Unit-Test-DPDK#334536 Test environment and result as below: +---------------------+----------------+ | Environment | dpdk_unit_test | +=====================+================+ | CentOS Stream 10 | PASS | +---------------------+----------------+ | CentOS Stream 9 | PASS | +---------------------+----------------+ | Fedora 40 | PASS | +---------------------+----------------+ | Debian 12 | PASS | +---------------------+----------------+ | RHEL8 | PASS | +---------------------+----------------+ | Fedora 41 | PASS | +---------------------+----------------+ | Fedora 40 (Clang) | PASS | +---------------------+----------------+ | Fedora 41 (Clang) | PASS | +---------------------+----------------+ | RHEL9 | PASS | +---------------------+----------------+ | Ubuntu 20.04 | PASS | +---------------------+----------------+ | Ubuntu 24.04 | PASS | +---------------------+----------------+ | Ubuntu 22.04 | PASS | +---------------------+----------------+ | Windows Server 2022 | PASS | +---------------------+----------------+ CentOS Stream 10 Kernel: Depends on container host Compiler: gcc 14.2.1 20241104 (Red Hat 14.2.1-6) CentOS Stream 9 Kernel: Depends on container host Compiler: gcc 11.5.0 20240719 (Red Hat 11.5.0-2) Fedora 40 Kernel: Depends on container host Compiler: gcc 14.2.1 20240912 (Red Hat 14.2.1-3) Debian 12 Kernel: Depends on container host Compiler: gcc (Debian 12.2.0-14) 12.2.0 RHEL8 Kernel: Depends on container host Compiler: gcc 8.5.0 20210514 (Red Hat 8.5.0-22) Fedora 41 Kernel: Depends on container host Compiler: gcc 14.2.1 20240912 (Red Hat 14.2.1-3) Fedora 40 (Clang) Kernel: Depends on container host Compiler: clang 18.1.8 (Fedora 18.1.8-1.fc40) Fedora 41 (Clang) Kernel: Depends on container host Compiler: clang 19.1.5 (Fedora 19.1.5-1.fc41) RHEL9 Kernel: Depends on container host Compiler: gcc 11.5.0 20240719 (Red Hat 11.5.0-2) Ubuntu 20.04 Kernel: Depends on container host Compiler: gcc (Ubuntu 9.4.0-1ubuntu1~20.04.2) 9.4.0 Ubuntu 24.04 Kernel: Depends on container host Compiler: gcc (Ubuntu 13.3.0-6ubuntu2~24.04) 13.3.0 Ubuntu 22.04 Kernel: Depends on container host Compiler: gcc (Ubuntu 11.4.0-1ubuntu1~22.04) 11.4.0 Windows Server 2022 Kernel: 10.0.20348.2031 Compiler: clang 15.0.7, gcc 14.1.0 (MinGW), and MSVC VS 19.39.33521 To view detailed results, visit: https://lab.dpdk.org/results/dashboard/patchsets/33093/ UNH-IOL DPDK Community Lab To manage your email subscriptions, visit: https://lab.dpdk.org/results/dashboard/preferences/subscriptions/