From mboxrd@z Thu Jan 1 00:00:00 1970 Return-Path: Received: from mails.dpdk.org (mails.dpdk.org [217.70.189.124]) by inbox.dpdk.org (Postfix) with ESMTP id E48AA4666C for ; Wed, 30 Apr 2025 17:44:39 +0200 (CEST) Received: from mails.dpdk.org (localhost [127.0.0.1]) by mails.dpdk.org (Postfix) with ESMTP id AF6CF402B1; Wed, 30 Apr 2025 17:44:39 +0200 (CEST) Received: from mail-yb1-f227.google.com (mail-yb1-f227.google.com [209.85.219.227]) by mails.dpdk.org (Postfix) with ESMTP id 5E732402A0 for ; Wed, 30 Apr 2025 17:44:38 +0200 (CEST) Received: by mail-yb1-f227.google.com with SMTP id 3f1490d57ef6-e72c2a1b0d4so7089224276.2 for ; Wed, 30 Apr 2025 08:44:38 -0700 (PDT) DKIM-Signature: v=1; a=rsa-sha256; c=relaxed/relaxed; d=iol.unh.edu; s=unh-iol; t=1746027877; x=1746632677; darn=dpdk.org; h=references:in-reply-to:cc:to:from:subject:message-id:date:from:to :cc:subject:date:message-id:reply-to; bh=Lbaot+pTS+jQ4I9tYJXshg3GVzbmI3IGKFKlmF5C4oU=; b=X0ghqwWo7ysJQWiOZ3LRPV70PiwRpsNRpb//SzrylNmvKSvQ3d7nfWtDS7JN/SMMna TFgjIJNzBsD2QjMRh5yUw+aSbNf5IjylLY12up2KHtqk5BfxFGPRcoICZwA1mSBxWlZq uPeJFHeQ29+XXcSIP7JMYa2/FzS2TkmGfYSdE= X-Google-DKIM-Signature: v=1; a=rsa-sha256; c=relaxed/relaxed; d=1e100.net; s=20230601; t=1746027877; x=1746632677; h=references:in-reply-to:cc:to:from:subject:message-id:date :x-gm-message-state:from:to:cc:subject:date:message-id:reply-to; bh=Lbaot+pTS+jQ4I9tYJXshg3GVzbmI3IGKFKlmF5C4oU=; b=m69/NqP6rbgQmD6UJkEIcmOXvOzDqcACOC6wj20ARtF4fF0osZSKIQEZAgew5SmDX0 JT8dEYqK1AbQdyYhXLGDkpYhwC4GA4WeAGKp2oSe75asFP/iiiURWEAeuAxVV1nft+Ah 72r4smKX73blL2JKlQ2Iert+eIsKi9rtuEr7I9PLzrJV1k+GOhPBkAHoP60oOe5yBYU+ r7NHLryGrCrjcNbLEw/NUaZWZACA+VjhA8M7Dbv2scW9SepiG9K8qic7KagAr78zPZ5j Lf2A8QhvLZF0W126oiCu19WPmUqOG4vQH6zzPnb9rkrWrSrFQaLSVxJ6HSjdcA1rT1kU sfMw== X-Gm-Message-State: AOJu0YzOiKx6pE2FtfuZqaPPI/t/nDCzU7Yt95Rw8lNYwEBnp/s02En9 567K86kAHoMcnojPtIaRkNOC3qD2zr1KWaxQckiqALXsi8+chsSbrENr+Do8sq+WYiirKfUm4c9 hhTxAYlWg7mlN3g2IXBnHdLzKFBoCMGPb55vy0Zyr X-Gm-Gg: ASbGncsJRUpo8SjS2j6zzrzox0mW1JIdbEpkzWw0OVN5Y6E5nYVAjouBNuWLfPzpe34 tbIT35SrHWhIXpUP0yJtYI1pROxlpLnXIL5UAH73Ln3/8uJtMaxpISxD+shHouqSQo7ZwS/sXhy QOeS2qEyzF7alGbn2SHxqu1D7PNnRA+TWlKQ7aY/xAyVBQ6wyZ+024lB7pUwncDGHvB8opsE11c vHAPHviOmq0zgf7l08N9FoJAsUl5DLIqfi1Pa73P2PEjGgi/wu1sx/dlUrBVsVWorc5KTWIPkOB /SNxWWc/YyoSwnssdykauyi4d1QjTf9fBuMF X-Google-Smtp-Source: AGHT+IG/mORh10iIy7aqFoIzZipbXD7MZ6cYSuc98ak76imlgeY4x69nUYH2APImHXckrB3T1VPQSwOyFfCv X-Received: by 2002:a05:690c:338b:b0:6f7:ae31:fdf with SMTP id 00721157ae682-708ad5f0dafmr45886757b3.12.1746027876051; Wed, 30 Apr 2025 08:44:36 -0700 (PDT) Received: from postal.iol.unh.edu (postal.iol.unh.edu. [132.177.123.84]) by smtp-relay.gmail.com with ESMTPS id 00721157ae682-708adfb4e49sm648547b3.14.2025.04.30.08.44.35 (version=TLS1_2 cipher=ECDHE-ECDSA-AES128-GCM-SHA256 bits=128/128); Wed, 30 Apr 2025 08:44:36 -0700 (PDT) X-Relaying-Domain: iol.unh.edu Date: Wed, 30 Apr 2025 08:44:36 -0700 (PDT) Message-ID: <68124564.050a0220.2d8644.34a6SMTPIN_ADDED_MISSING@mx.google.com> Received: from [172.17.0.2] (unknown [172.18.0.74]) by postal.iol.unh.edu (Postfix) with ESMTP id 8D6EC6052471; Wed, 30 Apr 2025 11:44:35 -0400 (EDT) Subject: |SUCCESS| pw153207-153218 [PATCH] [v1,25/25] net/ntnic: fix operatio From: dpdklab@iol.unh.edu To: Test Report Cc: dpdk-test-reports@iol.unh.edu In-Reply-To: <20250430134840.402553-26-okl-plv@napatech.com> References: <20250430134840.402553-26-okl-plv@napatech.com> Content-Type: text/plain X-BeenThere: test-report@dpdk.org X-Mailman-Version: 2.1.29 Precedence: list List-Id: automatic DPDK test reports List-Unsubscribe: , List-Archive: List-Post: List-Help: List-Subscribe: , Errors-To: test-report-bounces@dpdk.org Test-Label: iol-unit-arm64-testing Test-Status: SUCCESS http://dpdk.org/patch/153218 _Testing PASS_ Submitter: Oleksandr Kolomeiets Date: Wednesday, April 30 2025 13:48:37 DPDK git baseline: Repo:dpdk Branch: master CommitID:ff05ee3e3f8fb4ce958a2ce6461e8141aea959c6 153207-153218 --> testing pass Upstream job id: Generic-Unit-Test-DPDK#334549 Test environment and result as below: +-----------------------------+----------------+--------------+------------------------------+---------------------------+ | Environment | dpdk_unit_test | lpm_autotest | cryptodev_sw_snow3g_autotest | cryptodev_sw_zuc_autotest | +=============================+================+==============+==============================+===========================+ | CentOS Stream 9 (ARM) | PASS | SKIPPED | SKIPPED | SKIPPED | +-----------------------------+----------------+--------------+------------------------------+---------------------------+ | CentOS Stream 10 (ARM) | PASS | SKIPPED | SKIPPED | SKIPPED | +-----------------------------+----------------+--------------+------------------------------+---------------------------+ | Debian 12 (arm) | PASS | SKIPPED | PASS | PASS | +-----------------------------+----------------+--------------+------------------------------+---------------------------+ | Fedora 41 (ARM Clang) | PASS | SKIPPED | SKIPPED | SKIPPED | +-----------------------------+----------------+--------------+------------------------------+---------------------------+ | Fedora 40 (ARM) | PASS | SKIPPED | SKIPPED | SKIPPED | +-----------------------------+----------------+--------------+------------------------------+---------------------------+ | Fedora 40 (ARM Clang) | PASS | SKIPPED | SKIPPED | SKIPPED | +-----------------------------+----------------+--------------+------------------------------+---------------------------+ | Fedora 41 (ARM) | PASS | SKIPPED | SKIPPED | SKIPPED | +-----------------------------+----------------+--------------+------------------------------+---------------------------+ | RHEL9 (ARM) | PASS | SKIPPED | SKIPPED | SKIPPED | +-----------------------------+----------------+--------------+------------------------------+---------------------------+ | Ubuntu 24.04 (ARM) | PASS | SKIPPED | SKIPPED | SKIPPED | +-----------------------------+----------------+--------------+------------------------------+---------------------------+ | Ubuntu 20.04 (ARM) | PASS | SKIPPED | SKIPPED | SKIPPED | +-----------------------------+----------------+--------------+------------------------------+---------------------------+ | Ubuntu 22.04 (ARM) | PASS | SKIPPED | SKIPPED | SKIPPED | +-----------------------------+----------------+--------------+------------------------------+---------------------------+ | 32-bit Ubuntu 22.04.4 (ARM) | PASS | SKIPPED | SKIPPED | SKIPPED | +-----------------------------+----------------+--------------+------------------------------+---------------------------+ | Ubuntu 20.04 ARM SVE | SKIPPED | PASS | SKIPPED | SKIPPED | +-----------------------------+----------------+--------------+------------------------------+---------------------------+ CentOS Stream 9 (ARM) Kernel: Depends on container host Compiler: gcc 11.5.0 20240719 (Red Hat 11.5.0-2) CentOS Stream 10 (ARM) Kernel: Depends on container host Compiler: gcc 14.2.1 20241104 (Red Hat 14.2.1-6) Debian 12 (arm) Kernel: Depends on container host Compiler: gcc (Debian 12.2.0-14) 12.2.0 Fedora 41 (ARM Clang) Kernel: Depends on container host Compiler: clang 19.1.5 (Fedora 19.1.5-1.fc41) Fedora 40 (ARM) Kernel: Depends on container host Compiler: gcc 14.2.1 20240912 (Red Hat 14.2.1-3) Fedora 40 (ARM Clang) Kernel: Depends on container host Compiler: clang 18.1.8 (Fedora 18.1.8-1.fc40) Fedora 41 (ARM) Kernel: Depends on container host Compiler: gcc 14.2.1 20240912 (Red Hat 14.2.1-3) RHEL9 (ARM) Kernel: Depends on container host Compiler: gcc 11.5.0 20240719 (Red Hat 11.5.0-2) Ubuntu 24.04 (ARM) Kernel: Depends on container host Compiler: gcc (Ubuntu 13.3.0-6ubuntu2~24.04) 13.3.0 Ubuntu 20.04 (ARM) Kernel: Depends on container host Compiler: gcc (Ubuntu 9.4.0-1ubuntu1~20.04.2) 9.4.0 Ubuntu 22.04 (ARM) Kernel: Depends on container host Compiler: gcc (Ubuntu 11.4.0-1ubuntu1~22.04) 11.4.0 32-bit Ubuntu 22.04.4 (ARM) Kernel: 5.15.83+ aarch64 Compiler: gcc (Ubuntu 11.4.0-1ubuntu1~22.04) 11.4.0 Ubuntu 20.04 ARM SVE Kernel: Depends on container host Compiler: gcc (Ubuntu 10.5.0-1ubuntu1~20.04) 10.5.0 To view detailed results, visit: https://lab.dpdk.org/results/dashboard/patchsets/33093/ UNH-IOL DPDK Community Lab To manage your email subscriptions, visit: https://lab.dpdk.org/results/dashboard/preferences/subscriptions/