From mboxrd@z Thu Jan 1 00:00:00 1970 Return-Path: Received: from mails.dpdk.org (mails.dpdk.org [217.70.189.124]) by inbox.dpdk.org (Postfix) with ESMTP id 6761446578 for ; Wed, 30 Apr 2025 19:23:41 +0200 (CEST) Received: from mails.dpdk.org (localhost [127.0.0.1]) by mails.dpdk.org (Postfix) with ESMTP id 67862402B1; Wed, 30 Apr 2025 19:23:40 +0200 (CEST) Received: from mail-pg1-f226.google.com (mail-pg1-f226.google.com [209.85.215.226]) by mails.dpdk.org (Postfix) with ESMTP id B14A9402A0 for ; Wed, 30 Apr 2025 19:23:38 +0200 (CEST) Received: by mail-pg1-f226.google.com with SMTP id 41be03b00d2f7-b170c99aa49so68984a12.1 for ; Wed, 30 Apr 2025 10:23:38 -0700 (PDT) DKIM-Signature: v=1; a=rsa-sha256; c=relaxed/relaxed; d=iol.unh.edu; s=unh-iol; t=1746033818; x=1746638618; darn=dpdk.org; h=references:in-reply-to:cc:to:from:subject:message-id:date:from:to :cc:subject:date:message-id:reply-to; bh=08bARyJIA7Fl7bm1N2DOEGUk/6csm9MGtIEbAOEMSBA=; b=X9M4fxAWI9M6Ltl+6FrUQxCKLZpyBVGfkDTS+Fi7mV/nTTHL/TzWuc6delmXwU3dFy Fkcf71zUhw9ECF2J59Lb3auDK8i6MGC2haJ2jQ5vqV365IpwLkAtqovsJXYj/I1o3rbH 63yKOfNjbPXsLJyN9NgGMm9+g+XlhsyM/2EJ8= X-Google-DKIM-Signature: v=1; a=rsa-sha256; c=relaxed/relaxed; d=1e100.net; s=20230601; t=1746033818; x=1746638618; h=references:in-reply-to:cc:to:from:subject:message-id:date :x-gm-message-state:from:to:cc:subject:date:message-id:reply-to; bh=08bARyJIA7Fl7bm1N2DOEGUk/6csm9MGtIEbAOEMSBA=; b=K2APHGNGbMnrQ7vHZ29KeuchZEjtceDkMrUK15U2YIqf/DFXXQhJ3fR1jqlH2TAjRP JZ8PO6wFd2EzdaW77GlvjLIQIKEfWb+dHjtnVteE2wA+xROKNRUiPWSJG3YawYBEW+mr 1O1TzFFGaiOfYHgl0wfs6rnpPfpzziVpDHAyfWcJqHD+aqTz7VuMFN15DV91fbPh2z4h nbktbAHecP7SMwS23spE0L34dfv9w510HapGF554d0sveRXjUGl7M+/2RfUyBciEstcx QiZT7GQruyDYWZqr6wFie/bi7l3dd2pMTzO6v4J2n12lPyfGboyuM2cyphOeHAb4XApi dIhA== X-Gm-Message-State: AOJu0YycuMAPUVaeZzPY3tFa+imnSuNQP6EXGX+/gngCBEE7oOV8XTUt gWMpbMCkIveDcgDyjC2NqQw4RdwtDCrJ+39/BshpFsFmTgUAVU6F3C73lNQ79b+S6Lqylnh5Db2 gHgW/WeLx/CkxRs9isX98nfskI52Az6/vBT4268Wy X-Gm-Gg: ASbGncuTouGXKvCsn0Hjxbd+rsSzUY6D7zjaQD6Da7J5rRO6PtjHf4P4GDQ2qnOZJ4+ uspcLki78Yph2gQynFg3Nm7hypQ9GaXQSQHpqmp7J5Un5W7cXF8QSV8VCzqmr/4zLL1wYztJxOY jc1zb/cyJ5G8CO9USPWs3hs/vlBGEO6duPgL5rCvhhhmZt6qWjPJp3MDIFlP801rCWS0d8YB49d NZWwvUHT5PAH1JwArfGUR85C5iImFiEwaxYlJBSri8uae28sT3kTeMFmrXqh2LdAueZjCYa/God k++RreZ31We2yTpln9QiQcsII+T5miKhnUgQ X-Google-Smtp-Source: AGHT+IHa78lpZo7OCP0ywebQGsxFjnHslqA64Rc/V8j/oSXji5yA4gXMlUOa0+6oLxkNJBhA0hvexsyUozxx X-Received: by 2002:a05:6a20:d049:b0:1f5:86f2:a674 with SMTP id adf61e73a8af0-20a87c513a1mr5772017637.12.1746033817740; Wed, 30 Apr 2025 10:23:37 -0700 (PDT) Received: from postal.iol.unh.edu (postal.iol.unh.edu. [132.177.123.84]) by smtp-relay.gmail.com with ESMTPS id 41be03b00d2f7-b15f9081ec9sm849133a12.18.2025.04.30.10.23.37 (version=TLS1_2 cipher=ECDHE-ECDSA-AES128-GCM-SHA256 bits=128/128); Wed, 30 Apr 2025 10:23:37 -0700 (PDT) X-Relaying-Domain: iol.unh.edu Date: Wed, 30 Apr 2025 10:23:37 -0700 (PDT) Message-ID: <68125c99.050a0220.335c4.20a5SMTPIN_ADDED_MISSING@mx.google.com> Received: from [172.17.0.3] (unknown [172.18.0.74]) by postal.iol.unh.edu (Postfix) with ESMTP id D18CE6052471; Wed, 30 Apr 2025 13:23:36 -0400 (EDT) Subject: |SUCCESS| pw153207-153218 [PATCH] [v1,25/25] net/ntnic: fix operatio From: dpdklab@iol.unh.edu To: Test Report Cc: dpdk-test-reports@iol.unh.edu In-Reply-To: <20250430134840.402553-26-okl-plv@napatech.com> References: <20250430134840.402553-26-okl-plv@napatech.com> Content-Type: text/plain X-BeenThere: test-report@dpdk.org X-Mailman-Version: 2.1.29 Precedence: list List-Id: automatic DPDK test reports List-Unsubscribe: , List-Archive: List-Post: List-Help: List-Subscribe: , Errors-To: test-report-bounces@dpdk.org Test-Label: iol-compile-arm64-testing Test-Status: SUCCESS http://dpdk.org/patch/153218 _Testing PASS_ Submitter: Oleksandr Kolomeiets Date: Wednesday, April 30 2025 13:48:37 DPDK git baseline: Repo:dpdk Branch: master CommitID:ff05ee3e3f8fb4ce958a2ce6461e8141aea959c6 153207-153218 --> testing pass Upstream job id: Generic-DPDK-Compile-Meson#384138 Test environment and result as below: +----------------------------------------+--------------------+ | Environment | dpdk_meson_compile | +========================================+====================+ | RHEL9 (ARM) | PASS | +----------------------------------------+--------------------+ | Ubuntu 20.04 ARM GCC Cross Compile | PASS | +----------------------------------------+--------------------+ | Ubuntu 20.04 ARM SVE | PASS | +----------------------------------------+--------------------+ | Debian 12 with MUSDK | PASS | +----------------------------------------+--------------------+ | Fedora 40 (ARM) | PASS | +----------------------------------------+--------------------+ | Fedora 41 (ARM) | PASS | +----------------------------------------+--------------------+ | Fedora 40 (ARM Clang) | PASS | +----------------------------------------+--------------------+ | Fedora 41 (ARM Clang) | PASS | +----------------------------------------+--------------------+ | Ubuntu 20.04 (ARM) | PASS | +----------------------------------------+--------------------+ | Ubuntu 24.04 (ARM) | PASS | +----------------------------------------+--------------------+ | CentOS Stream 9 (ARM) | PASS | +----------------------------------------+--------------------+ | CentOS Stream 10 (ARM) | PASS | +----------------------------------------+--------------------+ | Ubuntu 20.04 ARM Clang Cross Compile | PASS | +----------------------------------------+--------------------+ | Debian 12 (arm) | PASS | +----------------------------------------+--------------------+ | Ubuntu 20.04 aarch32 GCC Cross Compile | PASS | +----------------------------------------+--------------------+ | Ubuntu 22.04 (ARM) | PASS | +----------------------------------------+--------------------+ RHEL9 (ARM) Kernel: Depends on container host Compiler: gcc 11.5.0 20240719 (Red Hat 11.5.0-2) Ubuntu 20.04 ARM GCC Cross Compile Kernel: Depends on container host Compiler: aarch64-linux-gnu-gcc (Ubuntu 9.4.0-1ubuntu1~20.04.2) 9.4.0 Ubuntu 20.04 ARM SVE Kernel: Depends on container host Compiler: gcc (Ubuntu 10.5.0-1ubuntu1~20.04) 10.5.0 Debian 12 with MUSDK Kernel: Depends on container host Compiler: gcc (Debian 12.2.0-14) 12.2.0 Fedora 40 (ARM) Kernel: Depends on container host Compiler: gcc 14.2.1 20240912 (Red Hat 14.2.1-3) Fedora 41 (ARM) Kernel: Depends on container host Compiler: gcc 14.2.1 20240912 (Red Hat 14.2.1-3) Fedora 40 (ARM Clang) Kernel: Depends on container host Compiler: clang 18.1.8 (Fedora 18.1.8-1.fc40) Fedora 41 (ARM Clang) Kernel: Depends on container host Compiler: clang 19.1.5 (Fedora 19.1.5-1.fc41) Ubuntu 20.04 (ARM) Kernel: Depends on container host Compiler: gcc (Ubuntu 9.4.0-1ubuntu1~20.04.2) 9.4.0 Ubuntu 24.04 (ARM) Kernel: Depends on container host Compiler: gcc (Ubuntu 13.3.0-6ubuntu2~24.04) 13.3.0 CentOS Stream 9 (ARM) Kernel: Depends on container host Compiler: gcc 11.5.0 20240719 (Red Hat 11.5.0-2) CentOS Stream 10 (ARM) Kernel: Depends on container host Compiler: gcc 14.2.1 20241104 (Red Hat 14.2.1-6) Ubuntu 20.04 ARM Clang Cross Compile Kernel: Depends on container host Compiler: clang 10.0.0-4ubuntu1 Debian 12 (arm) Kernel: Depends on container host Compiler: gcc (Debian 12.2.0-14) 12.2.0 Ubuntu 20.04 aarch32 GCC Cross Compile Kernel: Depends on container host Compiler: gcc 9.4.0 Ubuntu 22.04 (ARM) Kernel: Depends on container host Compiler: gcc (Ubuntu 11.4.0-1ubuntu1~22.04) 11.4.0 To view detailed results, visit: https://lab.dpdk.org/results/dashboard/patchsets/33093/ UNH-IOL DPDK Community Lab To manage your email subscriptions, visit: https://lab.dpdk.org/results/dashboard/preferences/subscriptions/