From mboxrd@z Thu Jan 1 00:00:00 1970 Return-Path: Received: from mails.dpdk.org (mails.dpdk.org [217.70.189.124]) by inbox.dpdk.org (Postfix) with ESMTP id CDFB346578 for ; Wed, 30 Apr 2025 19:26:47 +0200 (CEST) Received: from mails.dpdk.org (localhost [127.0.0.1]) by mails.dpdk.org (Postfix) with ESMTP id B0E5D402B1; Wed, 30 Apr 2025 19:26:47 +0200 (CEST) Received: from mail-yb1-f227.google.com (mail-yb1-f227.google.com [209.85.219.227]) by mails.dpdk.org (Postfix) with ESMTP id EFBBF402A0 for ; Wed, 30 Apr 2025 19:26:45 +0200 (CEST) Received: by mail-yb1-f227.google.com with SMTP id 3f1490d57ef6-e732386e4b7so80693276.1 for ; Wed, 30 Apr 2025 10:26:45 -0700 (PDT) DKIM-Signature: v=1; a=rsa-sha256; c=relaxed/relaxed; d=iol.unh.edu; s=unh-iol; t=1746034005; x=1746638805; darn=dpdk.org; h=references:in-reply-to:cc:to:from:subject:message-id:date:from:to :cc:subject:date:message-id:reply-to; bh=lWc4WzbmTk0/VImEW+dkxgZTEtMarmUNE1zAbR4jPSA=; b=IX5Wh90kLGduZWucxRBCCnpSkvAHlFrkzUNJnMf5Tl+guXq2jKh16MTHZDW6J1U4wl yEI5LlO9FNvJ6mctFOx6NEWJGISt6I01H2RqELma22az7XDdPZpziMNVDCZWdOWiV0uI NSWUthKJSxQbgn+TfqfBK65ok38eioo0Ca1zw= X-Google-DKIM-Signature: v=1; a=rsa-sha256; c=relaxed/relaxed; d=1e100.net; s=20230601; t=1746034005; x=1746638805; h=references:in-reply-to:cc:to:from:subject:message-id:date :x-gm-message-state:from:to:cc:subject:date:message-id:reply-to; bh=lWc4WzbmTk0/VImEW+dkxgZTEtMarmUNE1zAbR4jPSA=; b=HFMVebJvWaCObiSKQjbf6fOpQSvDw1GtsTEBXE3acBxYNoSMBuy84NeVXbEntzzgY9 EI2zL7ujWivtqRuh69kiUE9vtbij3D+3j23l/9hEi52XzF7WZcG6KgKY3WWnvczhqte6 tGmO4r+1cqrW1u2zaM67Cgpem1ckLDo38ZHM4e15t42WhcszGxA1oI85WkG5C083FCoO abVFfdZ9x8iOuiQEWqJuTntlHMMSiIJwHG1rPMytIicqlDhCVLIeFe4w/MrQ0tToqIFJ MWioNks9qn+t2emIgQk44FA8pW0MB21IfmCnkZPQAtpDzn+9QopRxfCgATTCzESaNNpI FWJQ== X-Gm-Message-State: AOJu0YwB0Uq8rS0VYIU9v/yH3JwrCazK0Tn+fxooGw7c9EYHTQiUPGAt ezNMwU2BwSmeeOgF8ViOUYqW5oWXv8LSzPl2rdL4nd+VlRiwXXw+VdH/zrdKWklU1f7oUsi4vcY /76H65AYvCuhYpVybjRilyPf9rcFTawzsDYOKsRrubo732Viv5H8L9z7d X-Gm-Gg: ASbGncvdASpvaosxMiLsQwBgyCxngqxivxrzWpWd72PwXCYE/GzCwJaNLuw6YSzK3J7 oJrF6fjttKMj1Ph/lQ4BIkL4vHyFdvH+WiSXCNKJRPZFqqQkgqiprcK7KePIPTO0oOOsKryVhd7 rUkCeF7teRoxtxGm4KiQ6LK+ALMR+MIuPmKWCVtZKygZluFw2A8VRGWii3uLlUdSvODOBa5E5Ul nINfZh8LMMt0zHPmRf4FPFMadANNTfY9c4u36iKTKlPnoAnPf2u/9VhZ+Yzf7b5CDo9pjcY8FFG 5qa/lgVlYr8Je7JFVaBzyjP6r8Rrd/YRbl/qHeUVbOU5P8BP X-Google-Smtp-Source: AGHT+IGUJsRhlW1f99L9Jk60t45HT+nnMh3L/Qqv8Skmuf1wFzT3LnQ+r+f5nwIIk9b8jwyCuaUwhIzYN7jl X-Received: by 2002:a05:690c:6a83:b0:703:b92c:7170 with SMTP id 00721157ae682-708ad5f3cc7mr48909737b3.12.1746034005305; Wed, 30 Apr 2025 10:26:45 -0700 (PDT) Received: from postal.iol.unh.edu (postal.iol.unh.edu. [2606:4100:3880:1234::84]) by smtp-relay.gmail.com with ESMTPS id 00721157ae682-708adfbef98sm766047b3.7.2025.04.30.10.26.45 (version=TLS1_2 cipher=ECDHE-ECDSA-AES128-GCM-SHA256 bits=128/128); Wed, 30 Apr 2025 10:26:45 -0700 (PDT) X-Relaying-Domain: iol.unh.edu Date: Wed, 30 Apr 2025 10:26:45 -0700 (PDT) Message-ID: <68125d55.810a0220.22a44b.3c8aSMTPIN_ADDED_MISSING@mx.google.com> Received: from [172.21.0.6] (unknown [172.18.0.240]) by postal.iol.unh.edu (Postfix) with ESMTP id D059C6052471; Wed, 30 Apr 2025 13:26:44 -0400 (EDT) Subject: |SUCCESS| pw153207-153218 [PATCH] [v1,25/25] net/ntnic: fix operatio From: dpdklab@iol.unh.edu To: Test Report Cc: dpdk-test-reports@iol.unh.edu In-Reply-To: <20250430134840.402553-26-okl-plv@napatech.com> References: <20250430134840.402553-26-okl-plv@napatech.com> Content-Type: text/plain X-BeenThere: test-report@dpdk.org X-Mailman-Version: 2.1.29 Precedence: list List-Id: automatic DPDK test reports List-Unsubscribe: , List-Archive: List-Post: List-Help: List-Subscribe: , Errors-To: test-report-bounces@dpdk.org Test-Label: iol-compile-arm64-testing Test-Status: SUCCESS http://dpdk.org/patch/153218 _Testing PASS_ Submitter: Oleksandr Kolomeiets Date: Wednesday, April 30 2025 13:48:37 DPDK git baseline: Repo:dpdk Branch: master CommitID:ff05ee3e3f8fb4ce958a2ce6461e8141aea959c6 153207-153218 --> testing pass Upstream job id: Generic-DPDK-Compile-Meson#384140 Test environment and result as below: +----------------------------------------+--------------------+ | Environment | dpdk_meson_compile | +========================================+====================+ | RHEL9 (ARM) | PASS | +----------------------------------------+--------------------+ | Ubuntu 20.04 ARM GCC Cross Compile | PASS | +----------------------------------------+--------------------+ | Ubuntu 20.04 ARM SVE | PASS | +----------------------------------------+--------------------+ | Debian 12 with MUSDK | PASS | +----------------------------------------+--------------------+ | Fedora 40 (ARM) | PASS | +----------------------------------------+--------------------+ | Fedora 41 (ARM) | PASS | +----------------------------------------+--------------------+ | Fedora 40 (ARM Clang) | PASS | +----------------------------------------+--------------------+ | Fedora 41 (ARM Clang) | PASS | +----------------------------------------+--------------------+ | Ubuntu 20.04 (ARM) | PASS | +----------------------------------------+--------------------+ | Ubuntu 24.04 (ARM) | PASS | +----------------------------------------+--------------------+ | CentOS Stream 9 (ARM) | PASS | +----------------------------------------+--------------------+ | CentOS Stream 10 (ARM) | PASS | +----------------------------------------+--------------------+ | Ubuntu 20.04 ARM Clang Cross Compile | PASS | +----------------------------------------+--------------------+ | Debian 12 (arm) | PASS | +----------------------------------------+--------------------+ | Ubuntu 20.04 aarch32 GCC Cross Compile | PASS | +----------------------------------------+--------------------+ | Ubuntu 22.04 (ARM) | PASS | +----------------------------------------+--------------------+ RHEL9 (ARM) Kernel: Depends on container host Compiler: gcc 11.5.0 20240719 (Red Hat 11.5.0-2) Ubuntu 20.04 ARM GCC Cross Compile Kernel: Depends on container host Compiler: aarch64-linux-gnu-gcc (Ubuntu 9.4.0-1ubuntu1~20.04.2) 9.4.0 Ubuntu 20.04 ARM SVE Kernel: Depends on container host Compiler: gcc (Ubuntu 10.5.0-1ubuntu1~20.04) 10.5.0 Debian 12 with MUSDK Kernel: Depends on container host Compiler: gcc (Debian 12.2.0-14) 12.2.0 Fedora 40 (ARM) Kernel: Depends on container host Compiler: gcc 14.2.1 20240912 (Red Hat 14.2.1-3) Fedora 41 (ARM) Kernel: Depends on container host Compiler: gcc 14.2.1 20240912 (Red Hat 14.2.1-3) Fedora 40 (ARM Clang) Kernel: Depends on container host Compiler: clang 18.1.8 (Fedora 18.1.8-1.fc40) Fedora 41 (ARM Clang) Kernel: Depends on container host Compiler: clang 19.1.5 (Fedora 19.1.5-1.fc41) Ubuntu 20.04 (ARM) Kernel: Depends on container host Compiler: gcc (Ubuntu 9.4.0-1ubuntu1~20.04.2) 9.4.0 Ubuntu 24.04 (ARM) Kernel: Depends on container host Compiler: gcc (Ubuntu 13.3.0-6ubuntu2~24.04) 13.3.0 CentOS Stream 9 (ARM) Kernel: Depends on container host Compiler: gcc 11.5.0 20240719 (Red Hat 11.5.0-2) CentOS Stream 10 (ARM) Kernel: Depends on container host Compiler: gcc 14.2.1 20241104 (Red Hat 14.2.1-6) Ubuntu 20.04 ARM Clang Cross Compile Kernel: Depends on container host Compiler: clang 10.0.0-4ubuntu1 Debian 12 (arm) Kernel: Depends on container host Compiler: gcc (Debian 12.2.0-14) 12.2.0 Ubuntu 20.04 aarch32 GCC Cross Compile Kernel: Depends on container host Compiler: gcc 9.4.0 Ubuntu 22.04 (ARM) Kernel: Depends on container host Compiler: gcc (Ubuntu 11.4.0-1ubuntu1~22.04) 11.4.0 To view detailed results, visit: https://lab.dpdk.org/results/dashboard/patchsets/33093/ UNH-IOL DPDK Community Lab To manage your email subscriptions, visit: https://lab.dpdk.org/results/dashboard/preferences/subscriptions/