From mboxrd@z Thu Jan 1 00:00:00 1970 Return-Path: Received: from mails.dpdk.org (mails.dpdk.org [217.70.189.124]) by inbox.dpdk.org (Postfix) with ESMTP id 9129846578 for ; Wed, 30 Apr 2025 19:35:51 +0200 (CEST) Received: from mails.dpdk.org (localhost [127.0.0.1]) by mails.dpdk.org (Postfix) with ESMTP id 8D3E4402B1; Wed, 30 Apr 2025 19:35:51 +0200 (CEST) Received: from mail-il1-f228.google.com (mail-il1-f228.google.com [209.85.166.228]) by mails.dpdk.org (Postfix) with ESMTP id BA16C402A0 for ; Wed, 30 Apr 2025 19:35:46 +0200 (CEST) Received: by mail-il1-f228.google.com with SMTP id e9e14a558f8ab-3d96836c1bcso359515ab.3 for ; Wed, 30 Apr 2025 10:35:46 -0700 (PDT) DKIM-Signature: v=1; a=rsa-sha256; c=relaxed/relaxed; d=iol.unh.edu; s=unh-iol; t=1746034546; x=1746639346; darn=dpdk.org; h=references:in-reply-to:cc:to:from:subject:message-id:date:from:to :cc:subject:date:message-id:reply-to; bh=BmZSZ2Uq+rqnBrU3h27t6RQ5ghqLzTZAyVdFLC7BV20=; b=W9evhVufBjJG7A2WIjHofJ+PfTsaC/RBITq41JFzLQSQlWm3PN6/F4QBZpzWCOueN7 KgyuI4FuADkk6slQzDKWxEHlK2prkHZGMNSl3ZlV5OWY4Ubz3pXxCN2aDKRbRtwBy9OX VGi+1xOmg72MaLXZqs61zUK8aKMaXnBj3xLvc= X-Google-DKIM-Signature: v=1; a=rsa-sha256; c=relaxed/relaxed; d=1e100.net; s=20230601; t=1746034546; x=1746639346; h=references:in-reply-to:cc:to:from:subject:message-id:date :x-gm-message-state:from:to:cc:subject:date:message-id:reply-to; bh=BmZSZ2Uq+rqnBrU3h27t6RQ5ghqLzTZAyVdFLC7BV20=; b=r3bk4Uz0pize79VloTyA8JJiK8XvxfM4/Orxyw9Vd9gLMmjBDOZXeLbzt0GXpwCAyo 9/7q0ePhHRFILLlG6L+6CeMlODey1YKdEufSlR6PBZzI8+//htr7QZUmytLwWoWcvyPx 8veClXTdQFfj2jktA0gvNpOdXEvRabxKN/DgWC1boYli17Q+M3xPeK5FPUxKRsejo8C+ tCjHKGN+ckFoiNIs6+fwTWwI+y843G3khaJjO5+bSqwp8H6drIyJYAUG3Qh/Ch7aJOq+ TZich0an8UHSnfR6ERyKZ4cRyyvKjnYh4BCPG01Y3QgEZQjNJSqitgNCdRLBKoh9DlRg sUCg== X-Gm-Message-State: AOJu0YzXoN12GFiZ4eCTuFF+XiwNYJodrJIA2KWMsupgbMr3jLpdjF/k +0F4SotdXl1MggKbUjiDmsyDwLI7g1Jes6Bair2cxKNe7QLNA5+5BwrqWmIdgUIp7lG6k4dPSml HlRZCpE+CzfOxQdgj03viHqMzRIMveHk5xj1Zmt+z X-Gm-Gg: ASbGncsm00gpYAJ39m4OBGVl8yJf9QZTPoI90aRubJDlb/b7orpe9zG3UYzJGLxHhtW +uDNv4lutDgK5yWCL17+G3SB8b2XZWgjx3WbvGywGYuajmh9Izx9KG6SzUv0xeSn6YaVrYMHrX4 wU4Wd8REeT5oCRIOUwAjpQr5PNLaNNzVPdE+uFO4DLli3SuTWPIfj1Krg+Uvyd3t0CYWgLaIP4l tKTt8yInmKfP5NpK7YVeqWzQSimx0+njem97q4x1NTQv/9LOaSNqCyv8Jj9+chbKR14Hin+MIxb 7EcTftsF6JDBN3fKoJHC7S2ukX3Jzjcx0Ucx X-Google-Smtp-Source: AGHT+IFkyRemEDzS72+miieoDso3emHcSDD0UjsB9xDLusrTlTqfe9d4OlPIBqMziN017VT70ToHGSkS24lU X-Received: by 2002:a92:c24e:0:b0:3d8:1f87:9433 with SMTP id e9e14a558f8ab-3d9676d0ce3mr41037975ab.11.1746034546063; Wed, 30 Apr 2025 10:35:46 -0700 (PDT) Received: from postal.iol.unh.edu (postal.iol.unh.edu. [132.177.123.84]) by smtp-relay.gmail.com with ESMTPS id e9e14a558f8ab-3d95f312076sm3342585ab.35.2025.04.30.10.35.45 (version=TLS1_2 cipher=ECDHE-ECDSA-AES128-GCM-SHA256 bits=128/128); Wed, 30 Apr 2025 10:35:46 -0700 (PDT) X-Relaying-Domain: iol.unh.edu Date: Wed, 30 Apr 2025 10:35:46 -0700 (PDT) Message-ID: <68125f72.050a0220.1a8be4.b40eSMTPIN_ADDED_MISSING@mx.google.com> Received: from [172.21.0.7] (unknown [172.18.0.240]) by postal.iol.unh.edu (Postfix) with ESMTP id 765E06052471; Wed, 30 Apr 2025 13:35:45 -0400 (EDT) Subject: |SUCCESS| pw153195 [PATCH] net/mlx5: fix flex tunnel validation From: dpdklab@iol.unh.edu To: Test Report Cc: dpdk-test-reports@iol.unh.edu In-Reply-To: <20250430110332.75903-1-dsosnowski@nvidia.com> References: <20250430110332.75903-1-dsosnowski@nvidia.com> Content-Type: text/plain X-BeenThere: test-report@dpdk.org X-Mailman-Version: 2.1.29 Precedence: list List-Id: automatic DPDK test reports List-Unsubscribe: , List-Archive: List-Post: List-Help: List-Subscribe: , Errors-To: test-report-bounces@dpdk.org Test-Label: iol-abi-testing Test-Status: SUCCESS http://dpdk.org/patch/153195 _Testing PASS_ Submitter: Dariusz Sosnowski Date: Wednesday, April 30 2025 11:03:31 DPDK git baseline: Repo:dpdk Branch: master CommitID:edd3f4b1265e6da707c46ca9b6c39d332647baea 153195 --> testing pass Upstream job id: Generic-DPDK-Compile-ABI#124904 Test environment and result as below: +-------------------+----------+ | Environment | abi_test | +===================+==========+ | CentOS Stream 9 | PASS | +-------------------+----------+ | Debian 12 | PASS | +-------------------+----------+ | CentOS Stream 10 | PASS | +-------------------+----------+ | Fedora 40 (Clang) | PASS | +-------------------+----------+ | Fedora 40 | PASS | +-------------------+----------+ | Fedora 41 (Clang) | PASS | +-------------------+----------+ | Fedora 41 | PASS | +-------------------+----------+ | RHEL8 | PASS | +-------------------+----------+ | openSUSE Leap 15 | PASS | +-------------------+----------+ | Ubuntu 22.04 | PASS | +-------------------+----------+ | RHEL9 | PASS | +-------------------+----------+ | Ubuntu 24.04 | PASS | +-------------------+----------+ CentOS Stream 9 Kernel: Depends on container host Compiler: gcc 11.5.0 20240719 (Red Hat 11.5.0-2) Debian 12 Kernel: Depends on container host Compiler: gcc (Debian 12.2.0-14) 12.2.0 CentOS Stream 10 Kernel: Depends on container host Compiler: gcc 14.2.1 20241104 (Red Hat 14.2.1-6) Fedora 40 (Clang) Kernel: Depends on container host Compiler: clang 18.1.8 (Fedora 18.1.8-1.fc40) Fedora 40 Kernel: Depends on container host Compiler: gcc 14.2.1 20240912 (Red Hat 14.2.1-3) Fedora 41 (Clang) Kernel: Depends on container host Compiler: clang 19.1.5 (Fedora 19.1.5-1.fc41) Fedora 41 Kernel: Depends on container host Compiler: gcc 14.2.1 20240912 (Red Hat 14.2.1-3) RHEL8 Kernel: Depends on container host Compiler: gcc 8.5.0 20210514 (Red Hat 8.5.0-22) openSUSE Leap 15 Kernel: Depends on container host Compiler: gcc (SUSE Linux) 7.5.0 Ubuntu 22.04 Kernel: Depends on container host Compiler: gcc (Ubuntu 11.4.0-1ubuntu1~22.04) 11.4.0 RHEL9 Kernel: Depends on container host Compiler: gcc 11.5.0 20240719 (Red Hat 11.5.0-2) Ubuntu 24.04 Kernel: Depends on container host Compiler: gcc (Ubuntu 13.3.0-6ubuntu2~24.04) 13.3.0 To view detailed results, visit: https://lab.dpdk.org/results/dashboard/patchsets/33092/ UNH-IOL DPDK Community Lab To manage your email subscriptions, visit: https://lab.dpdk.org/results/dashboard/preferences/subscriptions/