From mboxrd@z Thu Jan 1 00:00:00 1970 Return-Path: Received: from mails.dpdk.org (mails.dpdk.org [217.70.189.124]) by inbox.dpdk.org (Postfix) with ESMTP id ADBF3465D8 for ; Wed, 30 Apr 2025 19:58:59 +0200 (CEST) Received: from mails.dpdk.org (localhost [127.0.0.1]) by mails.dpdk.org (Postfix) with ESMTP id 64482402B1; Wed, 30 Apr 2025 19:58:59 +0200 (CEST) Received: from mail-pg1-f225.google.com (mail-pg1-f225.google.com [209.85.215.225]) by mails.dpdk.org (Postfix) with ESMTP id 65B94402A0 for ; Wed, 30 Apr 2025 19:58:57 +0200 (CEST) Received: by mail-pg1-f225.google.com with SMTP id 41be03b00d2f7-af52a624283so205296a12.0 for ; Wed, 30 Apr 2025 10:58:57 -0700 (PDT) DKIM-Signature: v=1; a=rsa-sha256; c=relaxed/relaxed; d=iol.unh.edu; s=unh-iol; t=1746035936; x=1746640736; darn=dpdk.org; h=references:in-reply-to:cc:to:from:subject:message-id:date:from:to :cc:subject:date:message-id:reply-to; bh=D3urZIrz2EQ2wNypIhhS3NxXQZuoQcMBfCglUcac+l4=; b=fNX2tmQe2Bv/9UNxArvngvbRJSV8ERqAeuQ6OnIBQYbch38nMb93dLtkix/O/0amLq Y7u1QFdVwxSH6SjovlB3P9wThmtHD6N6nOR28LsgjZhb5F3WCx4Ic1mMqTyiaNVQPh0L VynwLBCm38uMCmUnubPzFuDFyDJi2AmfntFdI= X-Google-DKIM-Signature: v=1; a=rsa-sha256; c=relaxed/relaxed; d=1e100.net; s=20230601; t=1746035936; x=1746640736; h=references:in-reply-to:cc:to:from:subject:message-id:date :x-gm-message-state:from:to:cc:subject:date:message-id:reply-to; bh=D3urZIrz2EQ2wNypIhhS3NxXQZuoQcMBfCglUcac+l4=; b=PSQTwNnM0PygLXMmO0u470QBe23FExzBZ6n0NFJzlavAkmR9dL8EkZMIAtup9Wlxph bbJ55zUQtjef6/eqIR3oh+TqjMyG2wpGVAlWN7UebMmrhgkFIqFUAoo9dcbIxAkvH/4G td9aFF2MKSZSZ/PDcyFB1GQB3BhS5ETeJ2CZ6/kpOarmGsGbZ7/48Oupcpg7CUsUN+LA AmDJBjyRf2c9aeJq0xurXLirAPj37Wh6GR8p9SFhjihvC7e5Uk7XFr+SOquo0Hg4EB3a 2k5Yae98FcIDysqAzxAz6ZMm2twGro0fR1k++n+KygoO0zEUfEI1DIu4F3yF9r3TyGlu 9y3g== X-Gm-Message-State: AOJu0YwrV/SqHYJ2xObCOlsMJ7s7qZkFF8ZDHEzYEdtAT4lzqF07xzqc LfrWgNO6yhqhv8LhbOIqiD9TJENsnlaguUf240OnX09HuPVhbMAVQKVNDY2Z1S8s7g2LqzyGvuT HERxNdAJI2ll/+uyo4Pg7ou6n2Y/nEKWYp8qDHj6lqVdbXV9nc9AwcjvS X-Gm-Gg: ASbGncvLHEGSOFqjo2AlxNhi9t3rthgZndeZWOM4CuN9TI3pbfBGaL9TBw2VsxsIjXo 0qwLRSq/62ZQpwDyehou4yP49FHU0E5+cOePIjX/Av/ecVs3R4R2CXuu3eMB//DDQ6NaBJocQqD KAYcK1v4gnhehZq5DqNyFZWLXWJiwCey+fUrMrcE+mB9W59mz4KPnKwJIKoiZuR282jgqYH8hjE WJkGVVFG84tzKCvQSode0Y7QUaO9i+jNWwUJm17coReqGVL3KKBhzr9R1Hz3Phfmqoh4ZOxxvBE IFRfyjb9p3AVChco9KXyDuRNVyxsOAWHdVdwsK9Rc4Hw9LGm X-Google-Smtp-Source: AGHT+IEGszSJsFCO01uWYsj0OLRLgxeZOFXmaEFR//Jn+wPgewkWMSAYUmDV/HMUE3fKJNRPQjfAYiGoLUJa X-Received: by 2002:a05:6a20:1590:b0:1f3:26ae:7792 with SMTP id adf61e73a8af0-20b97d3c5dfmr490620637.18.1746035936276; Wed, 30 Apr 2025 10:58:56 -0700 (PDT) Received: from postal.iol.unh.edu (postal.iol.unh.edu. [2606:4100:3880:1234::84]) by smtp-relay.gmail.com with ESMTPS id 41be03b00d2f7-b15fb1d6a1csm858101a12.26.2025.04.30.10.58.56 (version=TLS1_2 cipher=ECDHE-ECDSA-AES128-GCM-SHA256 bits=128/128); Wed, 30 Apr 2025 10:58:56 -0700 (PDT) X-Relaying-Domain: iol.unh.edu Date: Wed, 30 Apr 2025 10:58:56 -0700 (PDT) Message-ID: <681264e0.050a0220.2482b2.326aSMTPIN_ADDED_MISSING@mx.google.com> Received: from [172.17.0.3] (unknown [172.18.0.74]) by postal.iol.unh.edu (Postfix) with ESMTP id A038B6052471; Wed, 30 Apr 2025 13:58:55 -0400 (EDT) Subject: |SUCCESS| pw153195 [PATCH] net/mlx5: fix flex tunnel validation From: dpdklab@iol.unh.edu To: Test Report Cc: dpdk-test-reports@iol.unh.edu In-Reply-To: <20250430110332.75903-1-dsosnowski@nvidia.com> References: <20250430110332.75903-1-dsosnowski@nvidia.com> Content-Type: text/plain X-BeenThere: test-report@dpdk.org X-Mailman-Version: 2.1.29 Precedence: list List-Id: automatic DPDK test reports List-Unsubscribe: , List-Archive: List-Post: List-Help: List-Subscribe: , Errors-To: test-report-bounces@dpdk.org Test-Label: iol-unit-amd64-testing Test-Status: SUCCESS http://dpdk.org/patch/153195 _Testing PASS_ Submitter: Dariusz Sosnowski Date: Wednesday, April 30 2025 11:03:31 DPDK git baseline: Repo:dpdk Branch: master CommitID:edd3f4b1265e6da707c46ca9b6c39d332647baea 153195 --> testing pass Upstream job id: Generic-VM-Unit-Test-DPDK#28261 Test environment and result as below: +---------------------+----------------+ | Environment | dpdk_unit_test | +=====================+================+ | Debian 12 | PASS | +---------------------+----------------+ | CentOS Stream 9 | PASS | +---------------------+----------------+ | Fedora 40 (Clang) | PASS | +---------------------+----------------+ | CentOS Stream 10 | PASS | +---------------------+----------------+ | Fedora 41 (Clang) | PASS | +---------------------+----------------+ | Ubuntu 22.04 | PASS | +---------------------+----------------+ | RHEL8 | PASS | +---------------------+----------------+ | Fedora 40 | PASS | +---------------------+----------------+ | RHEL9 | PASS | +---------------------+----------------+ | Fedora 41 | PASS | +---------------------+----------------+ | Ubuntu 20.04 | PASS | +---------------------+----------------+ | Ubuntu 24.04 | PASS | +---------------------+----------------+ | Windows Server 2022 | PASS | +---------------------+----------------+ Debian 12 Kernel: Depends on container host Compiler: gcc (Debian 12.2.0-14) 12.2.0 CentOS Stream 9 Kernel: Depends on container host Compiler: gcc 11.5.0 20240719 (Red Hat 11.5.0-2) Fedora 40 (Clang) Kernel: Depends on container host Compiler: clang 18.1.8 (Fedora 18.1.8-1.fc40) CentOS Stream 10 Kernel: Depends on container host Compiler: gcc 14.2.1 20241104 (Red Hat 14.2.1-6) Fedora 41 (Clang) Kernel: Depends on container host Compiler: clang 19.1.5 (Fedora 19.1.5-1.fc41) Ubuntu 22.04 Kernel: Depends on container host Compiler: gcc (Ubuntu 11.4.0-1ubuntu1~22.04) 11.4.0 RHEL8 Kernel: Depends on container host Compiler: gcc 8.5.0 20210514 (Red Hat 8.5.0-22) Fedora 40 Kernel: Depends on container host Compiler: gcc 14.2.1 20240912 (Red Hat 14.2.1-3) RHEL9 Kernel: Depends on container host Compiler: gcc 11.5.0 20240719 (Red Hat 11.5.0-2) Fedora 41 Kernel: Depends on container host Compiler: gcc 14.2.1 20240912 (Red Hat 14.2.1-3) Ubuntu 20.04 Kernel: Depends on container host Compiler: gcc (Ubuntu 9.4.0-1ubuntu1~20.04.2) 9.4.0 Ubuntu 24.04 Kernel: Depends on container host Compiler: gcc (Ubuntu 13.3.0-6ubuntu2~24.04) 13.3.0 Windows Server 2022 Kernel: 10.0.20348.2031 Compiler: clang 15.0.7, gcc 14.1.0 (MinGW), and MSVC VS 19.39.33521 To view detailed results, visit: https://lab.dpdk.org/results/dashboard/patchsets/33092/ UNH-IOL DPDK Community Lab To manage your email subscriptions, visit: https://lab.dpdk.org/results/dashboard/preferences/subscriptions/