From mboxrd@z Thu Jan 1 00:00:00 1970 Return-Path: Received: from mails.dpdk.org (mails.dpdk.org [217.70.189.124]) by inbox.dpdk.org (Postfix) with ESMTP id D794D46636 for ; Wed, 30 Apr 2025 20:01:59 +0200 (CEST) Received: from mails.dpdk.org (localhost [127.0.0.1]) by mails.dpdk.org (Postfix) with ESMTP id A88EE402B1; Wed, 30 Apr 2025 20:01:59 +0200 (CEST) Received: from mail-io1-f99.google.com (mail-io1-f99.google.com [209.85.166.99]) by mails.dpdk.org (Postfix) with ESMTP id A54F1402A0 for ; Wed, 30 Apr 2025 20:01:57 +0200 (CEST) Received: by mail-io1-f99.google.com with SMTP id ca18e2360f4ac-86135af1045so7164239f.1 for ; Wed, 30 Apr 2025 11:01:57 -0700 (PDT) DKIM-Signature: v=1; a=rsa-sha256; c=relaxed/relaxed; d=iol.unh.edu; s=unh-iol; t=1746036117; x=1746640917; darn=dpdk.org; h=references:in-reply-to:cc:to:from:subject:message-id:date:from:to :cc:subject:date:message-id:reply-to; bh=pSOJ3ZNEVCHTBAv+KxIhmMovCnNLk4hC+fKeCuyxZ54=; b=OpOp5/s+uV5r0WYE5HR/Wk/fj25ZALsvn/6GPgy1wKi/KMa6xKMB7fQKxL/dytjzcL fd3Z4GzsmPIohYGeB+l3X0VHatGLkk4RJW0/8EhyNdEV0x6IZeQWdhEOqmb/bqfs1riH /sLYp93Js4w2OmoYKCyGUe3N3pn1d5OspvJnw= X-Google-DKIM-Signature: v=1; a=rsa-sha256; c=relaxed/relaxed; d=1e100.net; s=20230601; t=1746036117; x=1746640917; h=references:in-reply-to:cc:to:from:subject:message-id:date :x-gm-message-state:from:to:cc:subject:date:message-id:reply-to; bh=pSOJ3ZNEVCHTBAv+KxIhmMovCnNLk4hC+fKeCuyxZ54=; b=VNITHhk0+nriuC+fIb+8cCAnDsBZ+tgB6kd3bc3k4g4RyNKhmDT+lS5zwQFZ8dZuRb vm0jm4wEZ2m/m2mZGb42IFz6Pfa7XcTVSSqduPF3vGAXcT2OTHtwLado9tmVmfocV0yG aB/Y1Ryn+9js8k7N9v/2AdKs9UQcQVUDc+4n6dvJpn0V5eUNL+Lt1nGfbzzUd3Q6Fsw9 d+9rBCJXcYYOGLLRmq1OLRyoSf3Y21EXBCaOE1GqJ5fVFafpNtb5yy0rKIlmpJk69kGb Y8SUKuY9rSO3iXeeod0cwmr9XYIzuOrwp+8y5p3bfV1Jh1HzvN8vIbAEdGWZAjmr6UTA 6D5A== X-Gm-Message-State: AOJu0YwYWc9TzDCzb47u7JHbOocNgd+kmTBCLLuuo+rR+ls/eaF6cwxM xiC1FwHGCA8n2UX/heQiJC37vTP0PYm9CVe40muvkdkBGvTx/bTCBAXTWPdVFZ4rbUESsMiDjVD xEIezawnqRCOdn42JBWGJDGaViahG3w11arSyNgMK X-Gm-Gg: ASbGncsR1Bk9RpACwZmKPILv3haih9U9XJFJabWE3Wmww2djSG4MX4J6dHJgP2SZBmJ V2POWqMOq9ejT6iUl7Vz5gZ7sOyAwwgXjNM0UGduwbjaHjXRoGDPMZ/1PjwRfymHd40FGalYl6Q 7xez88vhxl6iXLn1+z3JiA25bsaHXOCONww2pU3hYYHM0PiaJSisdiHbUdv+q3UlGz1i/etpS3l 9FrJ4PjG6VfC+mSUFG3H3SBzVdFcGd6K3frM2RJ77VMnB7l7/Dj5kNEYyEqxdV+IbdZZehewtF2 0ZHpao6XTP+Lhadw3nZHR7jIDg9sOupO9ZLG X-Google-Smtp-Source: AGHT+IEWOVhzM/hA0nK7GWeANh1e5raqy2ZTddLc/mqJAAfCZscDpQQyq68D5msyHzyqNMMqQj15hfxt4YQ5 X-Received: by 2002:a05:6602:c87:b0:85b:3c49:8811 with SMTP id ca18e2360f4ac-86495e5ef76mr690329739f.4.1746036116874; Wed, 30 Apr 2025 11:01:56 -0700 (PDT) Received: from postal.iol.unh.edu (postal.iol.unh.edu. [132.177.123.84]) by smtp-relay.gmail.com with ESMTPS id ca18e2360f4ac-8648bf48547sm27524039f.9.2025.04.30.11.01.56 (version=TLS1_2 cipher=ECDHE-ECDSA-AES128-GCM-SHA256 bits=128/128); Wed, 30 Apr 2025 11:01:56 -0700 (PDT) X-Relaying-Domain: iol.unh.edu Date: Wed, 30 Apr 2025 11:01:56 -0700 (PDT) Message-ID: <68126594.050a0220.19a736.9842SMTPIN_ADDED_MISSING@mx.google.com> Received: from [172.17.0.4] (unknown [172.18.0.74]) by postal.iol.unh.edu (Postfix) with ESMTP id 287766052471; Wed, 30 Apr 2025 14:01:56 -0400 (EDT) Subject: |SUCCESS| pw153195 [PATCH] net/mlx5: fix flex tunnel validation From: dpdklab@iol.unh.edu To: Test Report Cc: dpdk-test-reports@iol.unh.edu In-Reply-To: <20250430110332.75903-1-dsosnowski@nvidia.com> References: <20250430110332.75903-1-dsosnowski@nvidia.com> Content-Type: text/plain X-BeenThere: test-report@dpdk.org X-Mailman-Version: 2.1.29 Precedence: list List-Id: automatic DPDK test reports List-Unsubscribe: , List-Archive: List-Post: List-Help: List-Subscribe: , Errors-To: test-report-bounces@dpdk.org Test-Label: iol-unit-arm64-testing Test-Status: SUCCESS http://dpdk.org/patch/153195 _Testing PASS_ Submitter: Dariusz Sosnowski Date: Wednesday, April 30 2025 11:03:31 DPDK git baseline: Repo:dpdk Branch: master CommitID:edd3f4b1265e6da707c46ca9b6c39d332647baea 153195 --> testing pass Upstream job id: Aarch32-Unit-Test#6102 Test environment and result as below: +-----------------------------+---------------------------+--------------+------------------------------+----------------+ | Environment | cryptodev_sw_zuc_autotest | lpm_autotest | cryptodev_sw_snow3g_autotest | dpdk_unit_test | +=============================+===========================+==============+==============================+================+ | Debian 12 (arm) | PASS | SKIPPED | PASS | PASS | +-----------------------------+---------------------------+--------------+------------------------------+----------------+ | Ubuntu 20.04 ARM SVE | SKIPPED | PASS | SKIPPED | SKIPPED | +-----------------------------+---------------------------+--------------+------------------------------+----------------+ | CentOS Stream 9 (ARM) | SKIPPED | SKIPPED | SKIPPED | PASS | +-----------------------------+---------------------------+--------------+------------------------------+----------------+ | Fedora 40 (ARM Clang) | SKIPPED | SKIPPED | SKIPPED | PASS | +-----------------------------+---------------------------+--------------+------------------------------+----------------+ | Fedora 40 (ARM) | SKIPPED | SKIPPED | SKIPPED | PASS | +-----------------------------+---------------------------+--------------+------------------------------+----------------+ | Fedora 41 (ARM Clang) | SKIPPED | SKIPPED | SKIPPED | PASS | +-----------------------------+---------------------------+--------------+------------------------------+----------------+ | Fedora 41 (ARM) | SKIPPED | SKIPPED | SKIPPED | PASS | +-----------------------------+---------------------------+--------------+------------------------------+----------------+ | RHEL9 (ARM) | SKIPPED | SKIPPED | SKIPPED | PASS | +-----------------------------+---------------------------+--------------+------------------------------+----------------+ | CentOS Stream 10 (ARM) | SKIPPED | SKIPPED | SKIPPED | PASS | +-----------------------------+---------------------------+--------------+------------------------------+----------------+ | Ubuntu 20.04 (ARM) | SKIPPED | SKIPPED | SKIPPED | PASS | +-----------------------------+---------------------------+--------------+------------------------------+----------------+ | Ubuntu 22.04 (ARM) | SKIPPED | SKIPPED | SKIPPED | PASS | +-----------------------------+---------------------------+--------------+------------------------------+----------------+ | Ubuntu 24.04 (ARM) | SKIPPED | SKIPPED | SKIPPED | PASS | +-----------------------------+---------------------------+--------------+------------------------------+----------------+ | 32-bit Ubuntu 22.04.4 (ARM) | SKIPPED | SKIPPED | SKIPPED | PASS | +-----------------------------+---------------------------+--------------+------------------------------+----------------+ Debian 12 (arm) Kernel: Depends on container host Compiler: gcc (Debian 12.2.0-14) 12.2.0 Ubuntu 20.04 ARM SVE Kernel: Depends on container host Compiler: gcc (Ubuntu 10.5.0-1ubuntu1~20.04) 10.5.0 CentOS Stream 9 (ARM) Kernel: Depends on container host Compiler: gcc 11.5.0 20240719 (Red Hat 11.5.0-2) Fedora 40 (ARM Clang) Kernel: Depends on container host Compiler: clang 18.1.8 (Fedora 18.1.8-1.fc40) Fedora 40 (ARM) Kernel: Depends on container host Compiler: gcc 14.2.1 20240912 (Red Hat 14.2.1-3) Fedora 41 (ARM Clang) Kernel: Depends on container host Compiler: clang 19.1.5 (Fedora 19.1.5-1.fc41) Fedora 41 (ARM) Kernel: Depends on container host Compiler: gcc 14.2.1 20240912 (Red Hat 14.2.1-3) RHEL9 (ARM) Kernel: Depends on container host Compiler: gcc 11.5.0 20240719 (Red Hat 11.5.0-2) CentOS Stream 10 (ARM) Kernel: Depends on container host Compiler: gcc 14.2.1 20241104 (Red Hat 14.2.1-6) Ubuntu 20.04 (ARM) Kernel: Depends on container host Compiler: gcc (Ubuntu 9.4.0-1ubuntu1~20.04.2) 9.4.0 Ubuntu 22.04 (ARM) Kernel: Depends on container host Compiler: gcc (Ubuntu 11.4.0-1ubuntu1~22.04) 11.4.0 Ubuntu 24.04 (ARM) Kernel: Depends on container host Compiler: gcc (Ubuntu 13.3.0-6ubuntu2~24.04) 13.3.0 32-bit Ubuntu 22.04.4 (ARM) Kernel: 5.15.83+ aarch64 Compiler: gcc (Ubuntu 11.4.0-1ubuntu1~22.04) 11.4.0 To view detailed results, visit: https://lab.dpdk.org/results/dashboard/patchsets/33092/ UNH-IOL DPDK Community Lab To manage your email subscriptions, visit: https://lab.dpdk.org/results/dashboard/preferences/subscriptions/