From mboxrd@z Thu Jan  1 00:00:00 1970
Return-Path: <test-report-bounces@dpdk.org>
Received: from mails.dpdk.org (mails.dpdk.org [217.70.189.124])
	by inbox.dpdk.org (Postfix) with ESMTP id 6CA6A46636
	for <public@inbox.dpdk.org>; Wed, 30 Apr 2025 20:08:49 +0200 (CEST)
Received: from mails.dpdk.org (localhost [127.0.0.1])
	by mails.dpdk.org (Postfix) with ESMTP id 3D5DD402B1;
	Wed, 30 Apr 2025 20:08:49 +0200 (CEST)
Received: from mail-io1-f100.google.com (mail-io1-f100.google.com
 [209.85.166.100])
 by mails.dpdk.org (Postfix) with ESMTP id 63B6E402A0
 for <test-report@dpdk.org>; Wed, 30 Apr 2025 20:08:47 +0200 (CEST)
Received: by mail-io1-f100.google.com with SMTP id
 ca18e2360f4ac-861b1f04b99so7020239f.0
 for <test-report@dpdk.org>; Wed, 30 Apr 2025 11:08:47 -0700 (PDT)
DKIM-Signature: v=1; a=rsa-sha256; c=relaxed/relaxed;
 d=iol.unh.edu; s=unh-iol; t=1746036526; x=1746641326; darn=dpdk.org;
 h=references:in-reply-to:cc:to:from:subject:message-id:date:from:to
 :cc:subject:date:message-id:reply-to;
 bh=49wwINOShYPnbXAOXZKHn1HiYlxTGPc5kw5/rAtfKLk=;
 b=Ni5o3eEpAigifR7dzfp0e3YDQ3Sdz5hnRoGilC2o+19hUhziPr2ugd1Z7FFtHpa7ic
 pbn2BbBPXB75SP8TMaIPgqXeElYGpIaa3RX2zS3E7lIUy7Iof4b0mC/Ikuj6YxQgxGvL
 b+WijNRoYk7CqtMLZCXHxI3orv0+gHGcu2O6E=
X-Google-DKIM-Signature: v=1; a=rsa-sha256; c=relaxed/relaxed;
 d=1e100.net; s=20230601; t=1746036526; x=1746641326;
 h=references:in-reply-to:cc:to:from:subject:message-id:date
 :x-gm-message-state:from:to:cc:subject:date:message-id:reply-to;
 bh=49wwINOShYPnbXAOXZKHn1HiYlxTGPc5kw5/rAtfKLk=;
 b=bqw99Ao3H+m5VZnPa2ysdA6ryYe8AeL/X3KP/k6eG45UpRZLd2qshGv+/HXqSfRaeO
 LlsPPrpk1n2D9/DBmlZ5PxJw3bADVMLrFQCJX7Ntadjz5j51MVM07k/6PNpsfqrvLwPu
 NVS1uXXjQ9OILNy7Rvzuz33HW5oamSNm+/G9UT++wYBLSJiXzqywRn2wNNRxtoVePQzZ
 Wyy+v8VX76wLRwi4OtvT3SOeD1973knGieweaOGGgWMPDX5RzrxZf/RsW8DB1ssJr4p9
 R3hq3hu89K/utbwamdWbIYB+wC5BuhIFVMmejyXXslqGWDsFjZxSdZxSwk899oXPa+Qv
 +QQQ==
X-Gm-Message-State: AOJu0YyhyOXnXX9nXoCC86USz71/XteMZZMv0SB2hRscBjjccS8zUyvq
 ap3Ks+uQyFT9m9yB6JRMGhK1IPnIHl8S1pj0hcblGNNrjs3Jij34eDCq9KSmgsd8EB6kweTh0Q5
 kE7/Cer26D44QebaAvp92sAgVEduUGB+rvo2mP1hLaqVT8aylJbZEg/s8
X-Gm-Gg: ASbGncteWVhiIJ/r1LHMaeWcGRCI8xbxiCBgelhbK4DgPFOvvcMwNxZNMrRVOBCnJPb
 HHoyG5z0x6c9EKHOw7IOdkov6Jpyb+lPUCnwX2aK2In+hYv6n96ptk0bDgsrKEeb2YHqC0c4A40
 GjLnpmgp/4NZOEkJpXVNiWHGTkZK1ahXuUPAQT05Tt50HSzyhlcl2hRb5s6ahYn+5wB7CDbBC0e
 AD4tRA2bEmW2c6Mgeiql/YMNmlboN9XpeWu12cWv18CXCh2lpJt7TAdV7Of2clb8cXlFKNraPcV
 U3qojLW64KJAbE+rIZ/ZAj5FoAFXQ2Qh+/Ka0aiI8DaV9+vG
X-Google-Smtp-Source: AGHT+IEDBd7vrOzuZMn4KbGiWVfl8u+5xYUc73THDL0AeojYxNHknWAOuqhw5kG1i1zKajj1jUipHDx+P5J/
X-Received: by 2002:a05:6602:3f0c:b0:861:7db9:704f with SMTP id
 ca18e2360f4ac-86495e036b1mr517106539f.2.1746036526507; 
 Wed, 30 Apr 2025 11:08:46 -0700 (PDT)
Received: from postal.iol.unh.edu (postal.iol.unh.edu.
 [2606:4100:3880:1234::84]) by smtp-relay.gmail.com with ESMTPS id
 8926c6da1cb9f-4f862dac580sm283091173.11.2025.04.30.11.08.46
 (version=TLS1_2 cipher=ECDHE-ECDSA-AES128-GCM-SHA256 bits=128/128);
 Wed, 30 Apr 2025 11:08:46 -0700 (PDT)
X-Relaying-Domain: iol.unh.edu
Date: Wed, 30 Apr 2025 11:08:46 -0700 (PDT)
Message-ID: <6812672e.050a0220.96341.9e0aSMTPIN_ADDED_MISSING@mx.google.com>
Received: from [172.17.0.2] (unknown [172.18.0.74])
 by postal.iol.unh.edu (Postfix) with ESMTP id 12DDF6052471;
 Wed, 30 Apr 2025 14:08:46 -0400 (EDT)
Subject: |SUCCESS| pw153195 [PATCH] net/mlx5: fix flex tunnel validation
From: dpdklab@iol.unh.edu
To: Test Report <test-report@dpdk.org>
Cc: dpdk-test-reports@iol.unh.edu
In-Reply-To: <20250430110332.75903-1-dsosnowski@nvidia.com>
References: <20250430110332.75903-1-dsosnowski@nvidia.com>
Content-Type: text/plain
X-BeenThere: test-report@dpdk.org
X-Mailman-Version: 2.1.29
Precedence: list
List-Id: automatic DPDK test reports <test-report.dpdk.org>
List-Unsubscribe: <https://mails.dpdk.org/options/test-report>,
 <mailto:test-report-request@dpdk.org?subject=unsubscribe>
List-Archive: <http://mails.dpdk.org/archives/test-report/>
List-Post: <mailto:test-report@dpdk.org>
List-Help: <mailto:test-report-request@dpdk.org?subject=help>
List-Subscribe: <https://mails.dpdk.org/listinfo/test-report>,
 <mailto:test-report-request@dpdk.org?subject=subscribe>
Errors-To: test-report-bounces@dpdk.org

Test-Label: iol-unit-amd64-testing
Test-Status: SUCCESS
http://dpdk.org/patch/153195

_Testing PASS_

Submitter: Dariusz Sosnowski <dsosnowski@nvidia.com>
Date: Wednesday, April 30 2025 11:03:31 
DPDK git baseline: Repo:dpdk
  Branch: master
  CommitID:edd3f4b1265e6da707c46ca9b6c39d332647baea

153195 --> testing pass

Upstream job id: Generic-VM-Unit-Test-DPDK#28262

Test environment and result as below:

+---------------------+----------------+
|     Environment     | dpdk_unit_test |
+=====================+================+
| Debian 12           | PASS           |
+---------------------+----------------+
| CentOS Stream 9     | PASS           |
+---------------------+----------------+
| Fedora 40 (Clang)   | PASS           |
+---------------------+----------------+
| CentOS Stream 10    | PASS           |
+---------------------+----------------+
| Fedora 41 (Clang)   | PASS           |
+---------------------+----------------+
| Ubuntu 22.04        | PASS           |
+---------------------+----------------+
| RHEL8               | PASS           |
+---------------------+----------------+
| Fedora 40           | PASS           |
+---------------------+----------------+
| RHEL9               | PASS           |
+---------------------+----------------+
| Fedora 41           | PASS           |
+---------------------+----------------+
| Ubuntu 20.04        | PASS           |
+---------------------+----------------+
| Ubuntu 24.04        | PASS           |
+---------------------+----------------+
| Windows Server 2022 | PASS           |
+---------------------+----------------+


Debian 12
	Kernel: Depends on container host
	Compiler: gcc (Debian 12.2.0-14) 12.2.0

CentOS Stream 9
	Kernel: Depends on container host
	Compiler: gcc 11.5.0 20240719 (Red Hat 11.5.0-2)

Fedora 40 (Clang)
	Kernel: Depends on container host
	Compiler: clang 18.1.8 (Fedora 18.1.8-1.fc40)

CentOS Stream 10
	Kernel: Depends on container host
	Compiler: gcc 14.2.1 20241104 (Red Hat 14.2.1-6)

Fedora 41 (Clang)
	Kernel: Depends on container host
	Compiler: clang 19.1.5 (Fedora 19.1.5-1.fc41)

Ubuntu 22.04
	Kernel: Depends on container host
	Compiler: gcc (Ubuntu 11.4.0-1ubuntu1~22.04) 11.4.0

RHEL8
	Kernel: Depends on container host
	Compiler: gcc 8.5.0 20210514 (Red Hat 8.5.0-22)

Fedora 40
	Kernel: Depends on container host
	Compiler: gcc 14.2.1 20240912 (Red Hat 14.2.1-3)

RHEL9
	Kernel: Depends on container host
	Compiler: gcc 11.5.0 20240719 (Red Hat 11.5.0-2)

Fedora 41
	Kernel: Depends on container host
	Compiler: gcc 14.2.1 20240912 (Red Hat 14.2.1-3)

Ubuntu 20.04
	Kernel: Depends on container host
	Compiler: gcc (Ubuntu 9.4.0-1ubuntu1~20.04.2) 9.4.0

Ubuntu 24.04
	Kernel: Depends on container host
	Compiler: gcc (Ubuntu 13.3.0-6ubuntu2~24.04) 13.3.0

Windows Server 2022
	Kernel: 10.0.20348.2031
	Compiler: clang 15.0.7, gcc 14.1.0 (MinGW), and MSVC VS 19.39.33521

To view detailed results, visit:
https://lab.dpdk.org/results/dashboard/patchsets/33092/

UNH-IOL DPDK Community Lab

To manage your email subscriptions, visit: 
https://lab.dpdk.org/results/dashboard/preferences/subscriptions/