From mboxrd@z Thu Jan 1 00:00:00 1970 Return-Path: Received: from mails.dpdk.org (mails.dpdk.org [217.70.189.124]) by inbox.dpdk.org (Postfix) with ESMTP id 510B746636 for ; Wed, 30 Apr 2025 20:29:58 +0200 (CEST) Received: from mails.dpdk.org (localhost [127.0.0.1]) by mails.dpdk.org (Postfix) with ESMTP id 3E550402B1; Wed, 30 Apr 2025 20:29:58 +0200 (CEST) Received: from mail-yw1-f228.google.com (mail-yw1-f228.google.com [209.85.128.228]) by mails.dpdk.org (Postfix) with ESMTP id EEA45402A0 for ; Wed, 30 Apr 2025 20:29:56 +0200 (CEST) Received: by mail-yw1-f228.google.com with SMTP id 00721157ae682-70825de932bso13829347b3.0 for ; Wed, 30 Apr 2025 11:29:56 -0700 (PDT) DKIM-Signature: v=1; a=rsa-sha256; c=relaxed/relaxed; d=iol.unh.edu; s=unh-iol; t=1746037796; x=1746642596; darn=dpdk.org; h=references:in-reply-to:cc:to:from:subject:message-id:date:from:to :cc:subject:date:message-id:reply-to; bh=YjzTjsjzILo0ARK0fbYDKEiIuM2R/I1xEF2Qt/LJJF0=; b=WMz9ipqcjlOypCvqFN5c3Y1p3SN7jkma+NlbFc2eFn4BDWy22ea71cHxTw8U+tVCbI q4hbYCUUokLEyzxjia1r9xMkbHwrfxtHM1ta2ogQlmlyGHpCSvqM/w46RByfARmBzmuX AetCAn9M3HEkYd4HGsLe265prR8HsJg0tqJSY= X-Google-DKIM-Signature: v=1; a=rsa-sha256; c=relaxed/relaxed; d=1e100.net; s=20230601; t=1746037796; x=1746642596; h=references:in-reply-to:cc:to:from:subject:message-id:date :x-gm-message-state:from:to:cc:subject:date:message-id:reply-to; bh=YjzTjsjzILo0ARK0fbYDKEiIuM2R/I1xEF2Qt/LJJF0=; b=XxuR89vWYZlt5CkZPvOQFs3amJOBi6WHz0T+Np6qI7sKfG901KpumUTLjnYsgLV6e0 Mz0HwxJMSyyZSZSJmhDi+cn1EZSkvMZS+z/OeNqSgLxeaJX2eJgSO1nP6qgo0Lt9BzYT yUDtD469vbXL1o5J9WpHBvYOzlnA5PlAgOontdPl31X17TvHBMEyeEFR3bziY2e/c7XD yeO4JkAGbz/PUWy1f9xS+s0RhQj1qXKAI1HsOmSX1VPR6LR/c2acxcgFcSPDIfIcp6vL GF1JccpquDVEc6fKh7WErnMad8npZEpAq2IyV9oYLx3stAQVlgkSf1h+C7sOce6w22PK g5wQ== X-Gm-Message-State: AOJu0YwOvYxRG9KBXeSBZBoRxUzHjfjKSfMPtprdGXyk2yLcUfOGHuML F1g6NQUmG0IZZosHV+GT2DBJ9mBKXKNPZ2TwUofUjuEJww6hs2Ykn98u/RMJDGTbEqnfAksZ125 0n1v1lii595YAgdS//e0eqN39No31RkT8EDpHfzl5l8zXfUj+GCs7UREw X-Gm-Gg: ASbGncsIn3KReNL19sidczaqk8r7gYyEV1/heAdaAGEvw4Jd3csfH9KdYV7Z+0JV8Ym rCxHl63ZudxmgcuaLyxeX5sAy3FQqhQZfnA5yKTvpcIz8Fn05SNW817jVCOIWaRt+8zlfXkgSB5 5GWJ1edp/lmE6sJwaR9TxWlrFl8sfbd4f4gUiMZ7wYKwFpzPdkmMgMych3ZAlkIVam50Ht+DFbf q/qpoiFl1v4uXF7tapaq5OvQedrDQFIERaw+2qObgzklkiVqMquvmMI07d/QjHXtGRWfwYayKB2 OUrgW4l0pwy2GGrZKP7BsiFyoBsjl2ZMW3zho6BnQWJN5CQI X-Google-Smtp-Source: AGHT+IHnuA+5WwKEoxdK0xHmbHzRbLyaZOS8bBKU3xrEsurxyeNhsue7PPxVdqJT/4MQ+Ebb2X2xOmt2Km6s X-Received: by 2002:a05:690c:618a:b0:6fb:9445:d28e with SMTP id 00721157ae682-708b9d14cfcmr8050617b3.10.1746037796305; Wed, 30 Apr 2025 11:29:56 -0700 (PDT) Received: from postal.iol.unh.edu (postal.iol.unh.edu. [2606:4100:3880:1234::84]) by smtp-relay.gmail.com with ESMTPS id 00721157ae682-708ae1fb433sm1430437b3.61.2025.04.30.11.29.56 (version=TLS1_2 cipher=ECDHE-ECDSA-AES128-GCM-SHA256 bits=128/128); Wed, 30 Apr 2025 11:29:56 -0700 (PDT) X-Relaying-Domain: iol.unh.edu Date: Wed, 30 Apr 2025 11:29:56 -0700 (PDT) Message-ID: <68126c24.0d0a0220.5b529.78f1SMTPIN_ADDED_MISSING@mx.google.com> Received: from [172.17.0.2] (unknown [172.18.0.74]) by postal.iol.unh.edu (Postfix) with ESMTP id AFEBF6052471; Wed, 30 Apr 2025 14:29:55 -0400 (EDT) Subject: |SUCCESS| pw153195 [PATCH] net/mlx5: fix flex tunnel validation From: dpdklab@iol.unh.edu To: Test Report Cc: dpdk-test-reports@iol.unh.edu In-Reply-To: <20250430110332.75903-1-dsosnowski@nvidia.com> References: <20250430110332.75903-1-dsosnowski@nvidia.com> Content-Type: text/plain X-BeenThere: test-report@dpdk.org X-Mailman-Version: 2.1.29 Precedence: list List-Id: automatic DPDK test reports List-Unsubscribe: , List-Archive: List-Post: List-Help: List-Subscribe: , Errors-To: test-report-bounces@dpdk.org Test-Label: iol-compile-arm64-testing Test-Status: SUCCESS http://dpdk.org/patch/153195 _Testing PASS_ Submitter: Dariusz Sosnowski Date: Wednesday, April 30 2025 11:03:31 DPDK git baseline: Repo:dpdk Branch: master CommitID:edd3f4b1265e6da707c46ca9b6c39d332647baea 153195 --> testing pass Upstream job id: Generic-DPDK-Compile-Meson#384156 Test environment and result as below: +----------------------------------------+--------------------+ | Environment | dpdk_meson_compile | +========================================+====================+ | RHEL9 (ARM) | PASS | +----------------------------------------+--------------------+ | Ubuntu 20.04 ARM GCC Cross Compile | PASS | +----------------------------------------+--------------------+ | Ubuntu 20.04 ARM SVE | PASS | +----------------------------------------+--------------------+ | Debian 12 with MUSDK | PASS | +----------------------------------------+--------------------+ | Fedora 41 (ARM) | PASS | +----------------------------------------+--------------------+ | Fedora 40 (ARM Clang) | PASS | +----------------------------------------+--------------------+ | Fedora 40 (ARM) | PASS | +----------------------------------------+--------------------+ | Fedora 41 (ARM Clang) | PASS | +----------------------------------------+--------------------+ | Ubuntu 20.04 (ARM) | PASS | +----------------------------------------+--------------------+ | CentOS Stream 9 (ARM) | PASS | +----------------------------------------+--------------------+ | CentOS Stream 10 (ARM) | PASS | +----------------------------------------+--------------------+ | Debian 12 (arm) | PASS | +----------------------------------------+--------------------+ | Ubuntu 20.04 ARM Clang Cross Compile | PASS | +----------------------------------------+--------------------+ | Ubuntu 20.04 aarch32 GCC Cross Compile | PASS | +----------------------------------------+--------------------+ | Ubuntu 22.04 (ARM) | PASS | +----------------------------------------+--------------------+ | Ubuntu 24.04 (ARM) | PASS | +----------------------------------------+--------------------+ RHEL9 (ARM) Kernel: Depends on container host Compiler: gcc 11.5.0 20240719 (Red Hat 11.5.0-2) Ubuntu 20.04 ARM GCC Cross Compile Kernel: Depends on container host Compiler: aarch64-linux-gnu-gcc (Ubuntu 9.4.0-1ubuntu1~20.04.2) 9.4.0 Ubuntu 20.04 ARM SVE Kernel: Depends on container host Compiler: gcc (Ubuntu 10.5.0-1ubuntu1~20.04) 10.5.0 Debian 12 with MUSDK Kernel: Depends on container host Compiler: gcc (Debian 12.2.0-14) 12.2.0 Fedora 41 (ARM) Kernel: Depends on container host Compiler: gcc 14.2.1 20240912 (Red Hat 14.2.1-3) Fedora 40 (ARM Clang) Kernel: Depends on container host Compiler: clang 18.1.8 (Fedora 18.1.8-1.fc40) Fedora 40 (ARM) Kernel: Depends on container host Compiler: gcc 14.2.1 20240912 (Red Hat 14.2.1-3) Fedora 41 (ARM Clang) Kernel: Depends on container host Compiler: clang 19.1.5 (Fedora 19.1.5-1.fc41) Ubuntu 20.04 (ARM) Kernel: Depends on container host Compiler: gcc (Ubuntu 9.4.0-1ubuntu1~20.04.2) 9.4.0 CentOS Stream 9 (ARM) Kernel: Depends on container host Compiler: gcc 11.5.0 20240719 (Red Hat 11.5.0-2) CentOS Stream 10 (ARM) Kernel: Depends on container host Compiler: gcc 14.2.1 20241104 (Red Hat 14.2.1-6) Debian 12 (arm) Kernel: Depends on container host Compiler: gcc (Debian 12.2.0-14) 12.2.0 Ubuntu 20.04 ARM Clang Cross Compile Kernel: Depends on container host Compiler: clang 10.0.0-4ubuntu1 Ubuntu 20.04 aarch32 GCC Cross Compile Kernel: Depends on container host Compiler: gcc 9.4.0 Ubuntu 22.04 (ARM) Kernel: Depends on container host Compiler: gcc (Ubuntu 11.4.0-1ubuntu1~22.04) 11.4.0 Ubuntu 24.04 (ARM) Kernel: Depends on container host Compiler: gcc (Ubuntu 13.3.0-6ubuntu2~24.04) 13.3.0 To view detailed results, visit: https://lab.dpdk.org/results/dashboard/patchsets/33092/ UNH-IOL DPDK Community Lab To manage your email subscriptions, visit: https://lab.dpdk.org/results/dashboard/preferences/subscriptions/