From mboxrd@z Thu Jan 1 00:00:00 1970 Return-Path: Received: from mails.dpdk.org (mails.dpdk.org [217.70.189.124]) by inbox.dpdk.org (Postfix) with ESMTP id D45BC46670 for ; Thu, 1 May 2025 07:16:32 +0200 (CEST) Received: from mails.dpdk.org (localhost [127.0.0.1]) by mails.dpdk.org (Postfix) with ESMTP id AA14D4028E; Thu, 1 May 2025 07:16:32 +0200 (CEST) Received: from mail-io1-f99.google.com (mail-io1-f99.google.com [209.85.166.99]) by mails.dpdk.org (Postfix) with ESMTP id E8AB840279 for ; Thu, 1 May 2025 07:16:30 +0200 (CEST) Received: by mail-io1-f99.google.com with SMTP id ca18e2360f4ac-85b4170f1f5so18273939f.3 for ; Wed, 30 Apr 2025 22:16:30 -0700 (PDT) DKIM-Signature: v=1; a=rsa-sha256; c=relaxed/relaxed; d=iol.unh.edu; s=unh-iol; t=1746076590; x=1746681390; darn=dpdk.org; h=cc:to:from:subject:message-id:date:from:to:cc:subject:date :message-id:reply-to; bh=MFa4tiDgyrVSt0dYRYSPzRVWiVhJC7V0YX3g8uNIxyI=; b=h6lIQGgL2bq2DqgpA7TNixFfdWv+zTBuw9neYInJlHDYu9XqMlFet+XxuX9zibuVHB 7F9S0sdpnHFdJ1O7sE9kKJzlJsCJWef81OefMXb+ugnBplxnGVO5E2tuN+Zb7NuQtIFX V3ryq2XUD8iWdlA6uFAa7EqlvoOcVcrmXGjyA= X-Google-DKIM-Signature: v=1; a=rsa-sha256; c=relaxed/relaxed; d=1e100.net; s=20230601; t=1746076590; x=1746681390; h=cc:to:from:subject:message-id:date:x-gm-message-state:from:to:cc :subject:date:message-id:reply-to; bh=MFa4tiDgyrVSt0dYRYSPzRVWiVhJC7V0YX3g8uNIxyI=; b=m6uF9542D4Hojlz4oAZNik89Ca014MKaov7zwdCTfvBwHI4tJTBtvgBkRwBh7vizUt jJK7liepIH1pdOEI9a3xwjyZp0D1IQ2Bh6Th2JCRoRdebeHIKEUbf3qPO35M6GVGjrvv tYS3wcHZ9NypgojaHBk0gay0xN+9TQvB2f+B9SGzPzIQv+vMrCUGVt8OvHiMcym/aceE m2Kyjm1qASOjIBd/IzV9io7+hjj3hZmk2h8QkbTGqNKq16xMIFvcSs0h9Yy6/TEZWuzO nMTIMmytXRJDkYTpSMW52rfJaMve8NDbcZT/bZGVyz495OdWyUmA0TKb6mht4f2CWtXF ppbA== X-Gm-Message-State: AOJu0YytSlEC49cdi6UF2CKr587s54fa+95Mmq34w2NMnojMrrB/Vklz kdst4EcXXKyWTTWjCGIE1A9bKjJH8EFkKF0Y6pIYT82dae3R8XN0Y4RQWIhWXFvkMWa/IWY/2BW bazmQRIX5id98nd1er0+IjFnb/+zqnZlnnS7GV88lwM0hvtwV X-Gm-Gg: ASbGncuogCvq7oMdXSPyw7i2BtFsvxuTeHuyrIO4zimC0WoUwZF/VpFaf8nBZROqfNS Cg9sv2eAFjBguyud/3SKYp4kYfJMCweCfHsnQzOtmCXRFun1gscVyFRdgo1vt4T0M2S8hw/xf7c MP4hl1Um+FAEtlcVDWEG8goO834p/B7JQKDR/UnkoH1gw2ecsvAtTVm8m1QmAnn9i8x/6tzu25l 0iiji9N6NcEuIuepDo9mFG7dU6GCMLPYn+eQ1TEA3w6y6K4X62syZC8AbxKa8zHG8j0MXvj2WEG jMa9U5ZyjgcyFOdBplVGEtBTjJe2tIq12WVyqy5U9TMiSrEz X-Google-Smtp-Source: AGHT+IGGtsQd7m1KqtiCtF/hXWlL65+GiACDSUiObh/paMhUh8CzcD4o7G2lqRgzNQeKmC0RBT5ODCBB2XAA X-Received: by 2002:a05:6e02:1c07:b0:3d8:975:b808 with SMTP id e9e14a558f8ab-3d96f1918famr21601155ab.5.1746076590087; Wed, 30 Apr 2025 22:16:30 -0700 (PDT) Received: from postal.iol.unh.edu (postal.iol.unh.edu. [2606:4100:3880:1234::84]) by smtp-relay.gmail.com with ESMTPS id e9e14a558f8ab-3d95f2e7766sm5182235ab.24.2025.04.30.22.16.30 (version=TLS1_2 cipher=ECDHE-ECDSA-AES128-GCM-SHA256 bits=128/128); Wed, 30 Apr 2025 22:16:30 -0700 (PDT) X-Relaying-Domain: iol.unh.edu Date: Wed, 30 Apr 2025 22:16:30 -0700 (PDT) Message-ID: <681303ae.050a0220.2bc8c3.e953SMTPIN_ADDED_MISSING@mx.google.com> Received: from [172.21.0.5] (unknown [172.18.0.240]) by postal.iol.unh.edu (Postfix) with ESMTP id 85B456052471; Thu, 1 May 2025 01:16:29 -0400 (EDT) Subject: |SUCCESS| [GIT MASTER] 4c5634de9f933555bab9c64a533d3dca999071cd From: dpdklab@iol.unh.edu To: Test Report Cc: dpdk-test-reports@iol.unh.edu, Xueming Li , Christian Ehrhardt , Kevin Traynor , Luca Boccassi Content-Type: text/plain X-BeenThere: test-report@dpdk.org X-Mailman-Version: 2.1.29 Precedence: list List-Id: automatic DPDK test reports List-Unsubscribe: , List-Archive: List-Post: List-Help: List-Subscribe: , Errors-To: test-report-bounces@dpdk.org _Testing PASS_ Branch: tags/v24.11 4c5634de9f933555bab9c64a533d3dca999071cd --> testing pass Upstream job id: Generic-DPDK-Compile-ABI#124909 Test environment and result as below: +-------------------+----------+ | Environment | abi_test | +===================+==========+ | CentOS Stream 9 | PASS | +-------------------+----------+ | Ubuntu 24.04 | PASS | +-------------------+----------+ | CentOS Stream 10 | PASS | +-------------------+----------+ | Fedora 40 (Clang) | PASS | +-------------------+----------+ | Fedora 40 | PASS | +-------------------+----------+ | Debian 12 | PASS | +-------------------+----------+ | openSUSE Leap 15 | PASS | +-------------------+----------+ | RHEL9 | PASS | +-------------------+----------+ | RHEL8 | PASS | +-------------------+----------+ | Fedora 41 (Clang) | PASS | +-------------------+----------+ | Ubuntu 22.04 | PASS | +-------------------+----------+ | Fedora 41 | PASS | +-------------------+----------+ CentOS Stream 9 Kernel: Depends on container host Compiler: gcc 11.5.0 20240719 (Red Hat 11.5.0-2) Ubuntu 24.04 Kernel: Depends on container host Compiler: gcc (Ubuntu 13.3.0-6ubuntu2~24.04) 13.3.0 CentOS Stream 10 Kernel: Depends on container host Compiler: gcc 14.2.1 20241104 (Red Hat 14.2.1-6) Fedora 40 (Clang) Kernel: Depends on container host Compiler: clang 18.1.8 (Fedora 18.1.8-1.fc40) Fedora 40 Kernel: Depends on container host Compiler: gcc 14.2.1 20240912 (Red Hat 14.2.1-3) Debian 12 Kernel: Depends on container host Compiler: gcc (Debian 12.2.0-14) 12.2.0 openSUSE Leap 15 Kernel: Depends on container host Compiler: gcc (SUSE Linux) 7.5.0 RHEL9 Kernel: Depends on container host Compiler: gcc 11.5.0 20240719 (Red Hat 11.5.0-2) RHEL8 Kernel: Depends on container host Compiler: gcc 8.5.0 20210514 (Red Hat 8.5.0-22) Fedora 41 (Clang) Kernel: Depends on container host Compiler: clang 19.1.5 (Fedora 19.1.5-1.fc41) Ubuntu 22.04 Kernel: Depends on container host Compiler: gcc (Ubuntu 11.4.0-1ubuntu1~22.04) 11.4.0 Fedora 41 Kernel: Depends on container host Compiler: gcc 14.2.1 20240912 (Red Hat 14.2.1-3) To view detailed results, visit: https://lab.dpdk.org/results/dashboard/tarballs/33402/ UNH-IOL DPDK Community Lab To manage your email subscriptions, visit: https://lab.dpdk.org/results/dashboard/preferences/subscriptions/