automatic DPDK test reports
 help / color / mirror / Atom feed
* |PENDING| [GIT MASTER] 83a7a648344674c0269fcaeb71d8d16468421a0e
@ 2025-05-01  5:44 dpdklab
  0 siblings, 0 replies; 7+ messages in thread
From: dpdklab @ 2025-05-01  5:44 UTC (permalink / raw)
  To: Test Report; +Cc: dpdk-test-reports

_Testing pending_

Branch: tags/v23.11

83a7a648344674c0269fcaeb71d8d16468421a0e --> testing pending

Upstream job id: Generic-Unit-Test-DPDK#334623

Test environment and result as below:

+-----------------------------+------------------------------+--------------+---------------------------+----------------+
|         Environment         | cryptodev_sw_snow3g_autotest | lpm_autotest | cryptodev_sw_zuc_autotest | dpdk_unit_test |
+=============================+==============================+==============+===========================+================+
| Debian 12 (arm)             | PASS                         | SKIPPED      | PEND                      | PEND           |
+-----------------------------+------------------------------+--------------+---------------------------+----------------+
| Ubuntu 20.04 ARM SVE        | SKIPPED                      | PEND         | SKIPPED                   | SKIPPED        |
+-----------------------------+------------------------------+--------------+---------------------------+----------------+
| CentOS Stream 9 (ARM)       | SKIPPED                      | SKIPPED      | SKIPPED                   | PEND           |
+-----------------------------+------------------------------+--------------+---------------------------+----------------+
| CentOS Stream 10 (ARM)      | SKIPPED                      | SKIPPED      | SKIPPED                   | PEND           |
+-----------------------------+------------------------------+--------------+---------------------------+----------------+
| Fedora 40 (ARM Clang)       | SKIPPED                      | SKIPPED      | SKIPPED                   | PEND           |
+-----------------------------+------------------------------+--------------+---------------------------+----------------+
| Fedora 40 (ARM)             | SKIPPED                      | SKIPPED      | SKIPPED                   | PEND           |
+-----------------------------+------------------------------+--------------+---------------------------+----------------+
| Fedora 41 (ARM)             | SKIPPED                      | SKIPPED      | SKIPPED                   | PEND           |
+-----------------------------+------------------------------+--------------+---------------------------+----------------+
| RHEL9 (ARM)                 | SKIPPED                      | SKIPPED      | SKIPPED                   | PEND           |
+-----------------------------+------------------------------+--------------+---------------------------+----------------+
| Fedora 41 (ARM Clang)       | SKIPPED                      | SKIPPED      | SKIPPED                   | PEND           |
+-----------------------------+------------------------------+--------------+---------------------------+----------------+
| Ubuntu 24.04 (ARM)          | SKIPPED                      | SKIPPED      | SKIPPED                   | PEND           |
+-----------------------------+------------------------------+--------------+---------------------------+----------------+
| Ubuntu 20.04 (ARM)          | SKIPPED                      | SKIPPED      | SKIPPED                   | PEND           |
+-----------------------------+------------------------------+--------------+---------------------------+----------------+
| Ubuntu 22.04 (ARM)          | SKIPPED                      | SKIPPED      | SKIPPED                   | PEND           |
+-----------------------------+------------------------------+--------------+---------------------------+----------------+
| 32-bit Ubuntu 22.04.4 (ARM) | SKIPPED                      | SKIPPED      | SKIPPED                   | PEND           |
+-----------------------------+------------------------------+--------------+---------------------------+----------------+


Debian 12 (arm)
	Kernel: Depends on container host
	Compiler: gcc (Debian 12.2.0-14) 12.2.0

Ubuntu 20.04 ARM SVE
	Kernel: Depends on container host
	Compiler: gcc (Ubuntu 10.5.0-1ubuntu1~20.04) 10.5.0

CentOS Stream 9 (ARM)
	Kernel: Depends on container host
	Compiler: gcc 11.5.0 20240719 (Red Hat 11.5.0-2)

CentOS Stream 10 (ARM)
	Kernel: Depends on container host
	Compiler: gcc 14.2.1 20241104 (Red Hat 14.2.1-6)

Fedora 40 (ARM Clang)
	Kernel: Depends on container host
	Compiler: clang 18.1.8 (Fedora 18.1.8-1.fc40)

Fedora 40 (ARM)
	Kernel: Depends on container host
	Compiler: gcc 14.2.1 20240912 (Red Hat 14.2.1-3)

Fedora 41 (ARM)
	Kernel: Depends on container host
	Compiler: gcc 14.2.1 20240912 (Red Hat 14.2.1-3)

RHEL9 (ARM)
	Kernel: Depends on container host
	Compiler: gcc 11.5.0 20240719 (Red Hat 11.5.0-2)

Fedora 41 (ARM Clang)
	Kernel: Depends on container host
	Compiler: clang 19.1.5 (Fedora 19.1.5-1.fc41)

Ubuntu 24.04 (ARM)
	Kernel: Depends on container host
	Compiler: gcc (Ubuntu 13.3.0-6ubuntu2~24.04) 13.3.0

Ubuntu 20.04 (ARM)
	Kernel: Depends on container host
	Compiler: gcc (Ubuntu 9.4.0-1ubuntu1~20.04.2) 9.4.0

Ubuntu 22.04 (ARM)
	Kernel: Depends on container host
	Compiler: gcc (Ubuntu 11.4.0-1ubuntu1~22.04) 11.4.0

32-bit Ubuntu 22.04.4 (ARM)
	Kernel: 5.15.83+ aarch64
	Compiler: gcc (Ubuntu 11.4.0-1ubuntu1~22.04) 11.4.0

To view detailed results, visit:
https://lab.dpdk.org/results/dashboard/tarballs/33403/

UNH-IOL DPDK Community Lab

To manage your email subscriptions, visit: 
https://lab.dpdk.org/results/dashboard/preferences/subscriptions/

^ permalink raw reply	[flat|nested] 7+ messages in thread

* |PENDING| [GIT MASTER] 83a7a648344674c0269fcaeb71d8d16468421a0e
@ 2025-05-01  6:34 dpdklab
  0 siblings, 0 replies; 7+ messages in thread
From: dpdklab @ 2025-05-01  6:34 UTC (permalink / raw)
  To: Test Report; +Cc: dpdk-test-reports

_Testing pending_

Branch: tags/v23.11

83a7a648344674c0269fcaeb71d8d16468421a0e --> testing pending

Upstream job id: Generic-DPDK-Compile-Meson#384238

Test environment and result as below:

+------------------------------------+--------------------+
|            Environment             | dpdk_meson_compile |
+====================================+====================+
| Ubuntu 20.04 ARM GCC Cross Compile | PEND               |
+------------------------------------+--------------------+
| RHEL9 (ARM)                        | PEND               |
+------------------------------------+--------------------+
| Ubuntu 20.04 ARM SVE               | PASS               |
+------------------------------------+--------------------+
| Fedora 40 (ARM)                    | PEND               |
+------------------------------------+--------------------+
| Debian 12 with MUSDK               | PEND               |
+------------------------------------+--------------------+
| Fedora 40 (ARM Clang)              | PEND               |
+------------------------------------+--------------------+
| Ubuntu 20.04 (ARM)                 | PEND               |
+------------------------------------+--------------------+
| Ubuntu 22.04 (ARM)                 | PEND               |
+------------------------------------+--------------------+
| Fedora 41 (ARM Clang)              | PEND               |
+------------------------------------+--------------------+
| Fedora 41 (ARM)                    | PEND               |
+------------------------------------+--------------------+
| Ubuntu 24.04 (ARM)                 | PEND               |
+------------------------------------+--------------------+
| CentOS Stream 9 (ARM)              | PEND               |
+------------------------------------+--------------------+
| CentOS Stream 10 (ARM)             | PEND               |
+------------------------------------+--------------------+
| Debian 12 (arm)                    | PEND               |
+------------------------------------+--------------------+


Ubuntu 20.04 ARM GCC Cross Compile
	Kernel: Depends on container host
	Compiler: aarch64-linux-gnu-gcc (Ubuntu 9.4.0-1ubuntu1~20.04.2) 9.4.0

RHEL9 (ARM)
	Kernel: Depends on container host
	Compiler: gcc 11.5.0 20240719 (Red Hat 11.5.0-2)

Ubuntu 20.04 ARM SVE
	Kernel: Depends on container host
	Compiler: gcc (Ubuntu 10.5.0-1ubuntu1~20.04) 10.5.0

Fedora 40 (ARM)
	Kernel: Depends on container host
	Compiler: gcc 14.2.1 20240912 (Red Hat 14.2.1-3)

Debian 12 with MUSDK
	Kernel: Depends on container host
	Compiler: gcc (Debian 12.2.0-14) 12.2.0

Fedora 40 (ARM Clang)
	Kernel: Depends on container host
	Compiler: clang 18.1.8 (Fedora 18.1.8-1.fc40)

Ubuntu 20.04 (ARM)
	Kernel: Depends on container host
	Compiler: gcc (Ubuntu 9.4.0-1ubuntu1~20.04.2) 9.4.0

Ubuntu 22.04 (ARM)
	Kernel: Depends on container host
	Compiler: gcc (Ubuntu 11.4.0-1ubuntu1~22.04) 11.4.0

Fedora 41 (ARM Clang)
	Kernel: Depends on container host
	Compiler: clang 19.1.5 (Fedora 19.1.5-1.fc41)

Fedora 41 (ARM)
	Kernel: Depends on container host
	Compiler: gcc 14.2.1 20240912 (Red Hat 14.2.1-3)

Ubuntu 24.04 (ARM)
	Kernel: Depends on container host
	Compiler: gcc (Ubuntu 13.3.0-6ubuntu2~24.04) 13.3.0

CentOS Stream 9 (ARM)
	Kernel: Depends on container host
	Compiler: gcc 11.5.0 20240719 (Red Hat 11.5.0-2)

CentOS Stream 10 (ARM)
	Kernel: Depends on container host
	Compiler: gcc 14.2.1 20241104 (Red Hat 14.2.1-6)

Debian 12 (arm)
	Kernel: Depends on container host
	Compiler: gcc (Debian 12.2.0-14) 12.2.0

To view detailed results, visit:
https://lab.dpdk.org/results/dashboard/tarballs/33403/

UNH-IOL DPDK Community Lab

To manage your email subscriptions, visit: 
https://lab.dpdk.org/results/dashboard/preferences/subscriptions/

^ permalink raw reply	[flat|nested] 7+ messages in thread

* |PENDING| [GIT MASTER] 83a7a648344674c0269fcaeb71d8d16468421a0e
@ 2025-05-01  5:59 dpdklab
  0 siblings, 0 replies; 7+ messages in thread
From: dpdklab @ 2025-05-01  5:59 UTC (permalink / raw)
  To: Test Report; +Cc: dpdk-test-reports

_Testing pending_

Branch: tags/v23.11

83a7a648344674c0269fcaeb71d8d16468421a0e --> testing pending

Upstream job id: Generic-VM-Unit-Test-DPDK#28267

Test environment and result as below:

+---------------------+----------------+
|     Environment     | dpdk_unit_test |
+=====================+================+
| CentOS Stream 10    | PEND           |
+---------------------+----------------+
| CentOS Stream 9     | PEND           |
+---------------------+----------------+
| Debian 12           | PEND           |
+---------------------+----------------+
| Fedora 40 (Clang)   | PEND           |
+---------------------+----------------+
| Fedora 41           | PEND           |
+---------------------+----------------+
| RHEL9               | PEND           |
+---------------------+----------------+
| RHEL8               | PEND           |
+---------------------+----------------+
| Fedora 40           | PEND           |
+---------------------+----------------+
| Ubuntu 22.04        | PEND           |
+---------------------+----------------+
| Fedora 41 (Clang)   | PEND           |
+---------------------+----------------+
| Ubuntu 20.04        | PEND           |
+---------------------+----------------+
| Ubuntu 24.04        | PEND           |
+---------------------+----------------+
| Windows Server 2022 | PASS           |
+---------------------+----------------+


CentOS Stream 10
	Kernel: Depends on container host
	Compiler: gcc 14.2.1 20241104 (Red Hat 14.2.1-6)

CentOS Stream 9
	Kernel: Depends on container host
	Compiler: gcc 11.5.0 20240719 (Red Hat 11.5.0-2)

Debian 12
	Kernel: Depends on container host
	Compiler: gcc (Debian 12.2.0-14) 12.2.0

Fedora 40 (Clang)
	Kernel: Depends on container host
	Compiler: clang 18.1.8 (Fedora 18.1.8-1.fc40)

Fedora 41
	Kernel: Depends on container host
	Compiler: gcc 14.2.1 20240912 (Red Hat 14.2.1-3)

RHEL9
	Kernel: Depends on container host
	Compiler: gcc 11.5.0 20240719 (Red Hat 11.5.0-2)

RHEL8
	Kernel: Depends on container host
	Compiler: gcc 8.5.0 20210514 (Red Hat 8.5.0-22)

Fedora 40
	Kernel: Depends on container host
	Compiler: gcc 14.2.1 20240912 (Red Hat 14.2.1-3)

Ubuntu 22.04
	Kernel: Depends on container host
	Compiler: gcc (Ubuntu 11.4.0-1ubuntu1~22.04) 11.4.0

Fedora 41 (Clang)
	Kernel: Depends on container host
	Compiler: clang 19.1.5 (Fedora 19.1.5-1.fc41)

Ubuntu 20.04
	Kernel: Depends on container host
	Compiler: gcc (Ubuntu 9.4.0-1ubuntu1~20.04.2) 9.4.0

Ubuntu 24.04
	Kernel: Depends on container host
	Compiler: gcc (Ubuntu 13.3.0-6ubuntu2~24.04) 13.3.0

Windows Server 2022
	Kernel: 10.0.20348.2031
	Compiler: clang 15.0.7, gcc 14.1.0 (MinGW), and MSVC VS 19.39.33521

To view detailed results, visit:
https://lab.dpdk.org/results/dashboard/tarballs/33403/

UNH-IOL DPDK Community Lab

To manage your email subscriptions, visit: 
https://lab.dpdk.org/results/dashboard/preferences/subscriptions/

^ permalink raw reply	[flat|nested] 7+ messages in thread

* |PENDING| [GIT MASTER] 83a7a648344674c0269fcaeb71d8d16468421a0e
@ 2025-05-01  4:48 dpdklab
  0 siblings, 0 replies; 7+ messages in thread
From: dpdklab @ 2025-05-01  4:48 UTC (permalink / raw)
  To: Test Report; +Cc: dpdk-test-reports

_Testing pending_

Branch: tags/v23.11

83a7a648344674c0269fcaeb71d8d16468421a0e --> testing pending

Upstream job id: Generic-DPDK-Compile-ABI#124922

Test environment and result as below:

+-------------------+----------+
|    Environment    | abi_test |
+===================+==========+
| CentOS Stream 10  | PEND     |
+-------------------+----------+
| Fedora 40         | PEND     |
+-------------------+----------+
| Debian 12         | PEND     |
+-------------------+----------+
| Fedora 40 (Clang) | PEND     |
+-------------------+----------+
| openSUSE Leap 15  | PEND     |
+-------------------+----------+
| Fedora 41 (Clang) | PASS     |
+-------------------+----------+
| RHEL9             | PEND     |
+-------------------+----------+
| Fedora 41         | PEND     |
+-------------------+----------+
| RHEL8             | PEND     |
+-------------------+----------+
| Ubuntu 22.04      | PEND     |
+-------------------+----------+
| Ubuntu 24.04      | PEND     |
+-------------------+----------+
| CentOS Stream 9   | PEND     |
+-------------------+----------+


CentOS Stream 10
	Kernel: Depends on container host
	Compiler: gcc 14.2.1 20241104 (Red Hat 14.2.1-6)

Fedora 40
	Kernel: Depends on container host
	Compiler: gcc 14.2.1 20240912 (Red Hat 14.2.1-3)

Debian 12
	Kernel: Depends on container host
	Compiler: gcc (Debian 12.2.0-14) 12.2.0

Fedora 40 (Clang)
	Kernel: Depends on container host
	Compiler: clang 18.1.8 (Fedora 18.1.8-1.fc40)

openSUSE Leap 15
	Kernel: Depends on container host
	Compiler: gcc (SUSE Linux) 7.5.0

Fedora 41 (Clang)
	Kernel: Depends on container host
	Compiler: clang 19.1.5 (Fedora 19.1.5-1.fc41)

RHEL9
	Kernel: Depends on container host
	Compiler: gcc 11.5.0 20240719 (Red Hat 11.5.0-2)

Fedora 41
	Kernel: Depends on container host
	Compiler: gcc 14.2.1 20240912 (Red Hat 14.2.1-3)

RHEL8
	Kernel: Depends on container host
	Compiler: gcc 8.5.0 20210514 (Red Hat 8.5.0-22)

Ubuntu 22.04
	Kernel: Depends on container host
	Compiler: gcc (Ubuntu 11.4.0-1ubuntu1~22.04) 11.4.0

Ubuntu 24.04
	Kernel: Depends on container host
	Compiler: gcc (Ubuntu 13.3.0-6ubuntu2~24.04) 13.3.0

CentOS Stream 9
	Kernel: Depends on container host
	Compiler: gcc 11.5.0 20240719 (Red Hat 11.5.0-2)

To view detailed results, visit:
https://lab.dpdk.org/results/dashboard/tarballs/33403/

UNH-IOL DPDK Community Lab

To manage your email subscriptions, visit: 
https://lab.dpdk.org/results/dashboard/preferences/subscriptions/

^ permalink raw reply	[flat|nested] 7+ messages in thread

* |PENDING| [GIT MASTER] 83a7a648344674c0269fcaeb71d8d16468421a0e
@ 2025-04-30  7:08 dpdklab
  0 siblings, 0 replies; 7+ messages in thread
From: dpdklab @ 2025-04-30  7:08 UTC (permalink / raw)
  To: Test Report; +Cc: dpdk-test-reports

_Testing pending_

Branch: tags/v23.11

83a7a648344674c0269fcaeb71d8d16468421a0e --> testing pending

Upstream job id: Generic-DPDK-Compile-Meson#383997

Test environment and result as below:

+------------------------------------+--------------------+
|            Environment             | dpdk_meson_compile |
+====================================+====================+
| Debian 12 with MUSDK               | PEND               |
+------------------------------------+--------------------+
| RHEL9 (ARM)                        | PASS               |
+------------------------------------+--------------------+
| CentOS Stream 10 (ARM)             | PEND               |
+------------------------------------+--------------------+
| Fedora 40 (ARM)                    | PEND               |
+------------------------------------+--------------------+
| Ubuntu 20.04 (ARM)                 | PEND               |
+------------------------------------+--------------------+
| Ubuntu 20.04 ARM GCC Cross Compile | PEND               |
+------------------------------------+--------------------+
| Fedora 41 (ARM)                    | PEND               |
+------------------------------------+--------------------+
| Fedora 40 (ARM Clang)              | PEND               |
+------------------------------------+--------------------+
| Fedora 41 (ARM Clang)              | PEND               |
+------------------------------------+--------------------+
| Ubuntu 20.04 ARM SVE               | PEND               |
+------------------------------------+--------------------+
| Ubuntu 22.04 (ARM)                 | PEND               |
+------------------------------------+--------------------+
| CentOS Stream 9 (ARM)              | PEND               |
+------------------------------------+--------------------+
| Ubuntu 24.04 (ARM)                 | PEND               |
+------------------------------------+--------------------+
| Debian 12 (arm)                    | PEND               |
+------------------------------------+--------------------+


Debian 12 with MUSDK
	Kernel: Depends on container host
	Compiler: gcc (Debian 12.2.0-14) 12.2.0

RHEL9 (ARM)
	Kernel: Depends on container host
	Compiler: gcc 11.5.0 20240719 (Red Hat 11.5.0-2)

CentOS Stream 10 (ARM)
	Kernel: Depends on container host
	Compiler: gcc 14.2.1 20241104 (Red Hat 14.2.1-6)

Fedora 40 (ARM)
	Kernel: Depends on container host
	Compiler: gcc 14.2.1 20240912 (Red Hat 14.2.1-3)

Ubuntu 20.04 (ARM)
	Kernel: Depends on container host
	Compiler: gcc (Ubuntu 9.4.0-1ubuntu1~20.04.2) 9.4.0

Ubuntu 20.04 ARM GCC Cross Compile
	Kernel: Depends on container host
	Compiler: aarch64-linux-gnu-gcc (Ubuntu 9.4.0-1ubuntu1~20.04.2) 9.4.0

Fedora 41 (ARM)
	Kernel: Depends on container host
	Compiler: gcc 14.2.1 20240912 (Red Hat 14.2.1-3)

Fedora 40 (ARM Clang)
	Kernel: Depends on container host
	Compiler: clang 18.1.8 (Fedora 18.1.8-1.fc40)

Fedora 41 (ARM Clang)
	Kernel: Depends on container host
	Compiler: clang 19.1.5 (Fedora 19.1.5-1.fc41)

Ubuntu 20.04 ARM SVE
	Kernel: Depends on container host
	Compiler: gcc (Ubuntu 10.5.0-1ubuntu1~20.04) 10.5.0

Ubuntu 22.04 (ARM)
	Kernel: Depends on container host
	Compiler: gcc (Ubuntu 11.4.0-1ubuntu1~22.04) 11.4.0

CentOS Stream 9 (ARM)
	Kernel: Depends on container host
	Compiler: gcc 11.5.0 20240719 (Red Hat 11.5.0-2)

Ubuntu 24.04 (ARM)
	Kernel: Depends on container host
	Compiler: gcc (Ubuntu 13.3.0-6ubuntu2~24.04) 13.3.0

Debian 12 (arm)
	Kernel: Depends on container host
	Compiler: gcc (Debian 12.2.0-14) 12.2.0

To view detailed results, visit:
https://lab.dpdk.org/results/dashboard/tarballs/33396/

UNH-IOL DPDK Community Lab

To manage your email subscriptions, visit: 
https://lab.dpdk.org/results/dashboard/preferences/subscriptions/

^ permalink raw reply	[flat|nested] 7+ messages in thread

* |PENDING| [GIT MASTER] 83a7a648344674c0269fcaeb71d8d16468421a0e
@ 2025-04-30  6:17 dpdklab
  0 siblings, 0 replies; 7+ messages in thread
From: dpdklab @ 2025-04-30  6:17 UTC (permalink / raw)
  To: Test Report; +Cc: dpdk-test-reports

_Testing pending_

Branch: tags/v23.11

83a7a648344674c0269fcaeb71d8d16468421a0e --> testing pending

Upstream job id: Generic-VM-Unit-Test-DPDK#28251

Test environment and result as below:

+---------------------+----------------+
|     Environment     | dpdk_unit_test |
+=====================+================+
| Fedora 40           | PEND           |
+---------------------+----------------+
| CentOS Stream 9     | PEND           |
+---------------------+----------------+
| CentOS Stream 10    | PEND           |
+---------------------+----------------+
| Debian 12           | PEND           |
+---------------------+----------------+
| RHEL9               | PEND           |
+---------------------+----------------+
| Fedora 40 (Clang)   | PEND           |
+---------------------+----------------+
| RHEL8               | PEND           |
+---------------------+----------------+
| Fedora 41           | PEND           |
+---------------------+----------------+
| Ubuntu 22.04        | PEND           |
+---------------------+----------------+
| Fedora 41 (Clang)   | PEND           |
+---------------------+----------------+
| Ubuntu 20.04        | PEND           |
+---------------------+----------------+
| Ubuntu 24.04        | PEND           |
+---------------------+----------------+
| Windows Server 2022 | PASS           |
+---------------------+----------------+


Fedora 40
	Kernel: Depends on container host
	Compiler: gcc 14.2.1 20240912 (Red Hat 14.2.1-3)

CentOS Stream 9
	Kernel: Depends on container host
	Compiler: gcc 11.5.0 20240719 (Red Hat 11.5.0-2)

CentOS Stream 10
	Kernel: Depends on container host
	Compiler: gcc 14.2.1 20241104 (Red Hat 14.2.1-6)

Debian 12
	Kernel: Depends on container host
	Compiler: gcc (Debian 12.2.0-14) 12.2.0

RHEL9
	Kernel: Depends on container host
	Compiler: gcc 11.5.0 20240719 (Red Hat 11.5.0-2)

Fedora 40 (Clang)
	Kernel: Depends on container host
	Compiler: clang 18.1.8 (Fedora 18.1.8-1.fc40)

RHEL8
	Kernel: Depends on container host
	Compiler: gcc 8.5.0 20210514 (Red Hat 8.5.0-22)

Fedora 41
	Kernel: Depends on container host
	Compiler: gcc 14.2.1 20240912 (Red Hat 14.2.1-3)

Ubuntu 22.04
	Kernel: Depends on container host
	Compiler: gcc (Ubuntu 11.4.0-1ubuntu1~22.04) 11.4.0

Fedora 41 (Clang)
	Kernel: Depends on container host
	Compiler: clang 19.1.5 (Fedora 19.1.5-1.fc41)

Ubuntu 20.04
	Kernel: Depends on container host
	Compiler: gcc (Ubuntu 9.4.0-1ubuntu1~20.04.2) 9.4.0

Ubuntu 24.04
	Kernel: Depends on container host
	Compiler: gcc (Ubuntu 13.3.0-6ubuntu2~24.04) 13.3.0

Windows Server 2022
	Kernel: 10.0.20348.2031
	Compiler: clang 15.0.7, gcc 14.1.0 (MinGW), and MSVC VS 19.39.33521

To view detailed results, visit:
https://lab.dpdk.org/results/dashboard/tarballs/33396/

UNH-IOL DPDK Community Lab

To manage your email subscriptions, visit: 
https://lab.dpdk.org/results/dashboard/preferences/subscriptions/

^ permalink raw reply	[flat|nested] 7+ messages in thread

* |PENDING| [GIT MASTER] 83a7a648344674c0269fcaeb71d8d16468421a0e
@ 2025-04-30  5:44 dpdklab
  0 siblings, 0 replies; 7+ messages in thread
From: dpdklab @ 2025-04-30  5:44 UTC (permalink / raw)
  To: Test Report; +Cc: dpdk-test-reports

_Testing pending_

Branch: tags/v23.11

83a7a648344674c0269fcaeb71d8d16468421a0e --> testing pending

Upstream job id: Generic-Unit-Test-DPDK#334423

Test environment and result as below:

+-----------------------------+----------------+---------------------------+--------------+------------------------------+
|         Environment         | dpdk_unit_test | cryptodev_sw_zuc_autotest | lpm_autotest | cryptodev_sw_snow3g_autotest |
+=============================+================+===========================+==============+==============================+
| Debian 12 (arm)             | PEND           | PEND                      | SKIPPED      | PEND                         |
+-----------------------------+----------------+---------------------------+--------------+------------------------------+
| CentOS Stream 9 (ARM)       | PASS           | SKIPPED                   | SKIPPED      | SKIPPED                      |
+-----------------------------+----------------+---------------------------+--------------+------------------------------+
| CentOS Stream 10 (ARM)      | PEND           | SKIPPED                   | SKIPPED      | SKIPPED                      |
+-----------------------------+----------------+---------------------------+--------------+------------------------------+
| Fedora 40 (ARM)             | PEND           | SKIPPED                   | SKIPPED      | SKIPPED                      |
+-----------------------------+----------------+---------------------------+--------------+------------------------------+
| Fedora 40 (ARM Clang)       | PEND           | SKIPPED                   | SKIPPED      | SKIPPED                      |
+-----------------------------+----------------+---------------------------+--------------+------------------------------+
| RHEL9 (ARM)                 | PEND           | SKIPPED                   | SKIPPED      | SKIPPED                      |
+-----------------------------+----------------+---------------------------+--------------+------------------------------+
| Ubuntu 20.04 (ARM)          | PEND           | SKIPPED                   | SKIPPED      | SKIPPED                      |
+-----------------------------+----------------+---------------------------+--------------+------------------------------+
| Fedora 41 (ARM Clang)       | PEND           | SKIPPED                   | SKIPPED      | SKIPPED                      |
+-----------------------------+----------------+---------------------------+--------------+------------------------------+
| Fedora 41 (ARM)             | PEND           | SKIPPED                   | SKIPPED      | SKIPPED                      |
+-----------------------------+----------------+---------------------------+--------------+------------------------------+
| Ubuntu 22.04 (ARM)          | PEND           | SKIPPED                   | SKIPPED      | SKIPPED                      |
+-----------------------------+----------------+---------------------------+--------------+------------------------------+
| Ubuntu 24.04 (ARM)          | PEND           | SKIPPED                   | SKIPPED      | SKIPPED                      |
+-----------------------------+----------------+---------------------------+--------------+------------------------------+
| 32-bit Ubuntu 22.04.4 (ARM) | PEND           | SKIPPED                   | SKIPPED      | SKIPPED                      |
+-----------------------------+----------------+---------------------------+--------------+------------------------------+
| Ubuntu 20.04 ARM SVE        | SKIPPED        | SKIPPED                   | PEND         | SKIPPED                      |
+-----------------------------+----------------+---------------------------+--------------+------------------------------+


Debian 12 (arm)
	Kernel: Depends on container host
	Compiler: gcc (Debian 12.2.0-14) 12.2.0

CentOS Stream 9 (ARM)
	Kernel: Depends on container host
	Compiler: gcc 11.5.0 20240719 (Red Hat 11.5.0-2)

CentOS Stream 10 (ARM)
	Kernel: Depends on container host
	Compiler: gcc 14.2.1 20241104 (Red Hat 14.2.1-6)

Fedora 40 (ARM)
	Kernel: Depends on container host
	Compiler: gcc 14.2.1 20240912 (Red Hat 14.2.1-3)

Fedora 40 (ARM Clang)
	Kernel: Depends on container host
	Compiler: clang 18.1.8 (Fedora 18.1.8-1.fc40)

RHEL9 (ARM)
	Kernel: Depends on container host
	Compiler: gcc 11.5.0 20240719 (Red Hat 11.5.0-2)

Ubuntu 20.04 (ARM)
	Kernel: Depends on container host
	Compiler: gcc (Ubuntu 9.4.0-1ubuntu1~20.04.2) 9.4.0

Fedora 41 (ARM Clang)
	Kernel: Depends on container host
	Compiler: clang 19.1.5 (Fedora 19.1.5-1.fc41)

Fedora 41 (ARM)
	Kernel: Depends on container host
	Compiler: gcc 14.2.1 20240912 (Red Hat 14.2.1-3)

Ubuntu 22.04 (ARM)
	Kernel: Depends on container host
	Compiler: gcc (Ubuntu 11.4.0-1ubuntu1~22.04) 11.4.0

Ubuntu 24.04 (ARM)
	Kernel: Depends on container host
	Compiler: gcc (Ubuntu 13.3.0-6ubuntu2~24.04) 13.3.0

32-bit Ubuntu 22.04.4 (ARM)
	Kernel: 5.15.83+ aarch64
	Compiler: gcc (Ubuntu 11.4.0-1ubuntu1~22.04) 11.4.0

Ubuntu 20.04 ARM SVE
	Kernel: Depends on container host
	Compiler: gcc (Ubuntu 10.5.0-1ubuntu1~20.04) 10.5.0

To view detailed results, visit:
https://lab.dpdk.org/results/dashboard/tarballs/33396/

UNH-IOL DPDK Community Lab

To manage your email subscriptions, visit: 
https://lab.dpdk.org/results/dashboard/preferences/subscriptions/

^ permalink raw reply	[flat|nested] 7+ messages in thread

end of thread, other threads:[~2025-05-01  6:34 UTC | newest]

Thread overview: 7+ messages (download: mbox.gz / follow: Atom feed)
-- links below jump to the message on this page --
2025-05-01  5:44 |PENDING| [GIT MASTER] 83a7a648344674c0269fcaeb71d8d16468421a0e dpdklab
  -- strict thread matches above, loose matches on Subject: below --
2025-05-01  6:34 dpdklab
2025-05-01  5:59 dpdklab
2025-05-01  4:48 dpdklab
2025-04-30  7:08 dpdklab
2025-04-30  6:17 dpdklab
2025-04-30  5:44 dpdklab

This is a public inbox, see mirroring instructions
for how to clone and mirror all data and code used for this inbox;
as well as URLs for NNTP newsgroup(s).