From mboxrd@z Thu Jan 1 00:00:00 1970 Return-Path: Received: from mails.dpdk.org (mails.dpdk.org [217.70.189.124]) by inbox.dpdk.org (Postfix) with ESMTP id A63EE46670 for ; Thu, 1 May 2025 07:57:00 +0200 (CEST) Received: from mails.dpdk.org (localhost [127.0.0.1]) by mails.dpdk.org (Postfix) with ESMTP id 805114028E; Thu, 1 May 2025 07:57:00 +0200 (CEST) Received: from mail-oa1-f99.google.com (mail-oa1-f99.google.com [209.85.160.99]) by mails.dpdk.org (Postfix) with ESMTP id 3367140279 for ; Thu, 1 May 2025 07:56:59 +0200 (CEST) Received: by mail-oa1-f99.google.com with SMTP id 586e51a60fabf-2c769da02b0so532132fac.3 for ; Wed, 30 Apr 2025 22:56:59 -0700 (PDT) DKIM-Signature: v=1; a=rsa-sha256; c=relaxed/relaxed; d=iol.unh.edu; s=unh-iol; t=1746079018; x=1746683818; darn=dpdk.org; h=cc:to:from:subject:message-id:date:from:to:cc:subject:date :message-id:reply-to; bh=g3X443g+1LMP+sVoXatNTpfVUeRHCk1EQfEOd8cLfls=; b=hsn071djW364FlUf5gxNsmeeEuZm3OgvIokBUG+191POwTv9lB1P18j7zE3JyshSUT AzHU3PywHw/PxV28Oy1V+DEp6XrsgqfAPXGnP6l31gqXh6NHY/klDs87eVX7HSuosi9R MLk/+QnEXvaCPtgoHhJ8st38yLxfmSqz2T9yI= X-Google-DKIM-Signature: v=1; a=rsa-sha256; c=relaxed/relaxed; d=1e100.net; s=20230601; t=1746079018; x=1746683818; h=cc:to:from:subject:message-id:date:x-gm-message-state:from:to:cc :subject:date:message-id:reply-to; bh=g3X443g+1LMP+sVoXatNTpfVUeRHCk1EQfEOd8cLfls=; b=AfrSsaeIN0kCwmASHfUizvO+/kuc/mVvk1q3jnCqACV/BrubjGim6mmOOtW5ugwaDs r8iQfN0ZqWaT1cqcsFdEyMpCiMx12oJQ/2ILka34jX0eDCq6QI2Rr7F7A/gXnnzl76Py AZrXAGEaNndfVCLIgzLsyZFPkBJHCiFNr7sRwt7XxEX7jjYVLa2aR/p4EyXB47/6Npas nIM4OV9rqN92L1Y/U4yfVC/gspeKQn9Dkvk8+VD//qScB203QxGSt9GLCAlEFwyxPJq/ YcKFlhlIyEhQBn+HI+Fm6l715VlJ/d+E9Fix4A1u6kZRVQgoulpgMeHvdQp5++gaeEXa n8Nw== X-Gm-Message-State: AOJu0Yw/G/erbSccK4eHFdym295NktjZzNubQar2H+D2KXoDXFuQxZU4 1Gn2Ci6ny/PNHnRd7dGzq02Ob0jsgznCjw2Eu/KxLA9Y32uP/7CobW466Knj1VZLWvdjKoYj0/U S7p939RV6e4BJdd4Mnw9pcTec1zHXWjgE X-Gm-Gg: ASbGncsVI387jh99ZhR0MJRWv2T6QZZkXSAKRfVNd34vK6yfE4HFahIvcXd1P5BA5/6 J5aYRuc2/78VRW4PhmMzY4S55LgoC/K58kyTUCP/HIoly5wrAiDubz++8qIvIq3jBtFUjgNCBI3 FCmXiIXAd/rM0Xo3ThmIJ2CX9W3KZmr9MxP4Fe7Cn0ecqsCMol6GvoEtV1zT4b1qutE4LpgQiTA pXaKjEB0bu5Py1Hz8TQ/FpiAC+A99s5To8qldPtMszWTb+Ed3SK6V1pHGKrhhso6FU2UmBBC122 gBtdJ52l2oe4dpaxCayKxQcQ1IbUeS90wvd8 X-Google-Smtp-Source: AGHT+IGQMnfFhBxtMsXzNQqEtc5KD53HeJvUc3vf+hS7tab/ThLWKac51GNan+Q4EdCjD9m+uoTogZjNXxnZ X-Received: by 2002:a05:6870:b004:b0:2c2:cd87:7521 with SMTP id 586e51a60fabf-2da931063d2mr738465fac.4.1746079018288; Wed, 30 Apr 2025 22:56:58 -0700 (PDT) Received: from postal.iol.unh.edu (postal.iol.unh.edu. [132.177.123.84]) by smtp-relay.gmail.com with ESMTPS id 586e51a60fabf-2da6e0f876fsm286444fac.13.2025.04.30.22.56.58 (version=TLS1_2 cipher=ECDHE-ECDSA-AES128-GCM-SHA256 bits=128/128); Wed, 30 Apr 2025 22:56:58 -0700 (PDT) X-Relaying-Domain: iol.unh.edu Date: Wed, 30 Apr 2025 22:56:58 -0700 (PDT) Message-ID: <68130d2a.050a0220.1ed44b.75f7SMTPIN_ADDED_MISSING@mx.google.com> Received: from [172.21.0.6] (unknown [172.18.0.240]) by postal.iol.unh.edu (Postfix) with ESMTP id A26826052471; Thu, 1 May 2025 01:56:57 -0400 (EDT) Subject: |SUCCESS| [GIT MASTER] 83a7a648344674c0269fcaeb71d8d16468421a0e From: dpdklab@iol.unh.edu To: Test Report Cc: dpdk-test-reports@iol.unh.edu, Xueming Li , Christian Ehrhardt , Kevin Traynor , Luca Boccassi Content-Type: text/plain X-BeenThere: test-report@dpdk.org X-Mailman-Version: 2.1.29 Precedence: list List-Id: automatic DPDK test reports List-Unsubscribe: , List-Archive: List-Post: List-Help: List-Subscribe: , Errors-To: test-report-bounces@dpdk.org _Testing PASS_ Branch: tags/v23.11 83a7a648344674c0269fcaeb71d8d16468421a0e --> testing pass Upstream job id: Generic-DPDK-Compile-ABI#124917 Test environment and result as below: +-------------------+----------+ | Environment | abi_test | +===================+==========+ | CentOS Stream 10 | PASS | +-------------------+----------+ | Fedora 40 | PASS | +-------------------+----------+ | Debian 12 | PASS | +-------------------+----------+ | Fedora 40 (Clang) | PASS | +-------------------+----------+ | openSUSE Leap 15 | PASS | +-------------------+----------+ | Fedora 41 (Clang) | PASS | +-------------------+----------+ | RHEL9 | PASS | +-------------------+----------+ | Fedora 41 | PASS | +-------------------+----------+ | RHEL8 | PASS | +-------------------+----------+ | Ubuntu 22.04 | PASS | +-------------------+----------+ | Ubuntu 24.04 | PASS | +-------------------+----------+ | CentOS Stream 9 | PASS | +-------------------+----------+ CentOS Stream 10 Kernel: Depends on container host Compiler: gcc 14.2.1 20241104 (Red Hat 14.2.1-6) Fedora 40 Kernel: Depends on container host Compiler: gcc 14.2.1 20240912 (Red Hat 14.2.1-3) Debian 12 Kernel: Depends on container host Compiler: gcc (Debian 12.2.0-14) 12.2.0 Fedora 40 (Clang) Kernel: Depends on container host Compiler: clang 18.1.8 (Fedora 18.1.8-1.fc40) openSUSE Leap 15 Kernel: Depends on container host Compiler: gcc (SUSE Linux) 7.5.0 Fedora 41 (Clang) Kernel: Depends on container host Compiler: clang 19.1.5 (Fedora 19.1.5-1.fc41) RHEL9 Kernel: Depends on container host Compiler: gcc 11.5.0 20240719 (Red Hat 11.5.0-2) Fedora 41 Kernel: Depends on container host Compiler: gcc 14.2.1 20240912 (Red Hat 14.2.1-3) RHEL8 Kernel: Depends on container host Compiler: gcc 8.5.0 20210514 (Red Hat 8.5.0-22) Ubuntu 22.04 Kernel: Depends on container host Compiler: gcc (Ubuntu 11.4.0-1ubuntu1~22.04) 11.4.0 Ubuntu 24.04 Kernel: Depends on container host Compiler: gcc (Ubuntu 13.3.0-6ubuntu2~24.04) 13.3.0 CentOS Stream 9 Kernel: Depends on container host Compiler: gcc 11.5.0 20240719 (Red Hat 11.5.0-2) To view detailed results, visit: https://lab.dpdk.org/results/dashboard/tarballs/33403/ UNH-IOL DPDK Community Lab To manage your email subscriptions, visit: https://lab.dpdk.org/results/dashboard/preferences/subscriptions/