From mboxrd@z Thu Jan 1 00:00:00 1970 Return-Path: Received: from mails.dpdk.org (mails.dpdk.org [217.70.189.124]) by inbox.dpdk.org (Postfix) with ESMTP id EB32846670 for ; Thu, 1 May 2025 07:59:01 +0200 (CEST) Received: from mails.dpdk.org (localhost [127.0.0.1]) by mails.dpdk.org (Postfix) with ESMTP id C9D5D4028E; Thu, 1 May 2025 07:59:01 +0200 (CEST) Received: from mail-qv1-f98.google.com (mail-qv1-f98.google.com [209.85.219.98]) by mails.dpdk.org (Postfix) with ESMTP id 5AEAC40279 for ; Thu, 1 May 2025 07:59:00 +0200 (CEST) Received: by mail-qv1-f98.google.com with SMTP id 6a1803df08f44-6f4cd4c07c3so5975756d6.2 for ; Wed, 30 Apr 2025 22:59:00 -0700 (PDT) DKIM-Signature: v=1; a=rsa-sha256; c=relaxed/relaxed; d=iol.unh.edu; s=unh-iol; t=1746079139; x=1746683939; darn=dpdk.org; h=cc:to:from:subject:message-id:date:from:to:cc:subject:date :message-id:reply-to; bh=v735qcZFyyCVsnFDXeewRaFy7dDuos4O6LPUHlgjzRg=; b=OJlS8KLm3Zwwu1+YB041aExSxdbKBlhj598316ck5MLV/1nfpIQ9lOXqJB16Esp7Q8 skAATeSuSYMt9WZTaheV5qVkn7hUf9m4GDMkcI1kmloaLAcFydDzwbdPdRpmhXtkTVHU Il6fbKVnxX3+dosnGli1o+4ahV45tC1IO9kf4= X-Google-DKIM-Signature: v=1; a=rsa-sha256; c=relaxed/relaxed; d=1e100.net; s=20230601; t=1746079139; x=1746683939; h=cc:to:from:subject:message-id:date:x-gm-message-state:from:to:cc :subject:date:message-id:reply-to; bh=v735qcZFyyCVsnFDXeewRaFy7dDuos4O6LPUHlgjzRg=; b=XT3igjgCnn9EpOmf4OYUcn5z/RDjJ3JzUquVaYDRrP6uLtwNNZlAUPhU/N+bDHRE/j 1ccqchBw4SRWYRNwFZCy3fZF25unbNbP0/4r2fJ/XTTN4G5iU0Omhsj1kW6CESF2kUV9 glXClSzxZlh/RtyJCQq1zPkYudX5jaTN1DIPF+ukWfcw09F2h3z76XnkOqJIm+4YXNAQ Tglafp/s3/ep79ko0T2H0P8+xNYfwHYTPJdJ3xbGCWPeaLoB5KkRuS05E8haXhQqQ+2P hDNwu5yViR3Osts+jDNSbcqj0+aAa70Ap3SIuuWcqEPXJBUf8UNcitJEQxQvNMw8GSHC Qqkw== X-Gm-Message-State: AOJu0YzRvNDFRHvqYltohPXhmSqO3gy20lRYJ/B1a2E79z+viXBsC1d0 +TQXZGE7tio+0hVaaFXgHAgkhk2Lz8Hp+NXbrmrPses8mC0raaYY6rqZOmBRm+288h4zk+2DDV/ MkWjtbCiESeD703LhFuyquniyUNFe8b3T X-Gm-Gg: ASbGncvw6YSotGO/jssu9qHABCNyrPWYrR0QS5f9P65kMln9GArkEWTRQTZSs/5FRkl pGJIfPY0d/Ttz0YB2UwQsuQLo+mXlVHNjtjNh6+24bjiSLpyA1GhZ5oH5rlsTgWyu4k5RkahiH2 tBbC4T1h3/ci37jTzZn8FUtgtZTUvGgEV2GtNhSNZ4Zya/NqLXrfbGrh+IajlDBHG5BSXqYX6RL lnVymi0DdKRq6yA1eQ2i/arFW4LO9XeG8MrdjaOLlofo4XrU0ghxl5yxPRQEiJNdyjJKUYVX2TT 1I2ytELdVKO2KsmXAhOLfuYdDwFViR4T0hdW X-Google-Smtp-Source: AGHT+IESTIVvRL0pn4hcOGNsNEpndwwr1KHBiL2JwYP9HwFwefTtg8jWYNdFXmg0YCHezEPJRVtEoYs7K0Ri X-Received: by 2002:a05:6214:27c9:b0:6eb:2fd4:30a7 with SMTP id 6a1803df08f44-6f4fcf94262mr98636016d6.33.1746079139713; Wed, 30 Apr 2025 22:58:59 -0700 (PDT) Received: from postal.iol.unh.edu (postal.iol.unh.edu. [132.177.123.84]) by smtp-relay.gmail.com with ESMTPS id 6a1803df08f44-6f50f48cff9sm202786d6.59.2025.04.30.22.58.59 (version=TLS1_2 cipher=ECDHE-ECDSA-AES128-GCM-SHA256 bits=128/128); Wed, 30 Apr 2025 22:58:59 -0700 (PDT) X-Relaying-Domain: iol.unh.edu Date: Wed, 30 Apr 2025 22:58:59 -0700 (PDT) Message-ID: <68130da3.d40a0220.dee83.0241SMTPIN_ADDED_MISSING@mx.google.com> Received: from [172.21.0.5] (unknown [172.18.0.240]) by postal.iol.unh.edu (Postfix) with ESMTP id 5DA406052471; Thu, 1 May 2025 01:58:59 -0400 (EDT) Subject: |SUCCESS| [GIT MASTER] 4c5634de9f933555bab9c64a533d3dca999071cd From: dpdklab@iol.unh.edu To: Test Report Cc: dpdk-test-reports@iol.unh.edu, Xueming Li , Christian Ehrhardt , Kevin Traynor , Luca Boccassi Content-Type: text/plain X-BeenThere: test-report@dpdk.org X-Mailman-Version: 2.1.29 Precedence: list List-Id: automatic DPDK test reports List-Unsubscribe: , List-Archive: List-Post: List-Help: List-Subscribe: , Errors-To: test-report-bounces@dpdk.org _Testing PASS_ Branch: tags/v24.11 4c5634de9f933555bab9c64a533d3dca999071cd --> testing pass Upstream job id: ACVP-FIPS-testing#9682 Test environment and result as below: +--------------------+----------------------+----------------------+ | Environment | compressdev_zlib_pmd | dpdk_fips_validation | +====================+======================+======================+ | Ubuntu 22.04 (ARM) | PASS | SKIPPED | +--------------------+----------------------+----------------------+ | Ubuntu 22.04 | PASS | SKIPPED | +--------------------+----------------------+----------------------+ | Ubuntu 20.04 | SKIPPED | PASS | +--------------------+----------------------+----------------------+ Ubuntu 22.04 (ARM) Kernel: 5.15.0-97-generic Compiler: gcc gcc (Ubuntu 11.4.0-1ubuntu1~22.04) 11.4.0 Ubuntu 22.04 Kernel: 5.15.0-100-generic Compiler: gcc gcc (Ubuntu 11.4.0-1ubuntu1~22.04) 11.4.0 Ubuntu 20.04 Kernel: Depends on container host Compiler: gcc (Ubuntu 9.4.0-1ubuntu1~20.04.2) 9.4.0 To view detailed results, visit: https://lab.dpdk.org/results/dashboard/tarballs/33402/ UNH-IOL DPDK Community Lab To manage your email subscriptions, visit: https://lab.dpdk.org/results/dashboard/preferences/subscriptions/