From mboxrd@z Thu Jan 1 00:00:00 1970 Return-Path: Received: from mails.dpdk.org (mails.dpdk.org [217.70.189.124]) by inbox.dpdk.org (Postfix) with ESMTP id 0432E46673 for ; Thu, 1 May 2025 08:20:13 +0200 (CEST) Received: from mails.dpdk.org (localhost [127.0.0.1]) by mails.dpdk.org (Postfix) with ESMTP id C7BA74028E; Thu, 1 May 2025 08:20:13 +0200 (CEST) Received: from mail-qt1-f225.google.com (mail-qt1-f225.google.com [209.85.160.225]) by mails.dpdk.org (Postfix) with ESMTP id 593DD40279 for ; Thu, 1 May 2025 08:20:12 +0200 (CEST) Received: by mail-qt1-f225.google.com with SMTP id d75a77b69052e-476a304a8edso8508041cf.3 for ; Wed, 30 Apr 2025 23:20:12 -0700 (PDT) DKIM-Signature: v=1; a=rsa-sha256; c=relaxed/relaxed; d=iol.unh.edu; s=unh-iol; t=1746080411; x=1746685211; darn=dpdk.org; h=cc:to:from:subject:message-id:date:from:to:cc:subject:date :message-id:reply-to; bh=04BsBIemHfdjIGntzJKp4Rmvo/yHOT5li1OEjN44W7M=; b=AyWKHy4HKaO4vgBgIEcS7Z6EodmTsn5hVoakBkxx7CYYXhfihnnOAg3I35Wmpsjo2+ NHC62/V7sA1V8qvBxhLixwQ/4pzUKLpZ2xYE4Bc5kc1RnOwWfno06Etse8YCNNu1lzIi 7NMQmcXTzIS83RjgMDrFvXJW9Yk+GYSibec0M= X-Google-DKIM-Signature: v=1; a=rsa-sha256; c=relaxed/relaxed; d=1e100.net; s=20230601; t=1746080411; x=1746685211; h=cc:to:from:subject:message-id:date:x-gm-message-state:from:to:cc :subject:date:message-id:reply-to; bh=04BsBIemHfdjIGntzJKp4Rmvo/yHOT5li1OEjN44W7M=; b=RF17J4OR/EzdjnvWD/DM+cYRzsmWteCRrLAtBIZWF23j2oCGGsEjxLJhb5FtUxcAGR jbJxFMcxKwXE3qj5atn0L3OrxgD/FF6t0h3nvyaJXgZ58XdHE0LZUbKjeZJmWRiSNRX/ hv9k8BD60GLRssAzASKRRbSb+McKOIcr6V4JEZu1c2XHwRSkUV+prWJ/osnkJilfZy9X 8pGD1idGgAvPNnVyRWbP1J0SrrIttyTvnHKw/cCfwqhHF2S7ij2VKjb/y3Kf9soG9lk+ qgmZRE3apUn0KwMYVMXrHnxUfG6O6bLBRvpMhRfaV6m4mTEGGId5M5kxGVvHlAawOFmZ lyYA== X-Gm-Message-State: AOJu0Yxg2xc8VJzTKRdOrfKWJcx+T8/F835Am6zS16j4+9NBl0xWjy6M oR/AFDjxLaUL1bEOtrdAJnQr8Q+jenbuR1N0JtHUaA3d7WUxsAMakHHnwwJIQLxJFvnBUUEpAzx PQP6eZfGojZyitMGJujs9Q7wDWNWD9Bx7 X-Gm-Gg: ASbGncuRgA9Ufl7Zzl2E1P2ylTR5y9e3AZdxd4fpzu8FWn0aq/6LHWrHpuPWHLRSszt TGy4s+BCCNy9hWyFJlxj4lHLC0VtXUVWZMWQIbzQK9pJni87NQ+ekxlU9arWuCvR4aa5MPADldw SWREnMMtRuFA1KiPnwrMKXPd8G6aLdkF+WKxVkmenKrKZllXqsQK3A1YDHXjF7f1At3ya9pFyCi gs9tUAzzoPhR2pWMFbqSycJnBmevXBs2cuyWt1JOWjCumdsKmSQs1nYsNjiP5QRsJCbP7L0xIEX ZIq4hSaRtegYw+Tnu+1/xK7sj4X/RTJtoRaZ X-Google-Smtp-Source: AGHT+IFeIwxZ8zo9DKAKpcSucjgOoH2L5jR56jIKpyhqVgjZOI77eOhQYTLkiRu6b9W2ov4yMT20sSMA5NWc X-Received: by 2002:a05:622a:1b04:b0:478:f6cf:cb68 with SMTP id d75a77b69052e-489c521dcd6mr86814921cf.43.1746080411741; Wed, 30 Apr 2025 23:20:11 -0700 (PDT) Received: from postal.iol.unh.edu (postal.iol.unh.edu. [132.177.123.84]) by smtp-relay.gmail.com with ESMTPS id d75a77b69052e-48b0399b417sm1500071cf.0.2025.04.30.23.20.11 (version=TLS1_2 cipher=ECDHE-ECDSA-AES128-GCM-SHA256 bits=128/128); Wed, 30 Apr 2025 23:20:11 -0700 (PDT) X-Relaying-Domain: iol.unh.edu Date: Wed, 30 Apr 2025 23:20:11 -0700 (PDT) Message-ID: <6813129b.050a0220.317a2.2059SMTPIN_ADDED_MISSING@mx.google.com> Received: from [172.21.0.5] (unknown [172.18.0.240]) by postal.iol.unh.edu (Postfix) with ESMTP id 5AA286052471; Thu, 1 May 2025 02:20:11 -0400 (EDT) Subject: |SUCCESS| [GIT MASTER] 4c5634de9f933555bab9c64a533d3dca999071cd From: dpdklab@iol.unh.edu To: Test Report Cc: dpdk-test-reports@iol.unh.edu, Xueming Li , Christian Ehrhardt , Kevin Traynor , Luca Boccassi Content-Type: text/plain X-BeenThere: test-report@dpdk.org X-Mailman-Version: 2.1.29 Precedence: list List-Id: automatic DPDK test reports List-Unsubscribe: , List-Archive: List-Post: List-Help: List-Subscribe: , Errors-To: test-report-bounces@dpdk.org _Testing PASS_ Branch: tags/v24.11 4c5634de9f933555bab9c64a533d3dca999071cd --> testing pass Upstream job id: Generic-Unit-Test-DPDK#334600 Test environment and result as below: +-----------------------------+----------------+------------------------------+--------------+---------------------------+ | Environment | dpdk_unit_test | cryptodev_sw_snow3g_autotest | lpm_autotest | cryptodev_sw_zuc_autotest | +=============================+================+==============================+==============+===========================+ | Debian 12 (arm) | PASS | PASS | SKIPPED | PASS | +-----------------------------+----------------+------------------------------+--------------+---------------------------+ | CentOS Stream 9 (ARM) | PASS | SKIPPED | SKIPPED | SKIPPED | +-----------------------------+----------------+------------------------------+--------------+---------------------------+ | CentOS Stream 10 (ARM) | PASS | SKIPPED | SKIPPED | SKIPPED | +-----------------------------+----------------+------------------------------+--------------+---------------------------+ | Fedora 41 (ARM) | PASS | SKIPPED | SKIPPED | SKIPPED | +-----------------------------+----------------+------------------------------+--------------+---------------------------+ | Fedora 40 (ARM Clang) | PASS | SKIPPED | SKIPPED | SKIPPED | +-----------------------------+----------------+------------------------------+--------------+---------------------------+ | RHEL9 (ARM) | PASS | SKIPPED | SKIPPED | SKIPPED | +-----------------------------+----------------+------------------------------+--------------+---------------------------+ | Fedora 40 (ARM) | PASS | SKIPPED | SKIPPED | SKIPPED | +-----------------------------+----------------+------------------------------+--------------+---------------------------+ | Fedora 41 (ARM Clang) | PASS | SKIPPED | SKIPPED | SKIPPED | +-----------------------------+----------------+------------------------------+--------------+---------------------------+ | Ubuntu 22.04 (ARM) | PASS | SKIPPED | SKIPPED | SKIPPED | +-----------------------------+----------------+------------------------------+--------------+---------------------------+ | Ubuntu 24.04 (ARM) | PASS | SKIPPED | SKIPPED | SKIPPED | +-----------------------------+----------------+------------------------------+--------------+---------------------------+ | Ubuntu 20.04 (ARM) | PASS | SKIPPED | SKIPPED | SKIPPED | +-----------------------------+----------------+------------------------------+--------------+---------------------------+ | 32-bit Ubuntu 22.04.4 (ARM) | PASS | SKIPPED | SKIPPED | SKIPPED | +-----------------------------+----------------+------------------------------+--------------+---------------------------+ | Ubuntu 20.04 ARM SVE | SKIPPED | SKIPPED | PASS | SKIPPED | +-----------------------------+----------------+------------------------------+--------------+---------------------------+ Debian 12 (arm) Kernel: Depends on container host Compiler: gcc (Debian 12.2.0-14) 12.2.0 CentOS Stream 9 (ARM) Kernel: Depends on container host Compiler: gcc 11.5.0 20240719 (Red Hat 11.5.0-2) CentOS Stream 10 (ARM) Kernel: Depends on container host Compiler: gcc 14.2.1 20241104 (Red Hat 14.2.1-6) Fedora 41 (ARM) Kernel: Depends on container host Compiler: gcc 14.2.1 20240912 (Red Hat 14.2.1-3) Fedora 40 (ARM Clang) Kernel: Depends on container host Compiler: clang 18.1.8 (Fedora 18.1.8-1.fc40) RHEL9 (ARM) Kernel: Depends on container host Compiler: gcc 11.5.0 20240719 (Red Hat 11.5.0-2) Fedora 40 (ARM) Kernel: Depends on container host Compiler: gcc 14.2.1 20240912 (Red Hat 14.2.1-3) Fedora 41 (ARM Clang) Kernel: Depends on container host Compiler: clang 19.1.5 (Fedora 19.1.5-1.fc41) Ubuntu 22.04 (ARM) Kernel: Depends on container host Compiler: gcc (Ubuntu 11.4.0-1ubuntu1~22.04) 11.4.0 Ubuntu 24.04 (ARM) Kernel: Depends on container host Compiler: gcc (Ubuntu 13.3.0-6ubuntu2~24.04) 13.3.0 Ubuntu 20.04 (ARM) Kernel: Depends on container host Compiler: gcc (Ubuntu 9.4.0-1ubuntu1~20.04.2) 9.4.0 32-bit Ubuntu 22.04.4 (ARM) Kernel: 5.15.83+ aarch64 Compiler: gcc (Ubuntu 11.4.0-1ubuntu1~22.04) 11.4.0 Ubuntu 20.04 ARM SVE Kernel: Depends on container host Compiler: gcc (Ubuntu 10.5.0-1ubuntu1~20.04) 10.5.0 To view detailed results, visit: https://lab.dpdk.org/results/dashboard/tarballs/33402/ UNH-IOL DPDK Community Lab To manage your email subscriptions, visit: https://lab.dpdk.org/results/dashboard/preferences/subscriptions/