From mboxrd@z Thu Jan 1 00:00:00 1970 Return-Path: Received: from mails.dpdk.org (mails.dpdk.org [217.70.189.124]) by inbox.dpdk.org (Postfix) with ESMTP id 2B4B846673 for ; Thu, 1 May 2025 08:22:29 +0200 (CEST) Received: from mails.dpdk.org (localhost [127.0.0.1]) by mails.dpdk.org (Postfix) with ESMTP id 0D03E4028E; Thu, 1 May 2025 08:22:29 +0200 (CEST) Received: from mail-il1-f225.google.com (mail-il1-f225.google.com [209.85.166.225]) by mails.dpdk.org (Postfix) with ESMTP id C377140279 for ; Thu, 1 May 2025 08:22:27 +0200 (CEST) Received: by mail-il1-f225.google.com with SMTP id e9e14a558f8ab-3d91db4f0c3so3276945ab.3 for ; Wed, 30 Apr 2025 23:22:27 -0700 (PDT) DKIM-Signature: v=1; a=rsa-sha256; c=relaxed/relaxed; d=iol.unh.edu; s=unh-iol; t=1746080547; x=1746685347; darn=dpdk.org; h=cc:to:from:subject:message-id:date:from:to:cc:subject:date :message-id:reply-to; bh=AGJaT5rcaNk1i2Hv3BMSP/THK7lY0PjeGbesihKUaeQ=; b=bIDKTSPpw3f5awZCnjR/1FDdzT0RtkQpBqRUqWTe9d7R233SMQ0eynX7ez1amGXlzO c4YXsh0zBcnp6QAnFdCrjPJQVBpGX3kKyz2MNENMtzqZY3YVr1y8Cnox7B9SBzjeizt5 EhCnMupRaPvtzxEVczfflBWwhv6aR0KpXT5iQ= X-Google-DKIM-Signature: v=1; a=rsa-sha256; c=relaxed/relaxed; d=1e100.net; s=20230601; t=1746080547; x=1746685347; h=cc:to:from:subject:message-id:date:x-gm-message-state:from:to:cc :subject:date:message-id:reply-to; bh=AGJaT5rcaNk1i2Hv3BMSP/THK7lY0PjeGbesihKUaeQ=; b=defCOek3D5N5j9YmucbszXk/SIJO+r5oa6vCPyrf0QRPa9Ks0gti7A48BgXUsulhnZ OJQ+g9YyBjtauuNOsvWTY5DiEr4WuS8civQsG9TZJbEA5VRm+xp3hsfccmeBNuDSfm7C Faq5WZPp1MxDMXMQ2benIhHECOf/B95FxrpR2wXoH7JBet+twjUKMfoOISPMyQd2FDXm TuAKkI+bQGlxwMu/T5JPqCtD21P7MDkTeq5BndjNOcdJSzsHJbm6MZLGjzE0cZ871zq3 MaVcoeLlD6pHW16Z/oMgNKg8KTOtU0OsniEVMkmnsVoMRV9ZO3m8AUvl4XeU69EMJTPL N6vg== X-Gm-Message-State: AOJu0YyBBYns2FhSfBmVqj/R8/CBM7qVUGUSJHiL5FZ8pkaSNS55J4xU ZbkwCvOrJ20Bwj7OTjbFqJ12MCAbXStsF7dmV3L18xMdtwwqom22rYSdCPutA/kObQgnzr16b9F PyIzdM9DZTYFvTPiQXPcpoAqXG9ddgHvG X-Gm-Gg: ASbGnct0BnnOYoYxS+OlNbr5mcG1hXOF7PIVXl1hajWpC6GLqQ65EyAZOoUfzvonQxv FtnlJl/OKGm2wVuws+s3YVUnEjkk2qsRMl48YYYQJnpG9rKwMLSDAxcpjDmVu7HkSJdUUYC1ah8 N2iaagwLE6rbDQUtDkLcSCOxT+fwdYn4hEdaaws9sWy5s3TE52XYs+FSQgwyjlSU/q4lvbhyH8W v7u1dvx2bPktdCbOejj8vfCMwtR02ZLBBdbfXoz79YOyMKpvcqDexdqjVdfqQeu56GIBGUr/8gM 7aAmlT2DhQTrmuXY0lcerT1Tgwo45hd0shLj X-Google-Smtp-Source: AGHT+IHjO55Ou5a2KR3T3j+duJ/OvBNSbAkN1lQNxSdVnm/nhupknXFT3wZkHSOmA2pjM8RGB02C2ifs6HzN X-Received: by 2002:a05:6602:6cc2:b0:861:c759:310a with SMTP id ca18e2360f4ac-86497e2376fmr720564039f.0.1746080546943; Wed, 30 Apr 2025 23:22:26 -0700 (PDT) Received: from postal.iol.unh.edu (postal.iol.unh.edu. [132.177.123.84]) by smtp-relay.gmail.com with ESMTPS id ca18e2360f4ac-8648bf48547sm43510339f.9.2025.04.30.23.22.26 (version=TLS1_2 cipher=ECDHE-ECDSA-AES128-GCM-SHA256 bits=128/128); Wed, 30 Apr 2025 23:22:26 -0700 (PDT) X-Relaying-Domain: iol.unh.edu Date: Wed, 30 Apr 2025 23:22:26 -0700 (PDT) Message-ID: <68131322.050a0220.19a736.bdaeSMTPIN_ADDED_MISSING@mx.google.com> Received: from [172.21.0.5] (unknown [172.18.0.240]) by postal.iol.unh.edu (Postfix) with ESMTP id 52EA86052471; Thu, 1 May 2025 02:22:26 -0400 (EDT) Subject: |SUCCESS| [GIT MASTER] 4c5634de9f933555bab9c64a533d3dca999071cd From: dpdklab@iol.unh.edu To: Test Report Cc: dpdk-test-reports@iol.unh.edu, Xueming Li , Christian Ehrhardt , Kevin Traynor , Luca Boccassi Content-Type: text/plain X-BeenThere: test-report@dpdk.org X-Mailman-Version: 2.1.29 Precedence: list List-Id: automatic DPDK test reports List-Unsubscribe: , List-Archive: List-Post: List-Help: List-Subscribe: , Errors-To: test-report-bounces@dpdk.org _Testing PASS_ Branch: tags/v24.11 4c5634de9f933555bab9c64a533d3dca999071cd --> testing pass Upstream job id: Generic-Unit-Test-DPDK#334599 Test environment and result as below: +---------------------+----------------+ | Environment | dpdk_unit_test | +=====================+================+ | CentOS Stream 9 | PASS | +---------------------+----------------+ | Fedora 40 | PASS | +---------------------+----------------+ | CentOS Stream 10 | PASS | +---------------------+----------------+ | Fedora 40 (Clang) | PASS | +---------------------+----------------+ | Fedora 41 (Clang) | PASS | +---------------------+----------------+ | RHEL9 | PASS | +---------------------+----------------+ | Ubuntu 22.04 | PASS | +---------------------+----------------+ | Fedora 41 | PASS | +---------------------+----------------+ | RHEL8 | PASS | +---------------------+----------------+ | Debian 12 | PASS | +---------------------+----------------+ | Ubuntu 20.04 | PASS | +---------------------+----------------+ | Ubuntu 24.04 | PASS | +---------------------+----------------+ | Windows Server 2022 | PASS | +---------------------+----------------+ CentOS Stream 9 Kernel: Depends on container host Compiler: gcc 11.5.0 20240719 (Red Hat 11.5.0-2) Fedora 40 Kernel: Depends on container host Compiler: gcc 14.2.1 20240912 (Red Hat 14.2.1-3) CentOS Stream 10 Kernel: Depends on container host Compiler: gcc 14.2.1 20241104 (Red Hat 14.2.1-6) Fedora 40 (Clang) Kernel: Depends on container host Compiler: clang 18.1.8 (Fedora 18.1.8-1.fc40) Fedora 41 (Clang) Kernel: Depends on container host Compiler: clang 19.1.5 (Fedora 19.1.5-1.fc41) RHEL9 Kernel: Depends on container host Compiler: gcc 11.5.0 20240719 (Red Hat 11.5.0-2) Ubuntu 22.04 Kernel: Depends on container host Compiler: gcc (Ubuntu 11.4.0-1ubuntu1~22.04) 11.4.0 Fedora 41 Kernel: Depends on container host Compiler: gcc 14.2.1 20240912 (Red Hat 14.2.1-3) RHEL8 Kernel: Depends on container host Compiler: gcc 8.5.0 20210514 (Red Hat 8.5.0-22) Debian 12 Kernel: Depends on container host Compiler: gcc (Debian 12.2.0-14) 12.2.0 Ubuntu 20.04 Kernel: Depends on container host Compiler: gcc (Ubuntu 9.4.0-1ubuntu1~20.04.2) 9.4.0 Ubuntu 24.04 Kernel: Depends on container host Compiler: gcc (Ubuntu 13.3.0-6ubuntu2~24.04) 13.3.0 Windows Server 2022 Kernel: 10.0.20348.2031 Compiler: clang 15.0.7, gcc 14.1.0 (MinGW), and MSVC VS 19.39.33521 To view detailed results, visit: https://lab.dpdk.org/results/dashboard/tarballs/33402/ UNH-IOL DPDK Community Lab To manage your email subscriptions, visit: https://lab.dpdk.org/results/dashboard/preferences/subscriptions/