From mboxrd@z Thu Jan 1 00:00:00 1970 Return-Path: Received: from mails.dpdk.org (mails.dpdk.org [217.70.189.124]) by inbox.dpdk.org (Postfix) with ESMTP id E7DFD46673 for ; Thu, 1 May 2025 09:41:40 +0200 (CEST) Received: from mails.dpdk.org (localhost [127.0.0.1]) by mails.dpdk.org (Postfix) with ESMTP id BEBDD4028E; Thu, 1 May 2025 09:41:40 +0200 (CEST) Received: from mail-ot1-f100.google.com (mail-ot1-f100.google.com [209.85.210.100]) by mails.dpdk.org (Postfix) with ESMTP id CD96B40279 for ; Thu, 1 May 2025 09:41:39 +0200 (CEST) Received: by mail-ot1-f100.google.com with SMTP id 46e09a7af769-72c14138668so156941a34.2 for ; Thu, 01 May 2025 00:41:39 -0700 (PDT) DKIM-Signature: v=1; a=rsa-sha256; c=relaxed/relaxed; d=iol.unh.edu; s=unh-iol; t=1746085299; x=1746690099; darn=dpdk.org; h=cc:to:from:subject:message-id:date:from:to:cc:subject:date :message-id:reply-to; bh=fcWM7qifCE1CnM6DN0MJ85EBT10s/3VQy47m6EXrb68=; b=CgDgrgvYACuNKc54DtoOnsRJZqbbGSG8pGroqg1xjt6AFJHxG0xVnTZPagq8URnUx/ Lb92rkCCS72q8jcak3ra2jv0R1CynTwhiaLPXO+lFPR57/do+PuTB/sVR05haCDnq/24 Ot4YmC9ss3AdoB2nGvlcF3D42Y6d9vYF4mdr8= X-Google-DKIM-Signature: v=1; a=rsa-sha256; c=relaxed/relaxed; d=1e100.net; s=20230601; t=1746085299; x=1746690099; h=cc:to:from:subject:message-id:date:x-gm-message-state:from:to:cc :subject:date:message-id:reply-to; bh=fcWM7qifCE1CnM6DN0MJ85EBT10s/3VQy47m6EXrb68=; b=NCQ+5kZfW/b6oKEs3Sif2UMjGiplPYHsvPEbSCRwp89YcYulp0QbXXuyFNHQ1NuSZM 9d2waUuB2dp0kNCoHSdb4odN/x7kxyLy9RJCactUieORmICYZfgkZJZY7HsTWbHh4/pF SU/Uk870arXfnHTmi/wVJFht4YapPnjoGQoigLF47vrJD6jXxpdBY1wyX9cVy19JY28i hL5kUXJWgMmv8WCsgXp6d5NCp9u2z3g455qjThGkvvH7gDWqSt+Ot/sopgOu58ZGwWQW bRNvnxOHw20m1yTcN2AXBI3wr7U+AQSjNPrFXF/U3NSlhyKfhrAFjS8mx/1wm3Qewixe LsVA== X-Gm-Message-State: AOJu0Yz6P1Us8tZvWIGwZ0NjoO9yX/78B6imbLKjukAqyX8b/b0iQlw3 GoWocQQAA5GsEhRChkixYGdL+FE0mSCXdV4wgKcX1DPkSuSU8bAh6sSAnaFH5561yJeJ0guKACm ySOB8zZtS/hcf7+kuN1U7N68LKfVun07h X-Gm-Gg: ASbGncswo+PI5dLKtfCD4I6YWTJ8JcV8C3zKpKXCP1tdeETXewvH/40gHNabch6+A++ qhlkz567oRzhTjwecyLGF/v9MhzSdr39gXKu+zyH/GcIbUqnONahBkePNK0LOAyXsWNKD7xoblp LhrMNXkiD51R5djq8zJ4f/KKVXzcZVZ6mw280xhkhcKcnzUxUsR6MCfxoqQ7S0fsoA8Z0JpntHc j9xwcOfuXCwrALBKVhQfI+ISF3EQiOEWA+mjXN30UJVFQW2V4W8EGO3tOJHfCYtrvQsglJMcbzx MDCS1pkub5q70h92fLRfHEsBsvkonWX2NKkP X-Google-Smtp-Source: AGHT+IE0wQqsLB0tmIS38YYXmyoCG+S4xTC/7nN+bcFhdVBfKGXnQBxLIrJ/eDZaO9yfZR4pw3DHdlxvB/gW X-Received: by 2002:a05:6870:a794:b0:297:2376:9b17 with SMTP id 586e51a60fabf-2da8c4990c5mr1209149fac.19.1746085298946; Thu, 01 May 2025 00:41:38 -0700 (PDT) Received: from postal.iol.unh.edu (postal.iol.unh.edu. [132.177.123.84]) by smtp-relay.gmail.com with ESMTPS id 586e51a60fabf-2daa121091bsm17548fac.40.2025.05.01.00.41.38 (version=TLS1_2 cipher=ECDHE-ECDSA-AES128-GCM-SHA256 bits=128/128); Thu, 01 May 2025 00:41:38 -0700 (PDT) X-Relaying-Domain: iol.unh.edu Date: Thu, 01 May 2025 00:41:38 -0700 (PDT) Message-ID: <681325b2.050a0220.29d5df.01d6SMTPIN_ADDED_MISSING@mx.google.com> Received: from [172.21.0.8] (unknown [172.18.0.240]) by postal.iol.unh.edu (Postfix) with ESMTP id 4F3D46052471; Thu, 1 May 2025 03:41:38 -0400 (EDT) Subject: |SUCCESS| [GIT MASTER] 4c5634de9f933555bab9c64a533d3dca999071cd From: dpdklab@iol.unh.edu To: Test Report Cc: dpdk-test-reports@iol.unh.edu, Xueming Li , Christian Ehrhardt , Kevin Traynor , Luca Boccassi Content-Type: text/plain X-BeenThere: test-report@dpdk.org X-Mailman-Version: 2.1.29 Precedence: list List-Id: automatic DPDK test reports List-Unsubscribe: , List-Archive: List-Post: List-Help: List-Subscribe: , Errors-To: test-report-bounces@dpdk.org _Testing PASS_ Branch: tags/v24.11 4c5634de9f933555bab9c64a533d3dca999071cd --> testing pass Upstream job id: Generic-DPDK-Compile-Meson#384207 Test environment and result as below: +------------------------------------+--------------------+ | Environment | dpdk_meson_compile | +====================================+====================+ | RHEL9 (ARM) | PASS | +------------------------------------+--------------------+ | Ubuntu 20.04 ARM GCC Cross Compile | PASS | +------------------------------------+--------------------+ | Ubuntu 20.04 ARM SVE | PASS | +------------------------------------+--------------------+ | Debian 12 with MUSDK | PASS | +------------------------------------+--------------------+ | Fedora 40 (ARM) | PASS | +------------------------------------+--------------------+ | Fedora 41 (ARM) | PASS | +------------------------------------+--------------------+ | Fedora 41 (ARM Clang) | PASS | +------------------------------------+--------------------+ | Fedora 40 (ARM Clang) | PASS | +------------------------------------+--------------------+ | Ubuntu 22.04 (ARM) | PASS | +------------------------------------+--------------------+ | CentOS Stream 9 (ARM) | PASS | +------------------------------------+--------------------+ | Ubuntu 24.04 (ARM) | PASS | +------------------------------------+--------------------+ | Debian 12 (arm) | PASS | +------------------------------------+--------------------+ | CentOS Stream 10 (ARM) | PASS | +------------------------------------+--------------------+ | Ubuntu 20.04 (ARM) | PASS | +------------------------------------+--------------------+ RHEL9 (ARM) Kernel: Depends on container host Compiler: gcc 11.5.0 20240719 (Red Hat 11.5.0-2) Ubuntu 20.04 ARM GCC Cross Compile Kernel: Depends on container host Compiler: aarch64-linux-gnu-gcc (Ubuntu 9.4.0-1ubuntu1~20.04.2) 9.4.0 Ubuntu 20.04 ARM SVE Kernel: Depends on container host Compiler: gcc (Ubuntu 10.5.0-1ubuntu1~20.04) 10.5.0 Debian 12 with MUSDK Kernel: Depends on container host Compiler: gcc (Debian 12.2.0-14) 12.2.0 Fedora 40 (ARM) Kernel: Depends on container host Compiler: gcc 14.2.1 20240912 (Red Hat 14.2.1-3) Fedora 41 (ARM) Kernel: Depends on container host Compiler: gcc 14.2.1 20240912 (Red Hat 14.2.1-3) Fedora 41 (ARM Clang) Kernel: Depends on container host Compiler: clang 19.1.5 (Fedora 19.1.5-1.fc41) Fedora 40 (ARM Clang) Kernel: Depends on container host Compiler: clang 18.1.8 (Fedora 18.1.8-1.fc40) Ubuntu 22.04 (ARM) Kernel: Depends on container host Compiler: gcc (Ubuntu 11.4.0-1ubuntu1~22.04) 11.4.0 CentOS Stream 9 (ARM) Kernel: Depends on container host Compiler: gcc 11.5.0 20240719 (Red Hat 11.5.0-2) Ubuntu 24.04 (ARM) Kernel: Depends on container host Compiler: gcc (Ubuntu 13.3.0-6ubuntu2~24.04) 13.3.0 Debian 12 (arm) Kernel: Depends on container host Compiler: gcc (Debian 12.2.0-14) 12.2.0 CentOS Stream 10 (ARM) Kernel: Depends on container host Compiler: gcc 14.2.1 20241104 (Red Hat 14.2.1-6) Ubuntu 20.04 (ARM) Kernel: Depends on container host Compiler: gcc (Ubuntu 9.4.0-1ubuntu1~20.04.2) 9.4.0 To view detailed results, visit: https://lab.dpdk.org/results/dashboard/tarballs/33402/ UNH-IOL DPDK Community Lab To manage your email subscriptions, visit: https://lab.dpdk.org/results/dashboard/preferences/subscriptions/