From mboxrd@z Thu Jan 1 00:00:00 1970 Return-Path: Received: from mails.dpdk.org (mails.dpdk.org [217.70.189.124]) by inbox.dpdk.org (Postfix) with ESMTP id E043646673 for ; Thu, 1 May 2025 09:42:16 +0200 (CEST) Received: from mails.dpdk.org (localhost [127.0.0.1]) by mails.dpdk.org (Postfix) with ESMTP id DB39B4028E; Thu, 1 May 2025 09:42:16 +0200 (CEST) Received: from mail-io1-f100.google.com (mail-io1-f100.google.com [209.85.166.100]) by mails.dpdk.org (Postfix) with ESMTP id A654A40279 for ; Thu, 1 May 2025 09:42:15 +0200 (CEST) Received: by mail-io1-f100.google.com with SMTP id ca18e2360f4ac-864a22fcdf2so16616539f.0 for ; Thu, 01 May 2025 00:42:15 -0700 (PDT) DKIM-Signature: v=1; a=rsa-sha256; c=relaxed/relaxed; d=iol.unh.edu; s=unh-iol; t=1746085335; x=1746690135; darn=dpdk.org; h=cc:to:from:subject:message-id:date:from:to:cc:subject:date :message-id:reply-to; bh=j321ZgtzWKrReCoBPJnhpe0TEsdNKVJ75yUjsWEJer8=; b=O/Yf0bLX5GooGnmz5+fsp8grGrQmkyYEwvjAdmAJqlGRKCdi6+5C7CW3VWmBKmzJC1 qFYAn8kAlvy4sWUMUpuz3hLyTPb3OAkziSwmok4YuqMhTZKOY71fw655mBzissSDJf5c K/eKkVE3gdkEHoX93CAbeqV352hVftAaJmtVs= X-Google-DKIM-Signature: v=1; a=rsa-sha256; c=relaxed/relaxed; d=1e100.net; s=20230601; t=1746085335; x=1746690135; h=cc:to:from:subject:message-id:date:x-gm-message-state:from:to:cc :subject:date:message-id:reply-to; bh=j321ZgtzWKrReCoBPJnhpe0TEsdNKVJ75yUjsWEJer8=; b=NlQUYTI7MG7gyAf2lOMIa5cSCibFfKU3VrK+XA+UXxGREHElVueAPgxGyYjwm3LP2e 4i97wGVx2L3Aguc55i0L4Z7fP28808jD3N3qBzzw71Y0y6fAyrnBXWoKAeRPVeU/D6qE RVVJ4MT2H44Xjt1rWyyI0QE3amtbjSwQ8AZfNgUmg170f23GSf4p0tVJvxIkrm6RHLPo r8pQjnmFSjbOz60duhZNicVYWp9435z6cjP3FtL/6x18VRfKTGiZPfSz3ANWYrJ2XYuq c3qL8eXIOBz9bgU4GqDz0v4ZQqonFAbhRE29Vc5XhBnsw3yP+MZfy2UUjpg/NOMsdYOl 5hUA== X-Gm-Message-State: AOJu0YydcuzFBLwJv11zW378VxscUBG12svQlmOWdVW1ZQFJeFhQRQGT aiaiv16vgP+Z4DZmyHErOG72RIvU2pQbyrxYgkvOracGb0ryC5w9gtVFve3ombxXNYm28+CKvIS htxOhDSR0MYCBXJzXA0AUOzM4EQBc2Qts X-Gm-Gg: ASbGnctl9BNOkRkoSIEcd4vyd7RE5X4y3KElW5jTtHlQf92b7VvNfvqTYr5dTXPRYxY tMJa8+kSqwVsFAPDNALvt/1e+0B/AiOSKQCteN2tHW3Y+UDmiW4fmi4F15MsSRjQgMpblPRIBvV aO+4e+iNE+Uux0EoKllxjV1KDxNqrGh9bha851/i4H21b5B/nBqAeXdn5gbuimhwkFM1pLfzVqt l168ETxr2qrf2vzl793gFAM/ylHky5ho0yKRim8HFzln2hoeUKA8DFOlHiONghTPMPyfYn3vTYh LAJQKX8Wzul06E6VIkP/g9m5CP+jggh1oHnN X-Google-Smtp-Source: AGHT+IFnyWLfsnr8Mv3rqNXBjA3Ly5Y8RYHoPZZcLz98Ak65BENXw6lqjXiq06sLruTGN+bgjguTCufIlHus X-Received: by 2002:a05:6602:2bf2:b0:85e:16e9:5e8d with SMTP id ca18e2360f4ac-864a3dde2fcmr143512839f.7.1746085334947; Thu, 01 May 2025 00:42:14 -0700 (PDT) Received: from postal.iol.unh.edu (postal.iol.unh.edu. [132.177.123.84]) by smtp-relay.gmail.com with ESMTPS id 8926c6da1cb9f-4f883015dcbsm79579173.63.2025.05.01.00.42.14 (version=TLS1_2 cipher=ECDHE-ECDSA-AES128-GCM-SHA256 bits=128/128); Thu, 01 May 2025 00:42:14 -0700 (PDT) X-Relaying-Domain: iol.unh.edu Date: Thu, 01 May 2025 00:42:14 -0700 (PDT) Message-ID: <681325d6.050a0220.32b733.081fSMTPIN_ADDED_MISSING@mx.google.com> Received: from [172.21.0.5] (unknown [172.18.0.240]) by postal.iol.unh.edu (Postfix) with ESMTP id 65F006052471; Thu, 1 May 2025 03:42:14 -0400 (EDT) Subject: |SUCCESS| [GIT MASTER] 4c5634de9f933555bab9c64a533d3dca999071cd From: dpdklab@iol.unh.edu To: Test Report Cc: dpdk-test-reports@iol.unh.edu, Xueming Li , Christian Ehrhardt , Kevin Traynor , Luca Boccassi Content-Type: text/plain X-BeenThere: test-report@dpdk.org X-Mailman-Version: 2.1.29 Precedence: list List-Id: automatic DPDK test reports List-Unsubscribe: , List-Archive: List-Post: List-Help: List-Subscribe: , Errors-To: test-report-bounces@dpdk.org _Testing PASS_ Branch: tags/v24.11 4c5634de9f933555bab9c64a533d3dca999071cd --> testing pass Upstream job id: Generic-DPDK-Compile-Meson#384203 Test environment and result as below: +------------------------------------+--------------------+ | Environment | dpdk_meson_compile | +====================================+====================+ | RHEL9 (ARM) | PASS | +------------------------------------+--------------------+ | Ubuntu 20.04 ARM GCC Cross Compile | PASS | +------------------------------------+--------------------+ | Ubuntu 20.04 ARM SVE | PASS | +------------------------------------+--------------------+ | Debian 12 with MUSDK | PASS | +------------------------------------+--------------------+ | Fedora 40 (ARM) | PASS | +------------------------------------+--------------------+ | Fedora 41 (ARM) | PASS | +------------------------------------+--------------------+ | Fedora 41 (ARM Clang) | PASS | +------------------------------------+--------------------+ | Fedora 40 (ARM Clang) | PASS | +------------------------------------+--------------------+ | Ubuntu 22.04 (ARM) | PASS | +------------------------------------+--------------------+ | CentOS Stream 9 (ARM) | PASS | +------------------------------------+--------------------+ | Ubuntu 24.04 (ARM) | PASS | +------------------------------------+--------------------+ | Debian 12 (arm) | PASS | +------------------------------------+--------------------+ | CentOS Stream 10 (ARM) | PASS | +------------------------------------+--------------------+ | Ubuntu 20.04 (ARM) | PASS | +------------------------------------+--------------------+ RHEL9 (ARM) Kernel: Depends on container host Compiler: gcc 11.5.0 20240719 (Red Hat 11.5.0-2) Ubuntu 20.04 ARM GCC Cross Compile Kernel: Depends on container host Compiler: aarch64-linux-gnu-gcc (Ubuntu 9.4.0-1ubuntu1~20.04.2) 9.4.0 Ubuntu 20.04 ARM SVE Kernel: Depends on container host Compiler: gcc (Ubuntu 10.5.0-1ubuntu1~20.04) 10.5.0 Debian 12 with MUSDK Kernel: Depends on container host Compiler: gcc (Debian 12.2.0-14) 12.2.0 Fedora 40 (ARM) Kernel: Depends on container host Compiler: gcc 14.2.1 20240912 (Red Hat 14.2.1-3) Fedora 41 (ARM) Kernel: Depends on container host Compiler: gcc 14.2.1 20240912 (Red Hat 14.2.1-3) Fedora 41 (ARM Clang) Kernel: Depends on container host Compiler: clang 19.1.5 (Fedora 19.1.5-1.fc41) Fedora 40 (ARM Clang) Kernel: Depends on container host Compiler: clang 18.1.8 (Fedora 18.1.8-1.fc40) Ubuntu 22.04 (ARM) Kernel: Depends on container host Compiler: gcc (Ubuntu 11.4.0-1ubuntu1~22.04) 11.4.0 CentOS Stream 9 (ARM) Kernel: Depends on container host Compiler: gcc 11.5.0 20240719 (Red Hat 11.5.0-2) Ubuntu 24.04 (ARM) Kernel: Depends on container host Compiler: gcc (Ubuntu 13.3.0-6ubuntu2~24.04) 13.3.0 Debian 12 (arm) Kernel: Depends on container host Compiler: gcc (Debian 12.2.0-14) 12.2.0 CentOS Stream 10 (ARM) Kernel: Depends on container host Compiler: gcc 14.2.1 20241104 (Red Hat 14.2.1-6) Ubuntu 20.04 (ARM) Kernel: Depends on container host Compiler: gcc (Ubuntu 9.4.0-1ubuntu1~20.04.2) 9.4.0 To view detailed results, visit: https://lab.dpdk.org/results/dashboard/tarballs/33402/ UNH-IOL DPDK Community Lab To manage your email subscriptions, visit: https://lab.dpdk.org/results/dashboard/preferences/subscriptions/