From mboxrd@z Thu Jan 1 00:00:00 1970 Return-Path: Received: from mails.dpdk.org (mails.dpdk.org [217.70.189.124]) by inbox.dpdk.org (Postfix) with ESMTP id 2B85A46673 for ; Thu, 1 May 2025 09:53:51 +0200 (CEST) Received: from mails.dpdk.org (localhost [127.0.0.1]) by mails.dpdk.org (Postfix) with ESMTP id EE7D94028E; Thu, 1 May 2025 09:53:50 +0200 (CEST) Received: from mail-pg1-f228.google.com (mail-pg1-f228.google.com [209.85.215.228]) by mails.dpdk.org (Postfix) with ESMTP id DFC5A40279 for ; Thu, 1 May 2025 09:53:49 +0200 (CEST) Received: by mail-pg1-f228.google.com with SMTP id 41be03b00d2f7-b0b2ce7cc81so631141a12.3 for ; Thu, 01 May 2025 00:53:49 -0700 (PDT) DKIM-Signature: v=1; a=rsa-sha256; c=relaxed/relaxed; d=iol.unh.edu; s=unh-iol; t=1746086029; x=1746690829; darn=dpdk.org; h=cc:to:from:subject:message-id:date:from:to:cc:subject:date :message-id:reply-to; bh=ToVXlqQfdHH/CMs9G+WvXMXVtNl2cnW0XDmYGInSUMI=; b=JSysEmJu4ugOhkbT9psBIE0+HdlVNz2WRiZ+Kp4LS6ctFH2qOknAzgKEX23bmTA1nY vrcK99CeIY5nv7fO+zlxJqZ/HzFhmbD7/B887n5/OasifgQQ20AQXO0jAbagYyhMRL4p fRkBVXP+8ScvKGvsHKuU5sUcVxJQajmKI7ePg= X-Google-DKIM-Signature: v=1; a=rsa-sha256; c=relaxed/relaxed; d=1e100.net; s=20230601; t=1746086029; x=1746690829; h=cc:to:from:subject:message-id:date:x-gm-message-state:from:to:cc :subject:date:message-id:reply-to; bh=ToVXlqQfdHH/CMs9G+WvXMXVtNl2cnW0XDmYGInSUMI=; b=jdZ/NhIM0bv1OUYBbcqDE/vpkCC4Inm80imYyfRnR9ttF8jqjJPeYh7Yftm6QEPIZB EG/urtyqvgLkxDtqiTPmw3I6LKPIUiwDHKvOgw5/1ySK3FkJ7eR6u76XVDg1XESjkJbs oAaNX9P0hUSqhfZqSnDdviktlMkiG9HMpt8m+DNgYdWVDNn0DMdq7nxiACODWDtb4rLo qhIdhS5BVtv3WDQgIqAQybksFNgdyQwVJgujVFdujxvs8W6KHEdxQjV33u6vMVqDuYhb uj9s5BI2VTu6HnAfpYuBm4CTtdNhFOb3VLm2210MhpaRrTzbaYQxl8DXtpMGq79Uus37 lc9Q== X-Gm-Message-State: AOJu0Yy9zjFtKcEcBf3AVEcsc6+4ks1tmQ4Tb69IfTsrI9SYOEsNhauo ZaFsISMzJtGkBxsi/mvY707+PFGX+f/GyMJhWG1Rkaabe2MdEtkXn2b71OWIwVq94h254yYnHrJ 19GLcjxj9FTrkRKTSMZ7xAtwdae9o8Y25 X-Gm-Gg: ASbGncsYTAv7xibmEqOpqUa4NneeQYXjwJcDupWG+DE1STq4+9O2GqNY9RnytoA3KGJ RkUNbtLqd91U/CbudqMOF+2bMAEQ7MfAFAx24kx5cH7i6AmFfujangUk/uzqU5qbQbt7lrJB62I GYcd5IAES09nQzHBCzUGHU7EBn2psv6q26EAfnvcPcw7I++uKyEag1Y5tFpYHmVDL0CoXiMCdb2 gv0ylRlRGezpPFiNEhXffx/1zQucZ9AxeqRqd2uBTxF+CFbzZjms/HB0ySrzsA7fuNm5CZz5g8B 62//3LiV7Lh2KpH5VH/lO9Vfs+SP+tF163xa X-Google-Smtp-Source: AGHT+IEmp3cjsu325lL+wPXbESYEMpCnr6qo/gQNvAHB6zPKrDBDSI4+0pOtoeEo9MuEFvtMDJLf8oJz+wkF X-Received: by 2002:a05:6a20:9f43:b0:1f5:8e54:9f07 with SMTP id adf61e73a8af0-20bd7045ff6mr2686322637.24.1746086028967; Thu, 01 May 2025 00:53:48 -0700 (PDT) Received: from postal.iol.unh.edu (postal.iol.unh.edu. [132.177.123.84]) by smtp-relay.gmail.com with ESMTPS id 41be03b00d2f7-b1f9d0e40f6sm38807a12.0.2025.05.01.00.53.48 (version=TLS1_2 cipher=ECDHE-ECDSA-AES128-GCM-SHA256 bits=128/128); Thu, 01 May 2025 00:53:48 -0700 (PDT) X-Relaying-Domain: iol.unh.edu Date: Thu, 01 May 2025 00:53:48 -0700 (PDT) Message-ID: <6813288c.050a0220.2db2f8.02a5SMTPIN_ADDED_MISSING@mx.google.com> Received: from [172.21.0.5] (unknown [172.18.0.240]) by postal.iol.unh.edu (Postfix) with ESMTP id 0BDED6052471; Thu, 1 May 2025 03:53:48 -0400 (EDT) Subject: |SUCCESS| [GIT MASTER] 83a7a648344674c0269fcaeb71d8d16468421a0e From: dpdklab@iol.unh.edu To: Test Report Cc: dpdk-test-reports@iol.unh.edu, Xueming Li , Christian Ehrhardt , Kevin Traynor , Luca Boccassi Content-Type: text/plain X-BeenThere: test-report@dpdk.org X-Mailman-Version: 2.1.29 Precedence: list List-Id: automatic DPDK test reports List-Unsubscribe: , List-Archive: List-Post: List-Help: List-Subscribe: , Errors-To: test-report-bounces@dpdk.org _Testing PASS_ Branch: tags/v23.11 83a7a648344674c0269fcaeb71d8d16468421a0e --> testing pass Upstream job id: Generic-Unit-Test-DPDK#334619 Test environment and result as below: +-----------------------------+------------------------------+--------------+---------------------------+----------------+ | Environment | cryptodev_sw_snow3g_autotest | lpm_autotest | cryptodev_sw_zuc_autotest | dpdk_unit_test | +=============================+==============================+==============+===========================+================+ | Debian 12 (arm) | PASS | SKIPPED | PASS | PASS | +-----------------------------+------------------------------+--------------+---------------------------+----------------+ | Ubuntu 20.04 ARM SVE | SKIPPED | PASS | SKIPPED | SKIPPED | +-----------------------------+------------------------------+--------------+---------------------------+----------------+ | CentOS Stream 9 (ARM) | SKIPPED | SKIPPED | SKIPPED | PASS | +-----------------------------+------------------------------+--------------+---------------------------+----------------+ | CentOS Stream 10 (ARM) | SKIPPED | SKIPPED | SKIPPED | PASS | +-----------------------------+------------------------------+--------------+---------------------------+----------------+ | Fedora 40 (ARM Clang) | SKIPPED | SKIPPED | SKIPPED | PASS | +-----------------------------+------------------------------+--------------+---------------------------+----------------+ | Fedora 40 (ARM) | SKIPPED | SKIPPED | SKIPPED | PASS | +-----------------------------+------------------------------+--------------+---------------------------+----------------+ | Fedora 41 (ARM) | SKIPPED | SKIPPED | SKIPPED | PASS | +-----------------------------+------------------------------+--------------+---------------------------+----------------+ | RHEL9 (ARM) | SKIPPED | SKIPPED | SKIPPED | PASS | +-----------------------------+------------------------------+--------------+---------------------------+----------------+ | Fedora 41 (ARM Clang) | SKIPPED | SKIPPED | SKIPPED | PASS | +-----------------------------+------------------------------+--------------+---------------------------+----------------+ | Ubuntu 24.04 (ARM) | SKIPPED | SKIPPED | SKIPPED | PASS | +-----------------------------+------------------------------+--------------+---------------------------+----------------+ | Ubuntu 20.04 (ARM) | SKIPPED | SKIPPED | SKIPPED | PASS | +-----------------------------+------------------------------+--------------+---------------------------+----------------+ | Ubuntu 22.04 (ARM) | SKIPPED | SKIPPED | SKIPPED | PASS | +-----------------------------+------------------------------+--------------+---------------------------+----------------+ | 32-bit Ubuntu 22.04.4 (ARM) | SKIPPED | SKIPPED | SKIPPED | PASS | +-----------------------------+------------------------------+--------------+---------------------------+----------------+ Debian 12 (arm) Kernel: Depends on container host Compiler: gcc (Debian 12.2.0-14) 12.2.0 Ubuntu 20.04 ARM SVE Kernel: Depends on container host Compiler: gcc (Ubuntu 10.5.0-1ubuntu1~20.04) 10.5.0 CentOS Stream 9 (ARM) Kernel: Depends on container host Compiler: gcc 11.5.0 20240719 (Red Hat 11.5.0-2) CentOS Stream 10 (ARM) Kernel: Depends on container host Compiler: gcc 14.2.1 20241104 (Red Hat 14.2.1-6) Fedora 40 (ARM Clang) Kernel: Depends on container host Compiler: clang 18.1.8 (Fedora 18.1.8-1.fc40) Fedora 40 (ARM) Kernel: Depends on container host Compiler: gcc 14.2.1 20240912 (Red Hat 14.2.1-3) Fedora 41 (ARM) Kernel: Depends on container host Compiler: gcc 14.2.1 20240912 (Red Hat 14.2.1-3) RHEL9 (ARM) Kernel: Depends on container host Compiler: gcc 11.5.0 20240719 (Red Hat 11.5.0-2) Fedora 41 (ARM Clang) Kernel: Depends on container host Compiler: clang 19.1.5 (Fedora 19.1.5-1.fc41) Ubuntu 24.04 (ARM) Kernel: Depends on container host Compiler: gcc (Ubuntu 13.3.0-6ubuntu2~24.04) 13.3.0 Ubuntu 20.04 (ARM) Kernel: Depends on container host Compiler: gcc (Ubuntu 9.4.0-1ubuntu1~20.04.2) 9.4.0 Ubuntu 22.04 (ARM) Kernel: Depends on container host Compiler: gcc (Ubuntu 11.4.0-1ubuntu1~22.04) 11.4.0 32-bit Ubuntu 22.04.4 (ARM) Kernel: 5.15.83+ aarch64 Compiler: gcc (Ubuntu 11.4.0-1ubuntu1~22.04) 11.4.0 To view detailed results, visit: https://lab.dpdk.org/results/dashboard/tarballs/33403/ UNH-IOL DPDK Community Lab To manage your email subscriptions, visit: https://lab.dpdk.org/results/dashboard/preferences/subscriptions/