From mboxrd@z Thu Jan 1 00:00:00 1970 Return-Path: Received: from mails.dpdk.org (mails.dpdk.org [217.70.189.124]) by inbox.dpdk.org (Postfix) with ESMTP id 7B5CD46690 for ; Thu, 1 May 2025 10:33:52 +0200 (CEST) Received: from mails.dpdk.org (localhost [127.0.0.1]) by mails.dpdk.org (Postfix) with ESMTP id 4A91E402C5; Thu, 1 May 2025 10:33:52 +0200 (CEST) Received: from mail-io1-f97.google.com (mail-io1-f97.google.com [209.85.166.97]) by mails.dpdk.org (Postfix) with ESMTP id B579D4028E for ; Thu, 1 May 2025 10:33:51 +0200 (CEST) Received: by mail-io1-f97.google.com with SMTP id ca18e2360f4ac-86135ac9542so26976039f.1 for ; Thu, 01 May 2025 01:33:51 -0700 (PDT) DKIM-Signature: v=1; a=rsa-sha256; c=relaxed/relaxed; d=iol.unh.edu; s=unh-iol; t=1746088431; x=1746693231; darn=dpdk.org; h=cc:to:from:subject:message-id:date:from:to:cc:subject:date :message-id:reply-to; bh=N8UNA+GMsH0Eg1yplDOShPoPyJJwv9JsPJk7AWGEy84=; b=H23vXrwVw6KZcp93g/RScqmcFSKQO+3865e1T7NqOkDCp/C1+2OYDYelp9scFwl6t7 ah+JQwC0R+2gZ/O8GXMT3/FgiwzgosdyvHtbtXIWy5shhxSY2w3JkZJA2RWTr15iexdq ZBfDEHWy/unXF6liJkjWKjegs47HlxEXWDhzA= X-Google-DKIM-Signature: v=1; a=rsa-sha256; c=relaxed/relaxed; d=1e100.net; s=20230601; t=1746088431; x=1746693231; h=cc:to:from:subject:message-id:date:x-gm-message-state:from:to:cc :subject:date:message-id:reply-to; bh=N8UNA+GMsH0Eg1yplDOShPoPyJJwv9JsPJk7AWGEy84=; b=SRhfqbZDFntSQ+gWirR64RgaDKq5p8wNwTIsxbHSas9WwnEZu2qHryZ1tdsL1ozEf8 gF2Xc033xLwPngYW0gLRfyZg12T2CQHhxvqPM+QhlFU8JBX5hmhw88TZkKAZKHIFf4zI ViodBE6StB7LOYw4PLRZ43byxzxGq12L5V3n3p1xlVvfUxhUcucfrm8f55cJsc7byeuU yzNax6pHLp5ap+nMW6bZsMLXO9HNuIYJUgmfy1lYvez4mhDlCFEXcD+54OzOpBbFLGM4 yHsMcC25UtTlDzQIG0TMnlp7qfZZhrBPCAb4+z4fhvtVQ0dSvahSOamT6Idsj+EK/vQA onlg== X-Gm-Message-State: AOJu0YwZgqKZoifKCpJx+75ToQrap0nn0IEFq7YRDAZsnB9LmcDAY5Sh F48RWDTwbop8dPIp9EhiJiSgeNzTW6aPjnXI8w3VfPvyw4Fh4WxZDiKfHWmZdKj9IdEe3CA10TT 7IGey1OzHuZNhY4b5pWw15jRd3iy+VaLmvqTrAKD+w3A21qkc X-Gm-Gg: ASbGncupKOetq7AQ+PL+PpywdGbDcMGxhvUPeee5pv/mj5T7Y/ElUGxePKOazbQDsgV 9yPkmKP1U38RLG7MLfn93+4ZLowb7tQ2jIP2QC73ZArZL0vJXHXjG+v43Pojgb2pNYvjnFkaTUl FdWoUD5CeMzJ9GZFi0jWy5REgdfFQetLW5NPiIMXHzKdVZr2s6miULmQbGQd7LFHmnvh5YdkFyf BosABb3UOpxoHjKNW4D/dMveFJzGfXsXv9JVyxDky8ONn50jkyCW8D8F/asKYAY9Cq8kHS8ehj2 L8YSRx50qqB4jwcmgELgpK1M0f+yM5pWGJLttW4oDSNsab1F X-Google-Smtp-Source: AGHT+IFioel5bqwDwiO7uI0N5psCygQ6E4U5nj0KUL9yH17cIE8qsRbRWD6MATsorGmKx6cKdhzLnjfN59Bl X-Received: by 2002:a05:6602:380b:b0:864:8935:497d with SMTP id ca18e2360f4ac-864a426e35bmr160852239f.8.1746088430883; Thu, 01 May 2025 01:33:50 -0700 (PDT) Received: from postal.iol.unh.edu (postal.iol.unh.edu. [2606:4100:3880:1234::84]) by smtp-relay.gmail.com with ESMTPS id ca18e2360f4ac-864aa3413f1sm3189139f.17.2025.05.01.01.33.50 (version=TLS1_2 cipher=ECDHE-ECDSA-AES128-GCM-SHA256 bits=128/128); Thu, 01 May 2025 01:33:50 -0700 (PDT) X-Relaying-Domain: iol.unh.edu Date: Thu, 01 May 2025 01:33:50 -0700 (PDT) Message-ID: <681331ee.050a0220.3ba899.037aSMTPIN_ADDED_MISSING@mx.google.com> Received: from [172.17.0.2] (unknown [172.18.0.76]) by postal.iol.unh.edu (Postfix) with ESMTP id 41CE06052471; Thu, 1 May 2025 04:33:50 -0400 (EDT) Subject: |SUCCESS| [GIT MASTER] 83a7a648344674c0269fcaeb71d8d16468421a0e From: dpdklab@iol.unh.edu To: Test Report Cc: dpdk-test-reports@iol.unh.edu, Xueming Li , Christian Ehrhardt , Kevin Traynor , Luca Boccassi Content-Type: text/plain X-BeenThere: test-report@dpdk.org X-Mailman-Version: 2.1.29 Precedence: list List-Id: automatic DPDK test reports List-Unsubscribe: , List-Archive: List-Post: List-Help: List-Subscribe: , Errors-To: test-report-bounces@dpdk.org _Testing PASS_ Branch: tags/v23.11 83a7a648344674c0269fcaeb71d8d16468421a0e --> testing pass Upstream job id: Generic-Unit-Test-DPDK#334641 Test environment and result as below: +---------------------+----------------+ | Environment | dpdk_unit_test | +=====================+================+ | CentOS Stream 10 | PASS | +---------------------+----------------+ | CentOS Stream 9 | PASS | +---------------------+----------------+ | Debian 12 | PASS | +---------------------+----------------+ | Fedora 40 (Clang) | PASS | +---------------------+----------------+ | Fedora 41 | PASS | +---------------------+----------------+ | RHEL9 | PASS | +---------------------+----------------+ | RHEL8 | PASS | +---------------------+----------------+ | Fedora 40 | PASS | +---------------------+----------------+ | Ubuntu 22.04 | PASS | +---------------------+----------------+ | Fedora 41 (Clang) | PASS | +---------------------+----------------+ | Ubuntu 20.04 | PASS | +---------------------+----------------+ | Ubuntu 24.04 | PASS | +---------------------+----------------+ | Windows Server 2022 | PASS | +---------------------+----------------+ CentOS Stream 10 Kernel: Depends on container host Compiler: gcc 14.2.1 20241104 (Red Hat 14.2.1-6) CentOS Stream 9 Kernel: Depends on container host Compiler: gcc 11.5.0 20240719 (Red Hat 11.5.0-2) Debian 12 Kernel: Depends on container host Compiler: gcc (Debian 12.2.0-14) 12.2.0 Fedora 40 (Clang) Kernel: Depends on container host Compiler: clang 18.1.8 (Fedora 18.1.8-1.fc40) Fedora 41 Kernel: Depends on container host Compiler: gcc 14.2.1 20240912 (Red Hat 14.2.1-3) RHEL9 Kernel: Depends on container host Compiler: gcc 11.5.0 20240719 (Red Hat 11.5.0-2) RHEL8 Kernel: Depends on container host Compiler: gcc 8.5.0 20210514 (Red Hat 8.5.0-22) Fedora 40 Kernel: Depends on container host Compiler: gcc 14.2.1 20240912 (Red Hat 14.2.1-3) Ubuntu 22.04 Kernel: Depends on container host Compiler: gcc (Ubuntu 11.4.0-1ubuntu1~22.04) 11.4.0 Fedora 41 (Clang) Kernel: Depends on container host Compiler: clang 19.1.5 (Fedora 19.1.5-1.fc41) Ubuntu 20.04 Kernel: Depends on container host Compiler: gcc (Ubuntu 9.4.0-1ubuntu1~20.04.2) 9.4.0 Ubuntu 24.04 Kernel: Depends on container host Compiler: gcc (Ubuntu 13.3.0-6ubuntu2~24.04) 13.3.0 Windows Server 2022 Kernel: 10.0.20348.2031 Compiler: clang 15.0.7, gcc 14.1.0 (MinGW), and MSVC VS 19.39.33521 To view detailed results, visit: https://lab.dpdk.org/results/dashboard/tarballs/33403/ UNH-IOL DPDK Community Lab To manage your email subscriptions, visit: https://lab.dpdk.org/results/dashboard/preferences/subscriptions/