From mboxrd@z Thu Jan 1 00:00:00 1970 Return-Path: Received: from mails.dpdk.org (mails.dpdk.org [217.70.189.124]) by inbox.dpdk.org (Postfix) with ESMTP id 29AD746690 for ; Thu, 1 May 2025 10:37:32 +0200 (CEST) Received: from mails.dpdk.org (localhost [127.0.0.1]) by mails.dpdk.org (Postfix) with ESMTP id 23A9C402C5; Thu, 1 May 2025 10:37:32 +0200 (CEST) Received: from mail-io1-f97.google.com (mail-io1-f97.google.com [209.85.166.97]) by mails.dpdk.org (Postfix) with ESMTP id AABD74028E for ; Thu, 1 May 2025 10:37:30 +0200 (CEST) Received: by mail-io1-f97.google.com with SMTP id ca18e2360f4ac-85e73562577so82876139f.0 for ; Thu, 01 May 2025 01:37:30 -0700 (PDT) DKIM-Signature: v=1; a=rsa-sha256; c=relaxed/relaxed; d=iol.unh.edu; s=unh-iol; t=1746088650; x=1746693450; darn=dpdk.org; h=cc:to:from:subject:message-id:date:from:to:cc:subject:date :message-id:reply-to; bh=7+JoUgz/ISNih8/VUe9wxewkur6wGuI3D33aLKvcdC4=; b=jep4+cNGTjMntXLHpW9NIceUJx5zAH3isUQbMZtISCepD9r31LTRKRYSLf31DztVXu LG66gqibdZML9TDYCQrAyS3Lv1ziQ/o5oh5Y/yqzdB6w6kMghS1OTM5x+/f9lrk/007S dWdJMLfSpdg2IPnlHv3YDG+4yJR2zdtnkvZ/o= X-Google-DKIM-Signature: v=1; a=rsa-sha256; c=relaxed/relaxed; d=1e100.net; s=20230601; t=1746088650; x=1746693450; h=cc:to:from:subject:message-id:date:x-gm-message-state:from:to:cc :subject:date:message-id:reply-to; bh=7+JoUgz/ISNih8/VUe9wxewkur6wGuI3D33aLKvcdC4=; b=oaSkFMK4/t494fuJf2t9CttGWKUOvXuYDRCjouF5ebfOvoakpqFgDHWiEbXnlrw5vy 3t6V4pkh6rMqMH25MQ60QIKPPc2oMZSNBPefLaej/EDeofIAEzwnCA/TVOR/Rh3Ko0Mt vif+Zy6NEjr+osmTYQtZswG9sgkEWniQa7w9OyLMPl+T9AMcpSIC+Kq8DOZobveWexF1 a1pMBBSx4qMlMTt4aHTYg43CzmfSzMUEIFagUdxdo1aG3hM7MZZcVWAuRdWzk+baKUIP Mm9JQiusSYxKL9ue5iALS40oW8LqqI9/PeLxesLYW9SLyfDAUsAaMimMgKW3pEy7hg6L YpGQ== X-Gm-Message-State: AOJu0YxFQZjUQXn6rml0odIuRw5ypF3yoyARUb+syYCO1No53hdbs06n rJLr4wdTQKO+LVn+EYFSFnvwdh11fGSqWq2rBJ1heq0S7AE5lnuASM+fODS7OEJsjNd109zFgmc PrKLmzOAFPh5E5gRCn2o3zHFg97Iyi7iN X-Gm-Gg: ASbGnctxNJKKxzG6k682CiLyZx0IEyaJnY5sSw2/CWd28L6ol8j7iSa8f0Ywfz7SLp5 gwGlpek+6FQ+lrKMD13NbmGXY9I5FN8IooiT5K+Oh4xobFctOuiO5gNL9T4uQDLD+Jq+2pcPEZv hqPKBZyqZBA0SVNBO6f3eM8lfr4Vrzv4gnfRVpxySE4STutsVnPsslaFGRwB2UffAKU3f+rh6bR NgxY2cvXhjZOGVt8H/ltk3Pwt1MqjRl4ODejvBXgeFwhWE1p37oX7X35GPytvRPhVVNZaBaecEc uDb1EA+Jkpjh6gLhP+B2XbjTUmzJEjebnWAa X-Google-Smtp-Source: AGHT+IFPesmjILcoiH9eb7zxYKjW/Q7SY+aJywIeYKXiL55nNMb2KTdk04yZvPeMYAWscsJ96gCvEEzlSwYT X-Received: by 2002:a05:6602:480c:b0:864:4862:91a2 with SMTP id ca18e2360f4ac-864a3622323mr197487839f.10.1746088650045; Thu, 01 May 2025 01:37:30 -0700 (PDT) Received: from postal.iol.unh.edu (postal.iol.unh.edu. [132.177.123.84]) by smtp-relay.gmail.com with ESMTPS id ca18e2360f4ac-864aa2c7fb8sm3455039f.2.2025.05.01.01.37.29 (version=TLS1_2 cipher=ECDHE-ECDSA-AES128-GCM-SHA256 bits=128/128); Thu, 01 May 2025 01:37:30 -0700 (PDT) X-Relaying-Domain: iol.unh.edu Date: Thu, 01 May 2025 01:37:30 -0700 (PDT) Message-ID: <681332ca.050a0220.34a8ca.0346SMTPIN_ADDED_MISSING@mx.google.com> Received: from [172.17.0.2] (unknown [172.18.0.74]) by postal.iol.unh.edu (Postfix) with ESMTP id 78A726052471; Thu, 1 May 2025 04:37:29 -0400 (EDT) Subject: |SUCCESS| [GIT MASTER] 83a7a648344674c0269fcaeb71d8d16468421a0e From: dpdklab@iol.unh.edu To: Test Report Cc: dpdk-test-reports@iol.unh.edu, Xueming Li , Christian Ehrhardt , Kevin Traynor , Luca Boccassi Content-Type: text/plain X-BeenThere: test-report@dpdk.org X-Mailman-Version: 2.1.29 Precedence: list List-Id: automatic DPDK test reports List-Unsubscribe: , List-Archive: List-Post: List-Help: List-Subscribe: , Errors-To: test-report-bounces@dpdk.org _Testing PASS_ Branch: tags/v23.11 83a7a648344674c0269fcaeb71d8d16468421a0e --> testing pass Upstream job id: Generic-DPDK-Compile-Meson#384256 Test environment and result as below: +---------------------+--------------------+-------------------+------------------+-------------------+-------------------------+----------------------+ | Environment | dpdk_meson_compile | dpdk_compile_spdk | dpdk_compile_ovs | dpdk_msvc_compile | dpdk_llvm_clang_compile | dpdk_mingw64_compile | +=====================+====================+===================+==================+===================+=========================+======================+ | CentOS Stream 9 | PASS | PASS | SKIPPED | SKIPPED | SKIPPED | SKIPPED | +---------------------+--------------------+-------------------+------------------+-------------------+-------------------------+----------------------+ | CentOS Stream 10 | PASS | SKIPPED | SKIPPED | SKIPPED | SKIPPED | SKIPPED | +---------------------+--------------------+-------------------+------------------+-------------------+-------------------------+----------------------+ | Fedora 40 | PASS | PASS | SKIPPED | SKIPPED | SKIPPED | SKIPPED | +---------------------+--------------------+-------------------+------------------+-------------------+-------------------------+----------------------+ | Debian 12 | PASS | PASS | SKIPPED | SKIPPED | SKIPPED | SKIPPED | +---------------------+--------------------+-------------------+------------------+-------------------+-------------------------+----------------------+ | Fedora 40 (Clang) | PASS | PASS | SKIPPED | SKIPPED | SKIPPED | SKIPPED | +---------------------+--------------------+-------------------+------------------+-------------------+-------------------------+----------------------+ | Fedora 41 | PASS | PASS | PASS | SKIPPED | SKIPPED | SKIPPED | +---------------------+--------------------+-------------------+------------------+-------------------+-------------------------+----------------------+ | openSUSE Leap 15 | PASS | SKIPPED | SKIPPED | SKIPPED | SKIPPED | SKIPPED | +---------------------+--------------------+-------------------+------------------+-------------------+-------------------------+----------------------+ | Fedora 41 (Clang) | PASS | PASS | PASS | SKIPPED | SKIPPED | SKIPPED | +---------------------+--------------------+-------------------+------------------+-------------------+-------------------------+----------------------+ | RHEL8 | PASS | SKIPPED | SKIPPED | SKIPPED | SKIPPED | SKIPPED | +---------------------+--------------------+-------------------+------------------+-------------------+-------------------------+----------------------+ | Ubuntu 24.04 | PASS | PASS | PASS | SKIPPED | SKIPPED | SKIPPED | +---------------------+--------------------+-------------------+------------------+-------------------+-------------------------+----------------------+ | RHEL9 | PASS | SKIPPED | SKIPPED | SKIPPED | SKIPPED | SKIPPED | +---------------------+--------------------+-------------------+------------------+-------------------+-------------------------+----------------------+ | Alpine | PASS | SKIPPED | SKIPPED | SKIPPED | SKIPPED | SKIPPED | +---------------------+--------------------+-------------------+------------------+-------------------+-------------------------+----------------------+ | Ubuntu 20.04 | PASS | SKIPPED | SKIPPED | SKIPPED | SKIPPED | SKIPPED | +---------------------+--------------------+-------------------+------------------+-------------------+-------------------------+----------------------+ | Ubuntu 22.04 | PASS | PASS | SKIPPED | SKIPPED | SKIPPED | SKIPPED | +---------------------+--------------------+-------------------+------------------+-------------------+-------------------------+----------------------+ | FreeBSD 13.5 | PASS | SKIPPED | SKIPPED | SKIPPED | SKIPPED | SKIPPED | +---------------------+--------------------+-------------------+------------------+-------------------+-------------------------+----------------------+ | FreeBSD 14.2 | PASS | SKIPPED | SKIPPED | SKIPPED | SKIPPED | SKIPPED | +---------------------+--------------------+-------------------+------------------+-------------------+-------------------------+----------------------+ | Windows Server 2022 | SKIPPED | SKIPPED | SKIPPED | PASS | PASS | PASS | +---------------------+--------------------+-------------------+------------------+-------------------+-------------------------+----------------------+ CentOS Stream 9 Kernel: Depends on container host Compiler: gcc 11.5.0 20240719 (Red Hat 11.5.0-2) CentOS Stream 10 Kernel: Depends on container host Compiler: gcc 14.2.1 20241104 (Red Hat 14.2.1-6) Fedora 40 Kernel: Depends on container host Compiler: gcc 14.2.1 20240912 (Red Hat 14.2.1-3) Debian 12 Kernel: Depends on container host Compiler: gcc (Debian 12.2.0-14) 12.2.0 Fedora 40 (Clang) Kernel: Depends on container host Compiler: clang 18.1.8 (Fedora 18.1.8-1.fc40) Fedora 41 Kernel: Depends on container host Compiler: gcc 14.2.1 20240912 (Red Hat 14.2.1-3) openSUSE Leap 15 Kernel: Depends on container host Compiler: gcc (SUSE Linux) 7.5.0 Fedora 41 (Clang) Kernel: Depends on container host Compiler: clang 19.1.5 (Fedora 19.1.5-1.fc41) RHEL8 Kernel: Depends on container host Compiler: gcc 8.5.0 20210514 (Red Hat 8.5.0-22) Ubuntu 24.04 Kernel: Depends on container host Compiler: gcc (Ubuntu 13.3.0-6ubuntu2~24.04) 13.3.0 RHEL9 Kernel: Depends on container host Compiler: gcc 11.5.0 20240719 (Red Hat 11.5.0-2) Alpine Kernel: Depends on container host Compiler: gcc (Alpine 14.2.0) 14.2.0 Ubuntu 20.04 Kernel: 4.19.325-0419325-generic Compiler: gcc (Ubuntu 9.4.0-1ubuntu1~20.04.2) 9.4.0 Ubuntu 22.04 Kernel: Depends on container host Compiler: gcc (Ubuntu 11.4.0-1ubuntu1~22.04) 11.4.0 FreeBSD 13.5 Kernel: 13.5-RELEASE Compiler: clang 19.1.7 FreeBSD 14.2 Kernel: 14.2-RELEASE Compiler: clang 18.1.6 Windows Server 2022 Kernel: 10.0.20348.2031 Compiler: clang 15.0.7, gcc 14.1.0 (MinGW), and MSVC VS 19.39.33521 To view detailed results, visit: https://lab.dpdk.org/results/dashboard/tarballs/33403/ UNH-IOL DPDK Community Lab To manage your email subscriptions, visit: https://lab.dpdk.org/results/dashboard/preferences/subscriptions/