From mboxrd@z Thu Jan 1 00:00:00 1970 Return-Path: Received: from mails.dpdk.org (mails.dpdk.org [217.70.189.124]) by inbox.dpdk.org (Postfix) with ESMTP id 3805E46690 for ; Thu, 1 May 2025 10:48:09 +0200 (CEST) Received: from mails.dpdk.org (localhost [127.0.0.1]) by mails.dpdk.org (Postfix) with ESMTP id 051A9402C5; Thu, 1 May 2025 10:48:09 +0200 (CEST) Received: from mail-yw1-f225.google.com (mail-yw1-f225.google.com [209.85.128.225]) by mails.dpdk.org (Postfix) with ESMTP id 025A54028E for ; Thu, 1 May 2025 10:48:07 +0200 (CEST) Received: by mail-yw1-f225.google.com with SMTP id 00721157ae682-708a853c362so6793627b3.2 for ; Thu, 01 May 2025 01:48:07 -0700 (PDT) DKIM-Signature: v=1; a=rsa-sha256; c=relaxed/relaxed; d=iol.unh.edu; s=unh-iol; t=1746089287; x=1746694087; darn=dpdk.org; h=cc:to:from:subject:message-id:date:from:to:cc:subject:date :message-id:reply-to; bh=+tcrPevtMOas7oPSwZUlkfc/+vmC6yNqoGBrTNV+Pg4=; b=buO/KbyF1edGLlRkPK68OSzYOQ28p1a0Ulry7ldX8nibU8iNAsP5HdBOaN/IsB6eJJ WFsXih2x85tUnoLFQ5s1+ZZzKnN5OYu8wLloBCNc4UZLzmDJ/7YlT2DXimNmUaIdPrpa bMPLges0jESr+vYT2KbcJ+mUdCELImWcX0GAA= X-Google-DKIM-Signature: v=1; a=rsa-sha256; c=relaxed/relaxed; d=1e100.net; s=20230601; t=1746089287; x=1746694087; h=cc:to:from:subject:message-id:date:x-gm-message-state:from:to:cc :subject:date:message-id:reply-to; bh=+tcrPevtMOas7oPSwZUlkfc/+vmC6yNqoGBrTNV+Pg4=; b=qLPycUrM+eR+rBgbOnSXPOYBEay1Ozrw+7qV/nX4thSJ50ZbrPyNGW8HJ5t/kF0yiB GLmwne46gUQWZQ5K8QNEhpDFCOx9E5+X8MziNf7IWdDO04NeOkVutGqG8/rscxUSZBwi GgIddrHn1oCO2g8FDLcUrzzXKe8uWWoIRVMkbxTSabxGTOEyLtGnJWYcsHmhMLD4o1aw fh5KQ/7t5+g5d0tFNqmm09PN0l5I9X6zQOp4nk12T0ZQvkCLn0TBfNF4+zkQ9dB4K4IK rQolsapgyu1ufcwQdNawhKAbJuiMPJMlhVM+GAQ52ablaaeqrACeaWxsl6gi8eVAes/x CtEA== X-Gm-Message-State: AOJu0YwdYzGzVQx1yNsrp59yREn91fU96MWKYk58+kyypVYsicWMSPrX Yz8gPNg1nmXDXRdgDb/1jF+KmctFcNQJ7tMfUhVYHX0IGuYaGci8RntSfRxIXCwRzB7yKRN0+fB EtFGvDZ5Rr+189/zyn09b7s2gIIBrEhLp X-Gm-Gg: ASbGncseJLE4dDswVnWLdUk/5LmvvzLP1tb08gbMpoDmzLAmmkYSOURuG2E0FnLe0QB 42a7ESIxmvnxlWaZSqRa4hkaNXr1AYRgXe6r1yvhgObdDmYjzrLqzDfPt3IGl/G3dZzD21EV1wj dfWopJXUDoMYZ0c82R2ZZhtBUD7isnNXX1ZW45QZOZC8KQ8kZGP14/TcgrJ2Xaf5cFY5rkkZo9j BHtX0b6qj3MPqTrfOWi45A0yzF5vLbmzQp6BRApEXXAOpUUWNhNt79DU9J2lBSV3EqeXJeVFkEZ AEmO3lu0+MH2hJ0N1Mbb91hIWXDkwbL6tTyb X-Google-Smtp-Source: AGHT+IFP43ATXWCEuypM2Z7QkOIJ/1o5Azevq1qP7yUG3rz/nTCgj58xmj88eaQlh8QuBnPDIWjx8B42EI0K X-Received: by 2002:a05:690c:6a85:b0:6fe:b7ed:9715 with SMTP id 00721157ae682-708baa80fa7mr35098787b3.11.1746089287296; Thu, 01 May 2025 01:48:07 -0700 (PDT) Received: from postal.iol.unh.edu (postal.iol.unh.edu. [132.177.123.84]) by smtp-relay.gmail.com with ESMTPS id 00721157ae682-708c3f11a17sm883027b3.13.2025.05.01.01.48.07 (version=TLS1_2 cipher=ECDHE-ECDSA-AES128-GCM-SHA256 bits=128/128); Thu, 01 May 2025 01:48:07 -0700 (PDT) X-Relaying-Domain: iol.unh.edu Date: Thu, 01 May 2025 01:48:07 -0700 (PDT) Message-ID: <68133547.050a0220.2e6dc4.088cSMTPIN_ADDED_MISSING@mx.google.com> Received: from [172.17.0.2] (unknown [172.18.0.74]) by postal.iol.unh.edu (Postfix) with ESMTP id CDBEB6052471; Thu, 1 May 2025 04:48:06 -0400 (EDT) Subject: |SUCCESS| [GIT MASTER] 4401486b5e30d43a134f80f9802f60b5f43e74a8 From: dpdklab@iol.unh.edu To: Test Report Cc: dpdk-test-reports@iol.unh.edu, Xueming Li , Christian Ehrhardt , Kevin Traynor , Luca Boccassi Content-Type: text/plain X-BeenThere: test-report@dpdk.org X-Mailman-Version: 2.1.29 Precedence: list List-Id: automatic DPDK test reports List-Unsubscribe: , List-Archive: List-Post: List-Help: List-Subscribe: , Errors-To: test-report-bounces@dpdk.org _Testing PASS_ Branch: tags/v22.11 4401486b5e30d43a134f80f9802f60b5f43e74a8 --> testing pass Upstream job id: ACVP-FIPS-testing#9683 Test environment and result as below: +--------------------+----------------------+----------------------+ | Environment | compressdev_zlib_pmd | dpdk_fips_validation | +====================+======================+======================+ | Ubuntu 22.04 (ARM) | PASS | SKIPPED | +--------------------+----------------------+----------------------+ | Ubuntu 22.04 | PASS | SKIPPED | +--------------------+----------------------+----------------------+ | Ubuntu 20.04 | SKIPPED | PASS | +--------------------+----------------------+----------------------+ Ubuntu 22.04 (ARM) Kernel: 5.15.0-97-generic Compiler: gcc gcc (Ubuntu 11.4.0-1ubuntu1~22.04) 11.4.0 Ubuntu 22.04 Kernel: 5.15.0-100-generic Compiler: gcc gcc (Ubuntu 11.4.0-1ubuntu1~22.04) 11.4.0 Ubuntu 20.04 Kernel: Depends on container host Compiler: gcc (Ubuntu 9.4.0-1ubuntu1~20.04.2) 9.4.0 To view detailed results, visit: https://lab.dpdk.org/results/dashboard/tarballs/33404/ UNH-IOL DPDK Community Lab To manage your email subscriptions, visit: https://lab.dpdk.org/results/dashboard/preferences/subscriptions/