From mboxrd@z Thu Jan 1 00:00:00 1970 Return-Path: Received: from mails.dpdk.org (mails.dpdk.org [217.70.189.124]) by inbox.dpdk.org (Postfix) with ESMTP id BAFF046690 for ; Thu, 1 May 2025 11:07:00 +0200 (CEST) Received: from mails.dpdk.org (localhost [127.0.0.1]) by mails.dpdk.org (Postfix) with ESMTP id 7ED86402C5; Thu, 1 May 2025 11:07:00 +0200 (CEST) Received: from mail-pj1-f100.google.com (mail-pj1-f100.google.com [209.85.216.100]) by mails.dpdk.org (Postfix) with ESMTP id D87704028E for ; Thu, 1 May 2025 11:06:58 +0200 (CEST) Received: by mail-pj1-f100.google.com with SMTP id 98e67ed59e1d1-30384072398so622845a91.0 for ; Thu, 01 May 2025 02:06:58 -0700 (PDT) DKIM-Signature: v=1; a=rsa-sha256; c=relaxed/relaxed; d=iol.unh.edu; s=unh-iol; t=1746090418; x=1746695218; darn=dpdk.org; h=cc:to:from:subject:message-id:date:from:to:cc:subject:date :message-id:reply-to; bh=gT0bS5m97Nr34cXHkhgaFLzkUpPS7K+BUKKpXQ3dmC8=; b=Ktde41clalyBe3rnDwjCiTrf4n+cOdAM4/wpxyUkS6B37aLwU234726ZsuGJ36g9NQ 1z8jGT1i0cPYBEmQDMVNUPn+wKo2Ym5flCOGPxjTTV6BYj3s+u+LwpQfEtgbA23V6IlA +YBaDmdYUjgTyuDUMmpn2BpqwN/nicS2Ry1ag= X-Google-DKIM-Signature: v=1; a=rsa-sha256; c=relaxed/relaxed; d=1e100.net; s=20230601; t=1746090418; x=1746695218; h=cc:to:from:subject:message-id:date:x-gm-message-state:from:to:cc :subject:date:message-id:reply-to; bh=gT0bS5m97Nr34cXHkhgaFLzkUpPS7K+BUKKpXQ3dmC8=; b=LKrAwJLMhKx3tjSviUVIY8ebW04Cn3NffAeyclLkMZBhtDw8JlnkkKI62ei1xBK6t/ XdWCpDIm/QyhWdBlpLjILrsiZtgf3NKw4oEDsVCxFO6yijBR92vBo5HKhj57Xd1OSddN YqdgJEpsbm4Vm2hMBP1khNCCr0guUIwwkp4N1nBXNiyU7ibp3Wm1w2uND2my/Z0xHhG2 85+0BNlxXCfdVGoiC9ftmWaiWCY+dnNke05POyFJObYehS3HwisqRiJj5SozcTeSs49r azsa0sTo+XfQNeIQDXFR9CtXCkiqGmsLyHYTGYz0WS0n03TWEHRmmkGf3M816Uvkhdfe H48A== X-Gm-Message-State: AOJu0YzRxAkfroDeYy/fsUE+753oDhgsXv3Ie8mwTJCD1cSMbkyp4q+i jlXWpgJeqfFgnAceXu5wdMZS5jjV/lFBUmoe0AUHzdFTE7sMKwGIItIoTT+0AuPfubAyUza9mQD kHSPOlVXrhC0anQSKeQEKByyTGfEgiE/NHLMa5EKz+8qQGE4Z X-Gm-Gg: ASbGncvXRdBC0oJoX3PAp3tneknHsH74g67HQOWLTG0chiJ6H9op/9H9mPk/4vJmLY5 vw4mwVc5bjfVYSLszFK8XQ5/pyHPJ8pN4nwUtu5P7PK+7IaCwyM+QgGcNQaQKSAXGSf0kvpj9JU BEM/mXzK/PwILkhNmTDzLmgDrIbaJuLTaR4iip13N8xA0ixsljP2jIhnV/TkkVWcU8CfNS9dV/n GoADsmKJRBTv0PQrgzCecaj0dcrm/AIgT96hceTc3i/nnI6Br73MII1mU3IkysniBrWjNo2/nv9 Yri+vaTtTbhcZ4iZZrhNhImSkXoDys1bAQWXfhFNUWry0GyQ X-Google-Smtp-Source: AGHT+IGqMinPK8NKiFiSDAiok+qmrit6ISsKRwuL3gKu4dSr3RoyTqRWsjNhyiuiamosdMJJjDmkYC8KvZvY X-Received: by 2002:a17:90b:1cc8:b0:30a:fe:140f with SMTP id 98e67ed59e1d1-30a3335f481mr9885296a91.28.1746090417693; Thu, 01 May 2025 02:06:57 -0700 (PDT) Received: from postal.iol.unh.edu (postal.iol.unh.edu. [2606:4100:3880:1234::84]) by smtp-relay.gmail.com with ESMTPS id 98e67ed59e1d1-30a3474ecbasm439487a91.5.2025.05.01.02.06.57 (version=TLS1_2 cipher=ECDHE-ECDSA-AES128-GCM-SHA256 bits=128/128); Thu, 01 May 2025 02:06:57 -0700 (PDT) X-Relaying-Domain: iol.unh.edu Date: Thu, 01 May 2025 02:06:57 -0700 (PDT) Message-ID: <681339b1.170a0220.2fce24.96bcSMTPIN_ADDED_MISSING@mx.google.com> Received: from [172.17.0.2] (unknown [172.18.0.74]) by postal.iol.unh.edu (Postfix) with ESMTP id 1EE1D6052471; Thu, 1 May 2025 05:06:56 -0400 (EDT) Subject: |SUCCESS| [GIT MASTER] 83a7a648344674c0269fcaeb71d8d16468421a0e From: dpdklab@iol.unh.edu To: Test Report Cc: dpdk-test-reports@iol.unh.edu, Xueming Li , Christian Ehrhardt , Kevin Traynor , Luca Boccassi Content-Type: text/plain X-BeenThere: test-report@dpdk.org X-Mailman-Version: 2.1.29 Precedence: list List-Id: automatic DPDK test reports List-Unsubscribe: , List-Archive: List-Post: List-Help: List-Subscribe: , Errors-To: test-report-bounces@dpdk.org _Testing PASS_ Branch: tags/v23.11 83a7a648344674c0269fcaeb71d8d16468421a0e --> testing pass Upstream job id: Generic-DPDK-Compile-Meson#384249 Test environment and result as below: +------------------------------------+--------------------+ | Environment | dpdk_meson_compile | +====================================+====================+ | Ubuntu 20.04 ARM GCC Cross Compile | PASS | +------------------------------------+--------------------+ | RHEL9 (ARM) | PASS | +------------------------------------+--------------------+ | Ubuntu 20.04 ARM SVE | PASS | +------------------------------------+--------------------+ | Fedora 40 (ARM) | PASS | +------------------------------------+--------------------+ | Debian 12 with MUSDK | PASS | +------------------------------------+--------------------+ | Fedora 40 (ARM Clang) | PASS | +------------------------------------+--------------------+ | Ubuntu 20.04 (ARM) | PASS | +------------------------------------+--------------------+ | Ubuntu 22.04 (ARM) | PASS | +------------------------------------+--------------------+ | Fedora 41 (ARM Clang) | PASS | +------------------------------------+--------------------+ | Fedora 41 (ARM) | PASS | +------------------------------------+--------------------+ | Ubuntu 24.04 (ARM) | PASS | +------------------------------------+--------------------+ | CentOS Stream 9 (ARM) | PASS | +------------------------------------+--------------------+ | CentOS Stream 10 (ARM) | PASS | +------------------------------------+--------------------+ | Debian 12 (arm) | PASS | +------------------------------------+--------------------+ Ubuntu 20.04 ARM GCC Cross Compile Kernel: Depends on container host Compiler: aarch64-linux-gnu-gcc (Ubuntu 9.4.0-1ubuntu1~20.04.2) 9.4.0 RHEL9 (ARM) Kernel: Depends on container host Compiler: gcc 11.5.0 20240719 (Red Hat 11.5.0-2) Ubuntu 20.04 ARM SVE Kernel: Depends on container host Compiler: gcc (Ubuntu 10.5.0-1ubuntu1~20.04) 10.5.0 Fedora 40 (ARM) Kernel: Depends on container host Compiler: gcc 14.2.1 20240912 (Red Hat 14.2.1-3) Debian 12 with MUSDK Kernel: Depends on container host Compiler: gcc (Debian 12.2.0-14) 12.2.0 Fedora 40 (ARM Clang) Kernel: Depends on container host Compiler: clang 18.1.8 (Fedora 18.1.8-1.fc40) Ubuntu 20.04 (ARM) Kernel: Depends on container host Compiler: gcc (Ubuntu 9.4.0-1ubuntu1~20.04.2) 9.4.0 Ubuntu 22.04 (ARM) Kernel: Depends on container host Compiler: gcc (Ubuntu 11.4.0-1ubuntu1~22.04) 11.4.0 Fedora 41 (ARM Clang) Kernel: Depends on container host Compiler: clang 19.1.5 (Fedora 19.1.5-1.fc41) Fedora 41 (ARM) Kernel: Depends on container host Compiler: gcc 14.2.1 20240912 (Red Hat 14.2.1-3) Ubuntu 24.04 (ARM) Kernel: Depends on container host Compiler: gcc (Ubuntu 13.3.0-6ubuntu2~24.04) 13.3.0 CentOS Stream 9 (ARM) Kernel: Depends on container host Compiler: gcc 11.5.0 20240719 (Red Hat 11.5.0-2) CentOS Stream 10 (ARM) Kernel: Depends on container host Compiler: gcc 14.2.1 20241104 (Red Hat 14.2.1-6) Debian 12 (arm) Kernel: Depends on container host Compiler: gcc (Debian 12.2.0-14) 12.2.0 To view detailed results, visit: https://lab.dpdk.org/results/dashboard/tarballs/33403/ UNH-IOL DPDK Community Lab To manage your email subscriptions, visit: https://lab.dpdk.org/results/dashboard/preferences/subscriptions/