From mboxrd@z Thu Jan 1 00:00:00 1970 Return-Path: Received: from mails.dpdk.org (mails.dpdk.org [217.70.189.124]) by inbox.dpdk.org (Postfix) with ESMTP id C115C46690 for ; Thu, 1 May 2025 11:20:02 +0200 (CEST) Received: from mails.dpdk.org (localhost [127.0.0.1]) by mails.dpdk.org (Postfix) with ESMTP id 8BCAE402C5; Thu, 1 May 2025 11:20:02 +0200 (CEST) Received: from mail-pl1-f226.google.com (mail-pl1-f226.google.com [209.85.214.226]) by mails.dpdk.org (Postfix) with ESMTP id 84B394028E for ; Thu, 1 May 2025 11:20:00 +0200 (CEST) Received: by mail-pl1-f226.google.com with SMTP id d9443c01a7336-224171d6826so10867445ad.3 for ; Thu, 01 May 2025 02:20:00 -0700 (PDT) DKIM-Signature: v=1; a=rsa-sha256; c=relaxed/relaxed; d=iol.unh.edu; s=unh-iol; t=1746091199; x=1746695999; darn=dpdk.org; h=cc:to:from:subject:message-id:date:from:to:cc:subject:date :message-id:reply-to; bh=jAmrb7mXBqdgYtQFNjKobmJXoguW9MULFM1wy2E7Z8g=; b=LEcmjrIlrHpEnwfbxrfLoE8j65KazgGb1Rt8awEBJqhO/SKHpCcX/2Ht2G26+ZRskw 48VsESXNejMNbrHzR5mqKXQgEpWgdl2qiabNwIKom2QNrRLx0LXVGrML7QlEVghhQPZ2 EW4xXtia61raPMTVW3FOfDUMFbLpFQKd48whk= X-Google-DKIM-Signature: v=1; a=rsa-sha256; c=relaxed/relaxed; d=1e100.net; s=20230601; t=1746091199; x=1746695999; h=cc:to:from:subject:message-id:date:x-gm-message-state:from:to:cc :subject:date:message-id:reply-to; bh=jAmrb7mXBqdgYtQFNjKobmJXoguW9MULFM1wy2E7Z8g=; b=sjkLi8ClMd4T4KhXEOhv7aBED++u52c1zYWFQFZFbYaI/XQWfkytLOnhHADwOaI8Jf tqDxqv3Kx9fnaV/e7UXkQxfiPP0X9orFq98NzHkiLEsDEXdIFKvNdSU+mxqcyXxHcmNR RzXoEWXbcStZac1xAjM+Y3vrSQrbFiPCGBZz5pieeLaL/d6NAmFJx4OT7aOF2Vm46z/4 HihEQCiaZFcoGYfBv+Yb54lJCyEch6wEzXT/v0SOo55cLlrHyM35Tj3o5aVlAzG1WuNg EjjM91TpykojouHMaAFtEpZ2rl//Swk8wWbLpE3XYiMpoC471QnyRaQtX1SBcLZZGI5r C5Kw== X-Gm-Message-State: AOJu0YxtK0NAX14hkHl78Ro97CUdWagemK4Djg1LSC5yH0FnwFlrxKGd WawQI6OGPsKkxn0VDEL58el8aZC2H0JuMmup1DSmf7cRhivi4DpzpDKUsK0A+B1VsTySg9hfAyw 7JwUeIcDPDh2gexb6dLSWYbVtlYHb359K X-Gm-Gg: ASbGncskQIPvGpqBM+SDpBRa+ctQ1tf7B8dSSNofjuPnYEjKVR2vzjj1ttbCf7WEc+Q HOonSLbT2sQWzoqbfn1A+l20QeW+Cu2A3vBD+aOyG5HA8ByzdWNzoAqaVJRcz1EcniYs2Hk2KzS cA/xPQfOMXsshPqWdPjuWOfsf6XLrjtqQHi1krH7YOUrSXwiCB065F6CpzqPaftjzMu61W8jx8G qXjc3Ex6cuFYtsQI+6MjP2zhyDAPXRgnVgJiMNcvTBk3vkq+/CdzG/ryVElQj/7Kp6PlUVyGFV0 p5dhRb/gYtjl6xmBH646hxkgjeZrtiswvljA X-Google-Smtp-Source: AGHT+IGI8wEhrw3Q4Agv1e4YM6f6UxQM3qBBhw1bBPMmwc44TfSIBLXpdVabI6m+fPeDrLGBl08sKSs/A53f X-Received: by 2002:a17:903:2306:b0:220:e023:8fa6 with SMTP id d9443c01a7336-22df583869amr82328325ad.50.1746091199381; Thu, 01 May 2025 02:19:59 -0700 (PDT) Received: from postal.iol.unh.edu (postal.iol.unh.edu. [132.177.123.84]) by smtp-relay.gmail.com with ESMTPS id d9443c01a7336-22e0be748d8sm839505ad.115.2025.05.01.02.19.59 (version=TLS1_2 cipher=ECDHE-ECDSA-AES128-GCM-SHA256 bits=128/128); Thu, 01 May 2025 02:19:59 -0700 (PDT) X-Relaying-Domain: iol.unh.edu Date: Thu, 01 May 2025 02:19:59 -0700 (PDT) Message-ID: <68133cbf.170a0220.1532cf.0893SMTPIN_ADDED_MISSING@mx.google.com> Received: from [172.17.0.2] (unknown [172.18.0.74]) by postal.iol.unh.edu (Postfix) with ESMTP id 02A976052471; Thu, 1 May 2025 05:19:57 -0400 (EDT) Subject: |SUCCESS| [GIT MASTER] 83a7a648344674c0269fcaeb71d8d16468421a0e From: dpdklab@iol.unh.edu To: Test Report Cc: dpdk-test-reports@iol.unh.edu, Xueming Li , Christian Ehrhardt , Kevin Traynor , Luca Boccassi Content-Type: text/plain X-BeenThere: test-report@dpdk.org X-Mailman-Version: 2.1.29 Precedence: list List-Id: automatic DPDK test reports List-Unsubscribe: , List-Archive: List-Post: List-Help: List-Subscribe: , Errors-To: test-report-bounces@dpdk.org _Testing PASS_ Branch: tags/v23.11 83a7a648344674c0269fcaeb71d8d16468421a0e --> testing pass Upstream job id: ACVP-FIPS-testing#9684 Test environment and result as below: +--------------------+----------------------+----------------------+ | Environment | compressdev_zlib_pmd | dpdk_fips_validation | +====================+======================+======================+ | Ubuntu 22.04 (ARM) | PASS | SKIPPED | +--------------------+----------------------+----------------------+ | Ubuntu 22.04 | PASS | SKIPPED | +--------------------+----------------------+----------------------+ | Ubuntu 20.04 | SKIPPED | PASS | +--------------------+----------------------+----------------------+ Ubuntu 22.04 (ARM) Kernel: 5.15.0-97-generic Compiler: gcc gcc (Ubuntu 11.4.0-1ubuntu1~22.04) 11.4.0 Ubuntu 22.04 Kernel: 5.15.0-100-generic Compiler: gcc gcc (Ubuntu 11.4.0-1ubuntu1~22.04) 11.4.0 Ubuntu 20.04 Kernel: Depends on container host Compiler: gcc (Ubuntu 9.4.0-1ubuntu1~20.04.2) 9.4.0 To view detailed results, visit: https://lab.dpdk.org/results/dashboard/tarballs/33403/ UNH-IOL DPDK Community Lab To manage your email subscriptions, visit: https://lab.dpdk.org/results/dashboard/preferences/subscriptions/